BEGIN:VCALENDAR
VERSION:2.0
PRODID:-//KTNA 88.9 FM - ECPv6.15.20//NONSGML v1.0//EN
CALSCALE:GREGORIAN
METHOD:PUBLISH
X-ORIGINAL-URL:https://ktna.org
X-WR-CALDESC:Events for KTNA 88.9 FM
REFRESH-INTERVAL;VALUE=DURATION:PT1H
X-Robots-Tag:noindex
X-PUBLISHED-TTL:PT1H
BEGIN:VTIMEZONE
TZID:America/Anchorage
BEGIN:DAYLIGHT
TZOFFSETFROM:-0900
TZOFFSETTO:-0800
TZNAME:AKDT
DTSTART:20250309T110000
END:DAYLIGHT
BEGIN:STANDARD
TZOFFSETFROM:-0800
TZOFFSETTO:-0900
TZNAME:AKST
DTSTART:20251102T100000
END:STANDARD
BEGIN:DAYLIGHT
TZOFFSETFROM:-0900
TZOFFSETTO:-0800
TZNAME:AKDT
DTSTART:20260308T110000
END:DAYLIGHT
BEGIN:STANDARD
TZOFFSETFROM:-0800
TZOFFSETTO:-0900
TZNAME:AKST
DTSTART:20261101T100000
END:STANDARD
BEGIN:DAYLIGHT
TZOFFSETFROM:-0900
TZOFFSETTO:-0800
TZNAME:AKDT
DTSTART:20270314T110000
END:DAYLIGHT
BEGIN:STANDARD
TZOFFSETFROM:-0800
TZOFFSETTO:-0900
TZNAME:AKST
DTSTART:20271107T100000
END:STANDARD
END:VTIMEZONE
BEGIN:VEVENT
DTSTART;TZID=America/Anchorage:20260422T140000
DTEND;TZID=America/Anchorage:20260422T190000
DTSTAMP:20260419T171317
CREATED:20260302T213735Z
LAST-MODIFIED:20260302T213735Z
UID:10005974-1776866400-1776884400@ktna.org
SUMMARY:Mat-Su College 2026 Spring Open House
DESCRIPTION:Mat-Su College hosts their 2026 Spring Open House on Wednesday\, April 22nd. The event will be held on campus from 2 to 7pm. Whether you’re a high school student or looking to level up your career\, all are welcome to explore the campus\, meet some faculty and experience the atmosphere at Mat-Su College. Learn more at matsu.alaska.edu.
URL:https://ktna.org/events/mat-su-college-2026-spring-open-house/
LOCATION:Mat-Su College
CATEGORIES:Calendar
END:VEVENT
BEGIN:VEVENT
DTSTART;TZID=America/Anchorage:20260422T151000
DTEND;TZID=America/Anchorage:20260422T163000
DTSTAMP:20260419T171317
CREATED:20251003T192516Z
LAST-MODIFIED:20260115T212033Z
UID:10004776-1776870600-1776875400@ktna.org
SUMMARY:Willow Library Mentoring Program
DESCRIPTION:The Willow Public Library’s Mentoring Program meets every Wednesday from 3:10 to 4:30pm\, when Willow Elementary School is in session. This program is for Kindergartners through 5th graders. You may call the Willow Library at 907-861-7655 with questions.
URL:https://ktna.org/events/willow-library-mentoring-program/2026-04-22/
LOCATION:Willow Public Library
CATEGORIES:Calendar
END:VEVENT
BEGIN:VEVENT
DTSTART;TZID=America/Anchorage:20260422T151500
DTEND;TZID=America/Anchorage:20260422T161500
DTSTAMP:20260419T171317
CREATED:20260225T220438Z
LAST-MODIFIED:20260310T193919Z
UID:10005966-1776870900-1776874500@ktna.org
SUMMARY:Radio Journalism Afterschool Club
DESCRIPTION:KTNA and Su Valley High School are collaborating to start a Radio Journalism Afterschool Club for the remainder of the school year.    This Club is open to all Su Valley students\, from middle to high school level.  The Club will meet every Wednesday from 3:15-4:15pm at Su Valley High School beginning March 4th.   If you are a student or parent and would like to learn more or become involved\, please reach out to Teacher Cory O’Dell or School Librarian Tracy Steere.
URL:https://ktna.org/events/112386/2026-04-22/
LOCATION:Su Valley Jr/Sr High School
CATEGORIES:Calendar
ORGANIZER;CN="KTNA":MAILTO:info@ktna.org
END:VEVENT
BEGIN:VEVENT
DTSTART;TZID=America/Anchorage:20260422T170000
DTEND;TZID=America/Anchorage:20260422T200000
DTSTAMP:20260419T171317
CREATED:20260330T185502Z
LAST-MODIFIED:20260330T185502Z
UID:10008536-1776877200-1776888000@ktna.org
SUMMARY:Competitive Pickle Ball - Community Enrichment – Talkeetna Elementary PTA
DESCRIPTION:Talkeetna Elementary PTA hosts Competitive Pickleball for knowledgeable players seeking competitive bouts from 5 to 8 pm on Wednesdays. Attendees will rotate through games of four players at a time\, equipment is available if you do not have your own. Wednesday evening pickleball is held at Talkeetna Elementary School’s gym\, play will move outside to the hockey rink when weather and temperatures permit. For more information visit their Facebook Page or email REBECCA.HRDY@matsuk12.us.
URL:https://ktna.org/events/competitive-pickle-ball-community-enrichment-talkeetna-elementary-pta/2026-04-22/
LOCATION:Talkeetna Elementary School
CATEGORIES:Calendar
ORGANIZER;CN="Talkeetna Elementary PTA":MAILTO:pta.talkeetna@gmail.com
END:VEVENT
END:VCALENDAR