BEGIN:VCALENDAR
VERSION:2.0
PRODID:-//KTNA 88.9 FM - ECPv6.15.20//NONSGML v1.0//EN
CALSCALE:GREGORIAN
METHOD:PUBLISH
X-WR-CALNAME:KTNA 88.9 FM
X-ORIGINAL-URL:https://ktna.org
X-WR-CALDESC:Events for KTNA 88.9 FM
REFRESH-INTERVAL;VALUE=DURATION:PT1H
X-Robots-Tag:noindex
X-PUBLISHED-TTL:PT1H
BEGIN:VTIMEZONE
TZID:America/Anchorage
BEGIN:DAYLIGHT
TZOFFSETFROM:-0900
TZOFFSETTO:-0800
TZNAME:AKDT
DTSTART:20250309T110000
END:DAYLIGHT
BEGIN:STANDARD
TZOFFSETFROM:-0800
TZOFFSETTO:-0900
TZNAME:AKST
DTSTART:20251102T100000
END:STANDARD
BEGIN:DAYLIGHT
TZOFFSETFROM:-0900
TZOFFSETTO:-0800
TZNAME:AKDT
DTSTART:20260308T110000
END:DAYLIGHT
BEGIN:STANDARD
TZOFFSETFROM:-0800
TZOFFSETTO:-0900
TZNAME:AKST
DTSTART:20261101T100000
END:STANDARD
BEGIN:DAYLIGHT
TZOFFSETFROM:-0900
TZOFFSETTO:-0800
TZNAME:AKDT
DTSTART:20270314T110000
END:DAYLIGHT
BEGIN:STANDARD
TZOFFSETFROM:-0800
TZOFFSETTO:-0900
TZNAME:AKST
DTSTART:20271107T100000
END:STANDARD
END:VTIMEZONE
BEGIN:VEVENT
DTSTART;TZID=America/Anchorage:20260122T183000
DTEND;TZID=America/Anchorage:20260122T183000
DTSTAMP:20260423T144146
CREATED:20260116T021516Z
LAST-MODIFIED:20260121T223717Z
UID:10005860-1769106600-1769106600@ktna.org
SUMMARY:Trapper Creek Community Council Meeting
DESCRIPTION:The Trapper Creek Community Council is meeting Thursday\, January 22nd at 6:30 pm.
URL:https://ktna.org/events/110633/
LOCATION:Trapper Creek Community Center
CATEGORIES:Announcements,Calendar
END:VEVENT
BEGIN:VEVENT
DTSTART;TZID=America/Anchorage:20260122T163000
DTEND;TZID=America/Anchorage:20260122T173000
DTSTAMP:20260423T144146
CREATED:20260114T005454Z
LAST-MODIFIED:20260121T225622Z
UID:10005856-1769099400-1769103000@ktna.org
SUMMARY:Talkeetna Recycling Committee Meeting
DESCRIPTION:The Recycling Committee meeting has been rescheduled for Thursday\, January 22nd at 4:30pm via zoom. Contact Cici at 907-355-8324 for details.
URL:https://ktna.org/events/talkeetna-recycling-committee-meeting-6/
CATEGORIES:Announcements,Calendar
END:VEVENT
BEGIN:VEVENT
DTSTART;TZID=America/Anchorage:20260121T190000
DTEND;TZID=America/Anchorage:20260121T190000
DTSTAMP:20260423T144146
CREATED:20260120T202058Z
LAST-MODIFIED:20260120T202058Z
UID:10005869-1769022000-1769022000@ktna.org
SUMMARY:Rich Crain Classic volunteer meeting - Multi Users of Talkeetna Trails
DESCRIPTION:Multi Users of Talkeetna Trails (MUTT) hosts a volunteer meeting for the 3rd annual Rich Crain Classic on Wednesday\, January 21st at the Latitude 62 at 7pm. They are looking for volunteers to help with grooming trails\, registration\, tending a campfire and timing events. If you can’t make it to the meeting\, you can contact info@talkeetnamutt.org to inquire about volunteering.
URL:https://ktna.org/events/rich-crain-classic-volunteer-meeting-multi-users-of-talkeetna-trails/
LOCATION:Latitude 62
CATEGORIES:Announcements,Calendar
END:VEVENT
BEGIN:VEVENT
DTSTART;TZID=America/Anchorage:20260121T180000
DTEND;TZID=America/Anchorage:20260121T180000
DTSTAMP:20260423T144146
CREATED:20260116T195652Z
LAST-MODIFIED:20260116T195652Z
UID:10005864-1769018400-1769018400@ktna.org
SUMMARY:Chase Community Council annual election meeting
DESCRIPTION:The annual election meeting of the Chase Community Council is Wednesday\, January 21st at 6PM at the Latitude 62 Lodge.
URL:https://ktna.org/events/chase-community-council-annual-election-meeting-2/
LOCATION:Latitude 62
CATEGORIES:Announcements,Calendar
END:VEVENT
BEGIN:VEVENT
DTSTART;TZID=America/Anchorage:20260119T183000
DTEND;TZID=America/Anchorage:20260119T183000
DTSTAMP:20260423T144146
CREATED:20260116T224136Z
LAST-MODIFIED:20260116T224136Z
UID:10005867-1768847400-1768847400@ktna.org
SUMMARY:Talkeetna Parks Advisory Committee Meeting
DESCRIPTION:The Talkeetna Parks Advisory Committee (TPAC) is meeting Monday\, January 19th at 6:30pm at the Talkeetna Public Library. All are welcome. The meeting will be also available via Zoom. Please contact Karl Swanson with any questions at 907-733-7547 or email\, tpac@talkeetnacouncil.org.
URL:https://ktna.org/events/talkeetna-parks-advisory-committee-meeting-7/
LOCATION:Talkeetna Public Library\, Talkeetna
CATEGORIES:Announcements,Calendar
END:VEVENT
BEGIN:VEVENT
DTSTART;TZID=America/Anchorage:20260119T163000
DTEND;TZID=America/Anchorage:20260119T180000
DTSTAMP:20260423T144146
CREATED:20250124T011257Z
LAST-MODIFIED:20260113T202659Z
UID:10003833-1768840200-1768845600@ktna.org
SUMMARY:KTNA Board of Directors Meeting
DESCRIPTION:The KTNA’s Board of Directors meets the third Monday of the month at 4:30pm at the station on 2nd Street in Talkeetna. All are welcome. For more information\, call 907-733-1700 or email manager@ktna.org.
URL:https://ktna.org/events/ktna-board-of-directors-meeting-5-2025-04-21-2026-01-19/
LOCATION:KTNA\, 13764 E. Second Street\, Talkeetna\, 99676\, United States
CATEGORIES:Announcements,Calendar
ORGANIZER;CN="KTNA":MAILTO:info@ktna.org
END:VEVENT
BEGIN:VEVENT
DTSTART;TZID=America/Anchorage:20260119T151500
DTEND;TZID=America/Anchorage:20260119T171500
DTSTAMP:20260423T144146
CREATED:20251217T205723Z
LAST-MODIFIED:20260119T205505Z
UID:10005801-1768835700-1768842900@ktna.org
SUMMARY:The Sizzle & Stir Club - Talkeetna Public Library
DESCRIPTION:The Talkeetna Public Library is open today. However\, Sizzle and Stir Club is canceled. For more information and to register\, please call the library at 907-861-7645.
URL:https://ktna.org/events/the-sizzle-stir-club-talkeetna-public-library-2026-01-19/
LOCATION:Talkeetna Public Library\, Talkeetna
CATEGORIES:Announcements,Calendar
END:VEVENT
BEGIN:VEVENT
DTSTART;TZID=America/Anchorage:20260117T170000
DTEND;TZID=America/Anchorage:20260117T190000
DTSTAMP:20260423T144146
CREATED:20260105T202254Z
LAST-MODIFIED:20260113T203945Z
UID:10004988-1768669200-1768676400@ktna.org
SUMMARY:Tween Page to Screen - Talkeetna Library
DESCRIPTION:Talkeetna Library hosts the Tween Page to Screen program on Saturday\, January 17th from 5 to 7pm. They will be watching the movie adaptation of Holes\, by Louis Sachar.
URL:https://ktna.org/events/tween-page-to-screen-talkeetna-library/
LOCATION:Talkeetna Public Library\, Talkeetna
CATEGORIES:Announcements,Calendar
END:VEVENT
BEGIN:VEVENT
DTSTART;TZID=America/Anchorage:20260117T140000
DTEND;TZID=America/Anchorage:20260117T140000
DTSTAMP:20260423T144146
CREATED:20260113T203512Z
LAST-MODIFIED:20260113T203550Z
UID:10005854-1768658400-1768658400@ktna.org
SUMMARY:Artificial Intelligence Class - Talkeetna Public Library
DESCRIPTION:Talkeetna Library hosts a class about Artificial Intelligence on Saturday\, January 17th at 2pm. You can learn about what it is and how it helps. Topics covered with be learning to use virtual assistants like Siri\, navigate with GPS\, get recommendations for shopping\, and how to recognize scams. This program is open to all ages\, all are welcome.
URL:https://ktna.org/events/artificial-intelligence-class-talkeetna-public-library/
LOCATION:Talkeetna Public Library\, Talkeetna
CATEGORIES:Announcements,Calendar
END:VEVENT
BEGIN:VEVENT
DTSTART;TZID=America/Anchorage:20260116T110000
DTEND;TZID=America/Anchorage:20260116T110000
DTSTAMP:20260423T144146
CREATED:20260116T195854Z
LAST-MODIFIED:20260116T195854Z
UID:10005865-1768561200-1768561200@ktna.org
SUMMARY:Parks Highway Shutdown - North
DESCRIPTION:Notice to travelers heading north – as of 11am Friday\, the Parks Highway is shutdown near H&H and Jana’s Jumpin Java.
URL:https://ktna.org/events/parks-highway-shutdown-north/
CATEGORIES:Announcements,Calendar
END:VEVENT
BEGIN:VEVENT
DTSTART;TZID=America/Anchorage:20260116T080000
DTEND;TZID=America/Anchorage:20260116T170000
DTSTAMP:20260423T144146
CREATED:20260116T194325Z
LAST-MODIFIED:20260116T210903Z
UID:10005862-1768550400-1768582800@ktna.org
SUMMARY:Today's Closures
DESCRIPTION:Both locations of Sunshine Community Health Center are closed today (Friday) due to the weather. This includes Talkeetna and Willow clinics. They remind you to call 911 for emergencies.\nDue to icy roads and bad weather conditions\, the Upper Susitna Food Pantry is closed today\, Friday January 16th.\nBingo at the Upper Susitna Community and Senior Center scheduled for today is canceled.\nThe Trapper Creek Post Office not receiving mail today.
URL:https://ktna.org/events/clinic-closures/
CATEGORIES:Announcements,Calendar
END:VEVENT
BEGIN:VEVENT
DTSTART;TZID=America/Anchorage:20260116T000000
DTEND;TZID=America/Anchorage:20260116T000000
DTSTAMP:20260423T144146
CREATED:20260116T201410Z
LAST-MODIFIED:20260116T201410Z
UID:10005866-1768521600-1768521600@ktna.org
SUMMARY:Sunshine Transit Closed Today
DESCRIPTION:Sunshine Transit is closed today (Friday) due to icy road conditions.
URL:https://ktna.org/events/sunshine-transit-closed-today/
CATEGORIES:Announcements,Calendar
END:VEVENT
BEGIN:VEVENT
DTSTART;TZID=America/Anchorage:20260115T183000
DTEND;TZID=America/Anchorage:20260115T183000
DTSTAMP:20260423T144146
CREATED:20250417T001910Z
LAST-MODIFIED:20260116T022110Z
UID:10004972-1768501800-1768501800@ktna.org
SUMMARY:canceled - Trapper Creek Community Council Meeting
DESCRIPTION:The Trapper Creek Community Council meets the 3rd Thursday of every month at 6:30pm at the Trapper Community Center. All are welcome to attend.
URL:https://ktna.org/events/trapper-creek-community-council-meeting-2026-01-15/
LOCATION:Trapper Creek Community Center
CATEGORIES:Announcements,Calendar
END:VEVENT
BEGIN:VEVENT
DTSTART;TZID=America/Anchorage:20260115T173000
DTEND;TZID=America/Anchorage:20260115T173000
DTSTAMP:20260423T144146
CREATED:20260109T021034Z
LAST-MODIFIED:20260109T021322Z
UID:10004998-1768498200-1768498200@ktna.org
SUMMARY:Community Choir - Denali Arts Council
DESCRIPTION:Denali Arts Council’s Music Academy will again be offering a weekly community choir rehearsal this year at the Sheldon Community Arts Hangar. The choir will perform at the annual Mother’s Day Concert. All voices are welcome. Commitment to rehearsals should be a priority. You may email Sandy\, tkb@alaska.net\, with any questions. Thursday\, January 15th at 5:30pm will be the first rehearsal.
URL:https://ktna.org/events/110477/
LOCATION:Sheldon Community Arts Hangar
CATEGORIES:Announcements,Calendar
ORGANIZER;CN="Denali Arts Council":MAILTO:https://denaliartscouncil.org/contact-us/
END:VEVENT
BEGIN:VEVENT
DTSTART;TZID=America/Anchorage:20260115T111500
DTEND;TZID=America/Anchorage:20260115T111500
DTSTAMP:20260423T144146
CREATED:20250811T202202Z
LAST-MODIFIED:20260112T204045Z
UID:10005605-1768475700-1768475700@ktna.org
SUMMARY:Storytime - Talkeetna Public Library
DESCRIPTION:Talkeetna Public Library hosts Storytime at 11:15am on Thursdays with a snack\, stories and a craft. This week is Science Thursday and attendees will be learning all about buoyancy. All are welcome. For more information\, you may call Talkeetna Library at 907-861-7645.
URL:https://ktna.org/events/storytime-talkeetna-public-library-3-2025-08-21-2026-01-15/
LOCATION:Talkeetna Public Library\, Talkeetna
CATEGORIES:Announcements,Calendar
END:VEVENT
BEGIN:VEVENT
DTSTART;TZID=America/Anchorage:20260114T190000
DTEND;TZID=America/Anchorage:20260114T190000
DTSTAMP:20260423T144146
CREATED:20260109T234404Z
LAST-MODIFIED:20260109T234434Z
UID:10005836-1768417200-1768417200@ktna.org
SUMMARY:B Movie Bingo - Denali Arts Council
DESCRIPTION:Denali Arts Council hosts B Movie Bingo Night on Wednesday\, January 14th\, at the Sheldon Community Arts Hangar. Watch a B rated movie\, and win some B rated prizes! This event is geared towards adults. Doors open at 6:30\, movie begins at 7pm.
URL:https://ktna.org/events/b-movie-bingo/
LOCATION:Sheldon Community Arts Hangar
CATEGORIES:Announcements,Calendar
ORGANIZER;CN="Denali Arts Council":MAILTO:https://denaliartscouncil.org/contact-us/
END:VEVENT
BEGIN:VEVENT
DTSTART;TZID=America/Anchorage:20260114T093000
DTEND;TZID=America/Anchorage:20260114T093000
DTSTAMP:20260423T144146
CREATED:20260112T204646Z
LAST-MODIFIED:20260113T204717Z
UID:10005837-1768383000-1768383000@ktna.org
SUMMARY:Breakfast Book Club - Talkeetna Public Library
DESCRIPTION:Talkeetna Public Library hosts Breakfast Book Club on Wednesday\, January 14th at 9:30am. This month they are discussing the book\, Sea of Tranquility by Emily St. John Mendel. Light breakfast foods\, coffee\, and tea will be available. All we welcome to attend\, there is an option to join via Zoom. Next month’s selection is What the Fireflies Knew by Kai Harris. For more information you may call the library at (907)861-7645.
URL:https://ktna.org/events/breakfast-book-club-talkeetna-public-library-5/
LOCATION:Talkeetna Public Library\, Talkeetna
CATEGORIES:Announcements,Calendar
END:VEVENT
BEGIN:VEVENT
DTSTART;TZID=America/Anchorage:20260113T180000
DTEND;TZID=America/Anchorage:20260113T200000
DTSTAMP:20260423T144146
CREATED:20260106T201744Z
LAST-MODIFIED:20260106T201744Z
UID:10004992-1768327200-1768334400@ktna.org
SUMMARY:Community Conversation Pedestrian Main St. - Talkeetna Chamber
DESCRIPTION:Talkeetna Chamber of Commerce and Talkeetna Community Council host a community conversation on the subject of a pedestrian only Main Street in downtown Talkeetna. All are invited to attend on Tuesday\, January 13th from 6 to 8pm at the Sheldon Community Arts Hangar.
URL:https://ktna.org/events/community-conversation-pedestrian-main-st-talkeetna-chamber/
LOCATION:Sheldon Community Arts Hangar
CATEGORIES:Announcements,Calendar
END:VEVENT
BEGIN:VEVENT
DTSTART;TZID=America/Anchorage:20260113T151500
DTEND;TZID=America/Anchorage:20260113T151500
DTSTAMP:20260423T144146
CREATED:20251217T221227Z
LAST-MODIFIED:20260112T213747Z
UID:10005803-1768317300-1768317300@ktna.org
SUMMARY:Reading Mentors - Talkeetna Public Library
DESCRIPTION:Talkeetna Public Library’s Reading Mentors program is on Tuesdays at 3:15pm. This program is for 1st through 3rd graders and is designed to help new readers get experience and confidence in reading out loud. Transportation from Talkeetna Elementary School to the library will be provided by Sunshine Transit. If you have any questions\, or you would like to volunteer as a reading mentor\, you may call the library at 907-861-7645.
URL:https://ktna.org/events/reading-mentors-talkeetna-public-library-2/
LOCATION:Talkeetna Public Library\, Talkeetna
CATEGORIES:Announcements,Calendar
END:VEVENT
BEGIN:VEVENT
DTSTART;TZID=America/Anchorage:20260112T163000
DTEND;TZID=America/Anchorage:20260112T173000
DTSTAMP:20260423T144146
CREATED:20260112T205421Z
LAST-MODIFIED:20260112T205421Z
UID:10005853-1768235400-1768239000@ktna.org
SUMMARY:Toddler Gym
DESCRIPTION:There is Toddler Gym today at the Talkeetna Elementary School from 4:30-5:30pm. A parent or responsible adult must attend with the child and complete a liability release form.
URL:https://ktna.org/events/toddler-gym/
LOCATION:Talkeetna Elementary School
CATEGORIES:Announcements,Calendar
END:VEVENT
BEGIN:VEVENT
DTSTART;TZID=America/Anchorage:20260111T100000
DTEND;TZID=America/Anchorage:20260111T150000
DTSTAMP:20260423T144146
CREATED:20251229T175314Z
LAST-MODIFIED:20260106T203410Z
UID:10005818-1768125600-1768143600@ktna.org
SUMMARY:Circus Sunday - Green Light Circus & Denali Arts Council
DESCRIPTION:Denali Arts Council and Green Light Circus present: a Circus Sunday! The first of 5 scheduled monthly workshops between January and May\, will be Sunday\, January 11th. The day will feature aerial silks workshops followed by open juggling at the Sheldon Community Arts Hangar. Three workshops are scheduled between 10am and 3pm\, space is limited in the aerial workshops and pre-registration is recommended. Find more information at denaliartscouncil.org. \n10:00-11:15am – Beginner Silks Workshop \n11:30am-12:45pm – Intermediate/Advanced Silks Workshop \n1:00-3:00pm – Open Juggling
URL:https://ktna.org/events/110177/
LOCATION:Sheldon Community Arts Hangar
CATEGORIES:Announcements,Calendar
ORGANIZER;CN="Denali Arts Council":MAILTO:https://denaliartscouncil.org/contact-us/
END:VEVENT
BEGIN:VEVENT
DTSTART;TZID=America/Anchorage:20260109T130000
DTEND;TZID=America/Anchorage:20260109T140000
DTSTAMP:20260423T144146
CREATED:20260210T205745Z
LAST-MODIFIED:20260210T205745Z
UID:10005916-1767963600-1767967200@ktna.org
SUMMARY:Friends of the Talkeetna Library meeting
DESCRIPTION:The Friends of the Talkeetna Library meet on Friday\, February 13th from 1 to 2pm\, at the Talkeetna Library. All are welcome.
URL:https://ktna.org/events/friends-of-the-talkeetna-library-meeting-12/
LOCATION:Talkeetna Public Library\, Talkeetna
CATEGORIES:Announcements,Calendar
END:VEVENT
BEGIN:VEVENT
DTSTART;TZID=America/Anchorage:20260109T130000
DTEND;TZID=America/Anchorage:20260109T130000
DTSTAMP:20260423T144146
CREATED:20260105T202029Z
LAST-MODIFIED:20260105T202029Z
UID:10004986-1767963600-1767963600@ktna.org
SUMMARY:Friends of the Talkeetna Library meeting
DESCRIPTION:The Friends of the Talkeetna Library meet on Friday\, January 9th at 1pm\, at the Talkeetna Library. All are welcome.
URL:https://ktna.org/events/friends-of-the-talkeetna-library-meeting-11/
LOCATION:Talkeetna Public Library\, Talkeetna
CATEGORIES:Announcements,Calendar
END:VEVENT
BEGIN:VEVENT
DTSTART;TZID=America/Anchorage:20260107T190000
DTEND;TZID=America/Anchorage:20260107T190000
DTSTAMP:20260423T144146
CREATED:20250929T195421Z
LAST-MODIFIED:20251230T202414Z
UID:10005686-1767812400-1767812400@ktna.org
SUMMARY:WACO Monthly Meeting
DESCRIPTION:The Willow Area Community Organization’s (WACO) monthly meetings are held at 7pm on the first Wednesday of every month at the Willow Community Center. More information at waco-ak.org
URL:https://ktna.org/events/waco-monthly-meeting-2026-01-07/
LOCATION:Willow Community Center
CATEGORIES:Announcements,Calendar
ORGANIZER;CN="Willow Area Community Organization":MAILTO:admin@waco-ak.org
END:VEVENT
BEGIN:VEVENT
DTSTART;TZID=America/Anchorage:20260107T180000
DTEND;TZID=America/Anchorage:20260107T180000
DTSTAMP:20260423T144146
CREATED:20260101T012322Z
LAST-MODIFIED:20260101T012322Z
UID:10004978-1767808800-1767808800@ktna.org
SUMMARY:Talkeetna Skatepark Committee meeting
DESCRIPTION:The Talkeetna Skatepark Committee is meeting on Wednesday\, January 7th at 6PM at the Talkeetna Library. All are welcome to attend.
URL:https://ktna.org/events/talkeetna-skatepark-committee-meeting-13/
LOCATION:Talkeetna Public Library\, Talkeetna
CATEGORIES:Announcements,Calendar
END:VEVENT
BEGIN:VEVENT
DTSTART;TZID=America/Anchorage:20260106T130000
DTEND;TZID=America/Anchorage:20260106T160000
DTSTAMP:20260423T144146
CREATED:20251112T205837Z
LAST-MODIFIED:20260105T201619Z
UID:10005755-1767704400-1767715200@ktna.org
SUMMARY:Winter Plein Air Painting class - Denali Arts Council
DESCRIPTION:Watercolorist\, Miles Bloomfield\, is instructing a series of Winter Plein Air Painting classes. Classes are from 1 to 4pm at the Sheldon Community Arts Hangar each Tuesday in the month of January. This is an outdoor painting class\, so participants should dress for the weather. If temperatures are too cold\, the class will be held indoors. All supplies are provided. Sign up is available at denaliartscouncil.org. Drop-ins are welcome if space allows.
URL:https://ktna.org/events/winter-plein-air-painting-class-denali-arts-council-2026-01-06/
LOCATION:Sheldon Community Arts Hangar
CATEGORIES:Announcements,Calendar
ORGANIZER;CN="Denali Arts Council":MAILTO:https://denaliartscouncil.org/contact-us/
END:VEVENT
BEGIN:VEVENT
DTSTART;TZID=America/Anchorage:20260106T120000
DTEND;TZID=America/Anchorage:20260106T160000
DTSTAMP:20260423T144146
CREATED:20260106T200647Z
LAST-MODIFIED:20260106T200647Z
UID:10004990-1767700800-1767715200@ktna.org
SUMMARY:Talkeetna Recycling Closure
DESCRIPTION:Talkeetna Recycling is closed today\, Tuesday\, due to the snow. They are normally open on Tuesdays and Saturdays from 12 to 4pm.
URL:https://ktna.org/events/talkeetna-recycling-closure-2/
CATEGORIES:Announcements,Calendar
END:VEVENT
BEGIN:VEVENT
DTSTART;TZID=America/Anchorage:20260106T100000
DTEND;TZID=America/Anchorage:20260106T110000
DTSTAMP:20260423T144146
CREATED:20250811T193041Z
LAST-MODIFIED:20260102T193248Z
UID:10004584-1767693600-1767697200@ktna.org
SUMMARY:Strong Women Exercise Group - Talkeetna Public Library
DESCRIPTION:Strong Women exercise group meet at 10 am at the Talkeetna Public Library on Tuesdays and Thursdays. A Zoom option is available. This program is aimed at improving strength\, balance and flexibility for women over 40 years old. Newcomers are always welcome\, weights and instructions are provided. For more information\, you may call the library at 907-861-7645.
URL:https://ktna.org/events/strong-women-exercise-group-talkeetna-public-library-2026-01-06/
LOCATION:Talkeetna Public Library\, Talkeetna
CATEGORIES:Announcements,Calendar
END:VEVENT
BEGIN:VEVENT
DTSTART;TZID=America/Anchorage:20260103T190000
DTEND;TZID=America/Anchorage:20260103T190000
DTSTAMP:20260423T144146
CREATED:20251229T174404Z
LAST-MODIFIED:20251231T203811Z
UID:10005817-1767466800-1767466800@ktna.org
SUMMARY:76 Days Adrift - film screening - Denali Arts Council
DESCRIPTION:Denali Arts Council presents a screening of the film 76 Days Adrift on Saturday\, January 3rd\, at the Sheldon Community Arts Hangar. From Executive Producer Ang Lee\, 76 Days Adrift documents the experience of Steven Callahan\, author of Adrift: 76 Days Lost at Sea. He recounts the night of February 4th\, 1982\, when a collision with a whale caused his boat to sink in the Atlantic Ocean. Callahan survived for 76 days in a life raft with limited supplies. The film is directed by Joe Wein\, with music by Patrick Stump. Doors open at 6:30 pm\, and the film begins at 7pm. Tickets are available at denaliartscouncil.org.
URL:https://ktna.org/events/76-days-adrift-film-screening-denali-arts-council/
LOCATION:Sheldon Community Arts Hangar
CATEGORIES:Announcements,Calendar
ORGANIZER;CN="Denali Arts Council":MAILTO:https://denaliartscouncil.org/contact-us/
END:VEVENT
BEGIN:VEVENT
DTSTART;TZID=America/Anchorage:20260103T112500
DTEND;TZID=America/Anchorage:20260103T112500
DTSTAMP:20260423T144146
CREATED:20251230T194917Z
LAST-MODIFIED:20260102T193051Z
UID:10005826-1767439500-1767439500@ktna.org
SUMMARY:Additional Hurricane Turn for the New Year
DESCRIPTION:Due to extreme cold temperatures\, the Alaska Railroad will NOT be running the normally scheduled Aurora Winter Train this weekend. To accommodate residents who use the Flag Stop Railroad\, they will run an additional Hurricane Turn Train on Saturday\, January 3rd at its normally scheduled time\, northbound from Talkeetna at 11:25am. There will be NO Trains heading south on Sunday. \nNorthbound schedule: \nAnchorage 8:30 AM\nWasilla 9:50 AM\nTalkeetna 11:25 AM\nHurricane 1:20 PM \nSouthbound schedule: \nHurricane 2:45 PM\nTalkeetna 4:45 PM\nWasilla 6:25 PM\nAnchorage 8:00 PM
URL:https://ktna.org/events/additional-hurricane-turn-for-the-new-year/2026-01-03/
CATEGORIES:Announcements,Calendar
END:VEVENT
END:VCALENDAR