BEGIN:VCALENDAR
VERSION:2.0
PRODID:-//KTNA 88.9 FM - ECPv6.15.20//NONSGML v1.0//EN
CALSCALE:GREGORIAN
METHOD:PUBLISH
X-WR-CALNAME:KTNA 88.9 FM
X-ORIGINAL-URL:https://ktna.org
X-WR-CALDESC:Events for KTNA 88.9 FM
REFRESH-INTERVAL;VALUE=DURATION:PT1H
X-Robots-Tag:noindex
X-PUBLISHED-TTL:PT1H
BEGIN:VTIMEZONE
TZID:America/Anchorage
BEGIN:DAYLIGHT
TZOFFSETFROM:-0900
TZOFFSETTO:-0800
TZNAME:AKDT
DTSTART:20250309T110000
END:DAYLIGHT
BEGIN:STANDARD
TZOFFSETFROM:-0800
TZOFFSETTO:-0900
TZNAME:AKST
DTSTART:20251102T100000
END:STANDARD
BEGIN:DAYLIGHT
TZOFFSETFROM:-0900
TZOFFSETTO:-0800
TZNAME:AKDT
DTSTART:20260308T110000
END:DAYLIGHT
BEGIN:STANDARD
TZOFFSETFROM:-0800
TZOFFSETTO:-0900
TZNAME:AKST
DTSTART:20261101T100000
END:STANDARD
BEGIN:DAYLIGHT
TZOFFSETFROM:-0900
TZOFFSETTO:-0800
TZNAME:AKDT
DTSTART:20270314T110000
END:DAYLIGHT
BEGIN:STANDARD
TZOFFSETFROM:-0800
TZOFFSETTO:-0900
TZNAME:AKST
DTSTART:20271107T100000
END:STANDARD
END:VTIMEZONE
BEGIN:VEVENT
DTSTART;TZID=America/Anchorage:20260401T151000
DTEND;TZID=America/Anchorage:20260401T163000
DTSTAMP:20260419T152718
CREATED:20251003T192516Z
LAST-MODIFIED:20260115T212033Z
UID:10004773-1775056200-1775061000@ktna.org
SUMMARY:Willow Library Mentoring Program
DESCRIPTION:The Willow Public Library’s Mentoring Program meets every Wednesday from 3:10 to 4:30pm\, when Willow Elementary School is in session. This program is for Kindergartners through 5th graders. You may call the Willow Library at 907-861-7655 with questions.
URL:https://ktna.org/events/willow-library-mentoring-program/2026-04-01/
LOCATION:Willow Public Library
CATEGORIES:Calendar
END:VEVENT
BEGIN:VEVENT
DTSTART;TZID=America/Anchorage:20260401T151500
DTEND;TZID=America/Anchorage:20260401T161500
DTSTAMP:20260419T152718
CREATED:20260331T193955Z
LAST-MODIFIED:20260331T193955Z
UID:10005963-1775056500-1775060100@ktna.org
SUMMARY:Radio Journalism Afterschool Club
DESCRIPTION:KTNA and Su Valley High School are collaborating to start a Radio Journalism Afterschool Club for the remainder of the school year. This Club is open to all Su Valley students\, from middle to high school level. The Club will meet every Wednesday from 3:15-4:15pm at Su Valley High School beginning March 4th. If you are a student or parent and would like to learn more or become involved\, please reach out to Teacher Cory O’Dell or School Librarian Tracy Steere.
URL:https://ktna.org/events/112386-4/
LOCATION:Su Valley Jr/Sr High School
CATEGORIES:Announcements,Calendar
ORGANIZER;CN="KTNA":MAILTO:info@ktna.org
END:VEVENT
BEGIN:VEVENT
DTSTART;TZID=America/Anchorage:20260401T170000
DTEND;TZID=America/Anchorage:20260401T200000
DTSTAMP:20260419T152718
CREATED:20260330T185521Z
LAST-MODIFIED:20260330T185549Z
UID:10008533-1775062800-1775073600@ktna.org
SUMMARY:Competitive Pickle Ball - Community Enrichment – Talkeetna Elementary PTA
DESCRIPTION:Talkeetna Elementary PTA hosts Competitive Pickleball for knowledgeable players seeking competitive bouts from 5 to 8 pm on Wednesday\, April 1st. Attendees will rotate through games of four players at a time\, equipment is available if you do not have your own. Wednesday evening pickleball is held at Talkeetna Elementary School’s gym\, play will move outside to the hockey rink when weather and temperatures permit. For more information visit their Facebook Page or email REBECCA.HRDY@matsuk12.us.
URL:https://ktna.org/events/competitive-pickle-ball-community-enrichment-talkeetna-elementary-pta-2/
LOCATION:Talkeetna Elementary School
CATEGORIES:Announcements,Calendar
ORGANIZER;CN="Talkeetna Elementary PTA":MAILTO:pta.talkeetna@gmail.com
END:VEVENT
BEGIN:VEVENT
DTSTART;TZID=America/Anchorage:20260401T183000
DTEND;TZID=America/Anchorage:20260401T183000
DTSTAMP:20260419T152718
CREATED:20260330T191721Z
LAST-MODIFIED:20260330T191721Z
UID:10008546-1775068200-1775068200@ktna.org
SUMMARY:Main Street Improvement Committee meeting - Talkeetna Community Council
DESCRIPTION:The Talkeetna Community Council’s Main Street Improvement Committee will meet on Wednesday\, April 1st at 6:30 pm at the Denali Education Center. All are welcome\, contact 907-232-0714 for more information.
URL:https://ktna.org/events/main-street-improvement-committee-meeting-talkeetna-community-council/
LOCATION:Denali Education Center\, Talkeetna Campus\, 22510 S Talkeetna Spur Rd\, Talkeetna\, AK\, 99676\, United States
CATEGORIES:Announcements,Calendar
END:VEVENT
BEGIN:VEVENT
DTSTART;TZID=America/Anchorage:20260401T190000
DTEND;TZID=America/Anchorage:20260401T190000
DTSTAMP:20260419T152718
CREATED:20260326T201411Z
LAST-MODIFIED:20260326T201411Z
UID:10005676-1775070000-1775070000@ktna.org
SUMMARY:WACO Monthly Meeting
DESCRIPTION:The Willow Area Community Organization’s (WACO) monthly meetings are held at 7pm on the first Wednesday of every month at the Willow Community Center. The next one is on April 1st. More information at waco-ak.org
URL:https://ktna.org/events/waco-monthly-meeting-2/
LOCATION:Willow Community Center
CATEGORIES:Announcements,Calendar
ORGANIZER;CN="Willow Area Community Organization":MAILTO:admin@waco-ak.org
END:VEVENT
BEGIN:VEVENT
DTSTART;TZID=America/Anchorage:20260402T000000
DTEND;TZID=America/Anchorage:20260402T000000
DTSTAMP:20260419T152718
CREATED:20260402T174444Z
LAST-MODIFIED:20260402T174444Z
UID:10008635-1775088000-1775088000@ktna.org
SUMMARY:No Denali Nordic Ski Club Board Meeting in April
DESCRIPTION:The Denali Nordic Ski Club is not holding a board meeting in April. They will provide information about the next meeting in May. Learn more at denalinordicskiclub.org.
URL:https://ktna.org/events/no-denali-nordic-ski-club-board-meeting-in-april/
CATEGORIES:Announcements,Calendar
END:VEVENT
BEGIN:VEVENT
DTSTART;TZID=America/Anchorage:20260402T100000
DTEND;TZID=America/Anchorage:20260402T110000
DTSTAMP:20260419T152718
CREATED:20260401T190322Z
LAST-MODIFIED:20260402T174820Z
UID:10004609-1775124000-1775127600@ktna.org
SUMMARY:Strong Women Exercise Group - Talkeetna Public Library
DESCRIPTION:Talkeetna Library’s Strong Women exercise group is celebrating its 7th Anniversary this week. They meet for exercise every Tuesday and Thursday at 10am at the Talkeetna Public Library and on Zoom. Weights and instructions are provided\, and there is no fee for this class. All are welcome to attend\, for more information and the Zoom link you may call Talkeetna Library at 907-861-7645.
URL:https://ktna.org/events/strong-women-exercise-group-talkeetna-public-library-2026-01-13-4/
LOCATION:Talkeetna Public Library\, Talkeetna
CATEGORIES:Calendar
END:VEVENT
BEGIN:VEVENT
DTSTART;TZID=America/Anchorage:20260402T110000
DTEND;TZID=America/Anchorage:20260402T110000
DTSTAMP:20260419T152718
CREATED:20251006T213523Z
LAST-MODIFIED:20251120T193918Z
UID:10004838-1775127600-1775127600@ktna.org
SUMMARY:Story Time - Willow Public Library
DESCRIPTION:The Willow Public Library hosts a Story Time\, followed by play time in the Willow Community Center on Thursdays beginning at 11:00am. Story Time is geared toward children up to 5 years old\, but all are welcome. You may call the Willow Library at 907-861-7655 with any questions.
URL:https://ktna.org/events/story-time-willow-public-library/2026-04-02/
LOCATION:Willow Community Center
CATEGORIES:Calendar
END:VEVENT
BEGIN:VEVENT
DTSTART;TZID=America/Anchorage:20260402T111500
DTEND;TZID=America/Anchorage:20260402T123000
DTSTAMP:20260419T152718
CREATED:20260327T193709Z
LAST-MODIFIED:20260401T190842Z
UID:10005243-1775128500-1775133000@ktna.org
SUMMARY:Storytime - Talkeetna Public Library
DESCRIPTION:Talkeetna Public Library hosts Storytime at 11:15am on Thursdays with a snack\, stories and a craft. This week they are making Peepmobiles and planting seeds for Mother’s Day flowers. All ages are welcome. For more information\, you may call Talkeetna Library at 907-861-7645.
URL:https://ktna.org/events/storytime-talkeetna-public-library-4-2026-03-12-5/
LOCATION:Talkeetna Public Library\, Talkeetna
CATEGORIES:Announcements,Calendar
END:VEVENT
BEGIN:VEVENT
DTSTART;TZID=America/Anchorage:20260402T163000
DTEND;TZID=America/Anchorage:20260402T180000
DTSTAMP:20260419T152718
CREATED:20260330T190627Z
LAST-MODIFIED:20260401T184953Z
UID:10006513-1775147400-1775152800@ktna.org
SUMMARY:Open Gym CANCELLED- Community Enrichment - Talkeetna Elementary PTA
DESCRIPTION:Open Gym is cancelled this week because it conflicts with Talkeetna Elementary School’s Title 1 Meeting. \nTalkeetna Elementary PTA normally hosts Open Gym at Talkeetna Elementary School’s gym on Thursdays from 4:30-6:00 pm. You may email REBECCA.HRDY@matsuk12.us for more information.
URL:https://ktna.org/events/open-gym-community-enrichment-talkeetna-elementary-pta-2-5/
LOCATION:Talkeetna Elementary School
CATEGORIES:Announcements,Calendar
ORGANIZER;CN="Talkeetna Elementary PTA":MAILTO:pta.talkeetna@gmail.com
END:VEVENT
BEGIN:VEVENT
DTSTART;TZID=America/Anchorage:20260402T173000
DTEND;TZID=America/Anchorage:20260402T193000
DTSTAMP:20260419T152718
CREATED:20260204T205324Z
LAST-MODIFIED:20260227T205023Z
UID:10005162-1775151000-1775158200@ktna.org
SUMMARY:Career Soup - Denali Education Center
DESCRIPTION:Denali Education Center hosts Career Soup on Thursdays from 5:30 to 7:30pm from January 8th through April 2nd. Career Soup is a weekly watch party of Discover What You Were Born To Do\, a 12-week course written by local executive career mentor\, Shannon Post. Along with the watch party\, there is a potluck and conversation. This course is tailored to those who may engage better in a group setting or need support figuring out the next step. Email kellie@denali.org with questions or to RSVP (appreciated but not required).
URL:https://ktna.org/events/career-soup-denali-education-center/2026-04-02/
LOCATION:Denali Education Center\, Talkeetna Campus\, 22510 S Talkeetna Spur Rd\, Talkeetna\, AK\, 99676\, United States
CATEGORIES:Calendar
END:VEVENT
BEGIN:VEVENT
DTSTART;TZID=America/Anchorage:20260402T183000
DTEND;TZID=America/Anchorage:20260402T200000
DTSTAMP:20260419T152718
CREATED:20260330T222827Z
LAST-MODIFIED:20260330T222827Z
UID:10008567-1775154600-1775160000@ktna.org
SUMMARY:Reading & Book Signing - Erica Watson - Flying Squirrel Bakery Cafe
DESCRIPTION:Flying Squirrel Bakery & Cafe host a Reading & Book Signing with author\, Erica Watson on Thursday\, April 2nd from 6:30-8pm. Erica will be reading from her book\, Ghost of Distant Trees.
URL:https://ktna.org/events/reading-book-signing-erica-watson-flying-squirrel-bakery-cafe/
LOCATION:Flying Squirrel Bakery & Cafe
CATEGORIES:Calendar
END:VEVENT
BEGIN:VEVENT
DTSTART;TZID=America/Anchorage:20260402T190000
DTEND;TZID=America/Anchorage:20260402T190000
DTSTAMP:20260419T152718
CREATED:20260324T193102Z
LAST-MODIFIED:20260326T214249Z
UID:10004686-1775156400-1775156400@ktna.org
SUMMARY:Susitna Community Council Meeting
DESCRIPTION:The Susitna Community Council meets the first Thursday of each month at the Upper Susitna Community & Senior Center at 7 pm. Those who would like to attend via Zoom can find the meeting link and information on the announcement at ktna.org. \nMeeting ID: 289 753 3519\nPasscode: 594227
URL:https://ktna.org/events/susitna-community-council-meeting-2/
LOCATION:Upper Susitna Community and Senior Center\, 16463 E. Helena Ave. / Mile 98.5 Parks Hwy.\, Sunshine\, Alaska\, 99676
CATEGORIES:Announcements,Calendar
END:VEVENT
BEGIN:VEVENT
DTSTART;TZID=America/Anchorage:20260402T190000
DTEND;TZID=America/Anchorage:20260402T190000
DTSTAMP:20260419T152718
CREATED:20260326T185856Z
LAST-MODIFIED:20260402T174933Z
UID:10008394-1775156400-1775156400@ktna.org
SUMMARY:Alaska B4uDie Comedy Festival CANCELLED - Denali Arts Council
DESCRIPTION:The Alaska B4uDie Comedy Festival at the Sheldon Community Arts Hangar on Thursday and Friday\, April 2nd and 3rd has been cancelled. \nDenali Arts Council hosts the Alaska B4uDie Comedy Festival on Thursday and Friday\, April 2nd and 3rd at the Sheldon Community Arts Hangar. Thursday’s show is an array of national comedians spanning the country\, and the B4uDie Fest Alumni\, Hayden Kristal. Friday will showcase a mix of national comedians\, and some talented Alaskan comedians. Doors for both nights open at 6:30pm and the jokes start at 7pm. Tickets and information at denaliartscouncil.org.
URL:https://ktna.org/events/alaska-b4udie-comedy-festival-denali-arts-council-2/
LOCATION:Sheldon Community Arts Hangar
CATEGORIES:Calendar
ORGANIZER;CN="Denali Arts Council":MAILTO:https://denaliartscouncil.org/contact-us/
END:VEVENT
BEGIN:VEVENT
DTSTART;TZID=America/Anchorage:20260404T100000
DTEND;TZID=America/Anchorage:20260404T113000
DTSTAMP:20260419T152718
CREATED:20260331T234538Z
LAST-MODIFIED:20260331T234538Z
UID:10008568-1775296800-1775302200@ktna.org
SUMMARY:Easter Egg Hunt and festivities - Upper Susitna Seniors
DESCRIPTION:The Upper Susitna Seniors are hosting an Easter egg hunt with egg dying\, games and a cake walk on Saturday\, April 4th from 10-11:30am at the Senior Center. All are welcome. Kids should bring a basket or bag for the hunt.
URL:https://ktna.org/events/easter-egg-hunt-and-festivities-upper-susitna-seniors/
LOCATION:Upper Susitna Community and Senior Center
CATEGORIES:Announcements,Calendar
END:VEVENT
BEGIN:VEVENT
DTSTART;TZID=America/Anchorage:20260404T110000
DTEND;TZID=America/Anchorage:20260404T230000
DTSTAMP:20260419T152718
CREATED:20260401T191857Z
LAST-MODIFIED:20260401T191857Z
UID:10008574-1775300400-1775343600@ktna.org
SUMMARY:Easter Egg Hunt - Trapper Creek Community Services
DESCRIPTION:Trapper Creek Community Services Association hosts an Easter Egg Hunt with Games and Activities on Saturday\, April 4th at the Trapper Creek Community Center\, beginning at 11am. The Egg Hunts are scheduled by ages; children 4 and under from 11-11:30am\, ages 5 to 8 from 11:45am to 12:15pm\, ages 9-12 from 12:30-1pm\, and ages 13+ from 1:15 to 1:45pm. For more information you may email tccommunityservices@yahoo.com.
URL:https://ktna.org/events/easter-egg-hunt-trapper-creek-community-services/
LOCATION:Trapper Creek Community Center
CATEGORIES:Announcements,Calendar
ORGANIZER;CN="Trapper Creek Community Services Association":MAILTO:tccommunityservices@yahoo.com
END:VEVENT
BEGIN:VEVENT
DTSTART;TZID=America/Anchorage:20260404T120000
DTEND;TZID=America/Anchorage:20260404T160000
DTSTAMP:20260419T152718
CREATED:20260225T170527Z
LAST-MODIFIED:20260323T193813Z
UID:10005927-1775304000-1775318400@ktna.org
SUMMARY:Talkeetna Recycling
DESCRIPTION:Talkeetna Recycling is open on Tuesdays and Saturdays from 12:00 to 4:00 pm at the Talkeetna Transfer station. Cardboard recycling is available on Saturdays only. They are always looking for volunteers. To learn more\, call Cici at (907)355-8324 and visit their Facebook Page.
URL:https://ktna.org/events/talkeetna-recycling-4/2026-04-04/
LOCATION:Talkeetna Transfer Station\, Mile\, 11.5 Talkeetna Spur Rd\, Talkeetna\, AK\, 99676\, United States
CATEGORIES:Calendar
END:VEVENT
BEGIN:VEVENT
DTSTART;TZID=America/Anchorage:20260404T150000
DTEND;TZID=America/Anchorage:20260404T170000
DTSTAMP:20260419T152718
CREATED:20260330T222313Z
LAST-MODIFIED:20260330T222313Z
UID:10008547-1775314800-1775322000@ktna.org
SUMMARY:Art Opening - Flying Squirrel Bakery Cafe
DESCRIPTION:The Flying Squirrel Bakery & Cafe hosts an art opening on the first Saturday of each month from 3-5pm\, hors d’oeuvres are provided. Located at Mile 11 of the Talkeetna Spur Road. \nUpcoming Art Shows: \n\nApril: Marissa Goerke\, bird paintings\nMay: Jon Mann & Bill Barstow\, new pastels and paintings\nJune: TBD\nJuly: Adele Pierre\, quilts\nAugust: Abby Vohaska\, paintings\nSeptember: Amy Voricheck\, pressed plants\nOctober: Michele Cornelius\nNovember: Jennifer Kosharek
URL:https://ktna.org/events/art-opening-flying-squirrel-bakery-cafe/2026-04-04/
LOCATION:Flying Squirrel Bakery & Cafe
CATEGORIES:Calendar
END:VEVENT
BEGIN:VEVENT
DTSTART;TZID=America/Anchorage:20260404T160000
DTEND;TZID=America/Anchorage:20260404T180000
DTSTAMP:20260419T152718
CREATED:20260325T190454Z
LAST-MODIFIED:20260326T204149Z
UID:10008396-1775318400-1775325600@ktna.org
SUMMARY:First Saturday Art Show - Troy Smiley’s Vessels and Luminaries - Denali Arts Council
DESCRIPTION:Denali Arts Council hosts their monthly First Saturday Arts Show from 4 to 6pm on Saturday\, April 4th at the Sheldon Community Arts Hangar. This month Troy Smiley presents: Vessels and Luminaries — an exploration of woodturning that transforms raw material into works of illuminated art. Learn more at denaliartscouncil.org.
URL:https://ktna.org/events/first-saturday-art-show-troy-smileys-vessels-and-luminaries-denali-arts-council/
LOCATION:Sheldon Community Arts Hangar
CATEGORIES:Announcements,Calendar
ORGANIZER;CN="Denali Arts Council":MAILTO:https://denaliartscouncil.org/contact-us/
END:VEVENT
BEGIN:VEVENT
DTSTART;TZID=America/Anchorage:20260404T190000
DTEND;TZID=America/Anchorage:20260404T190000
DTSTAMP:20260419T152718
CREATED:20260325T190839Z
LAST-MODIFIED:20260326T204301Z
UID:10008397-1775329200-1775329200@ktna.org
SUMMARY:Arctic Entries - Denali Arts Council
DESCRIPTION:Denali Arts Council hosts their last Arctic Entries storytelling event of the season at the Sheldon Community Arts Hangar on Saturday\, April 4th. The theme is Potholes and Promises\, stories of bumps in the road\, where they lead and how we kept going. Doors open at 6:30pm and stories start at 7. Tickets and information are available at denaliartscouncil.org.
URL:https://ktna.org/events/arctic-entries-denali-arts-council-4/
LOCATION:Sheldon Community Arts Hangar
CATEGORIES:Announcements,Calendar
ORGANIZER;CN="Denali Arts Council":MAILTO:https://denaliartscouncil.org/contact-us/
END:VEVENT
BEGIN:VEVENT
DTSTART;TZID=America/Anchorage:20260405T150000
DTEND;TZID=America/Anchorage:20260405T173000
DTSTAMP:20260419T152718
CREATED:20260403T192509Z
LAST-MODIFIED:20260403T192510Z
UID:10005230-1775401200-1775410200@ktna.org
SUMMARY:Pickle Ball - Community Enrichment – Talkeetna Elementary PTA
DESCRIPTION:Talkeetna Elementary PTA hosts Beginner/Intermediate Pickleball at Talkeetna Elementary School’s gym on Sundays from 3-5:30 pm. For more information including fees visit their Facebook Page.  You may email REBECCA.HRDY@matsuk12.us with any questions.
URL:https://ktna.org/events/pickle-ball-community-enrichment-talkeetna-elementary-pta-5/
LOCATION:Talkeetna Elementary School
CATEGORIES:Announcements,Calendar
ORGANIZER;CN="Talkeetna Elementary PTA":MAILTO:pta.talkeetna@gmail.com
END:VEVENT
BEGIN:VEVENT
DTSTART;TZID=America/Anchorage:20260405T180000
DTEND;TZID=America/Anchorage:20260405T200000
DTSTAMP:20260419T152718
CREATED:20260403T192749Z
LAST-MODIFIED:20260403T192750Z
UID:10005021-1775412000-1775419200@ktna.org
SUMMARY:Pick-Up Basketball - Community Enrichment - Talkeetna Elementary PTA
DESCRIPTION:Talkeetna Elementary PTA hosts Pick-Up Basketball for teens and adults\, 6th grade and up\, at Talkeetna Elementary School’s gym on Sundays from 6-8 pm. For more information including fees visit their Facebook Page.  You may email REBECCA.HRDY@matsuk12.us for more information.
URL:https://ktna.org/events/pick-up-basketball-community-enrichment-talkeetna-elementary-pta-2/
LOCATION:Talkeetna Elementary School
CATEGORIES:Announcements,Calendar
ORGANIZER;CN="Talkeetna Elementary PTA":MAILTO:pta.talkeetna@gmail.com
END:VEVENT
BEGIN:VEVENT
DTSTART;TZID=America/Anchorage:20260406T151500
DTEND;TZID=America/Anchorage:20260406T163000
DTSTAMP:20260419T152718
CREATED:20260403T193255Z
LAST-MODIFIED:20260403T193259Z
UID:10008539-1775488500-1775493000@ktna.org
SUMMARY:Beginner's Ukulele Class - Community Enrichment - Talkeetna Elementary PTA
DESCRIPTION:Talkeetna Elementary PTA and Denali Arts Council host a self-paced Beginner’s Ukulele Class\, taught by  Danielle Aslanian\, for grades K-5 on Mondays from 3:15 to 4:30pm at Talkeetna Elementary School. Spaces are still available\, pre-registration is required. For more information about the PTA’s Community Enrichment Activities\, including fees\, visit their Facebook Page.  You may email REBECCA.HRDY@matsuk12.us with any questions.
URL:https://ktna.org/events/beginners-ukulele-class-community-enrichment-talkeetna-elementary-pta-2-2/
LOCATION:Talkeetna Elementary School
CATEGORIES:Announcements,Calendar
ORGANIZER;CN="Talkeetna Elementary PTA":MAILTO:pta.talkeetna@gmail.com
END:VEVENT
BEGIN:VEVENT
DTSTART;TZID=America/Anchorage:20260406T163000
DTEND;TZID=America/Anchorage:20260406T173000
DTSTAMP:20260419T152718
CREATED:20260123T212314Z
LAST-MODIFIED:20260407T192517Z
UID:10005061-1775493000-1775496600@ktna.org
SUMMARY:Toddler Gym Time - Community Enrichment - Talkeetna Elementary PTA
DESCRIPTION:Talkeetna Elementary PTA hosts Toddler Gym Time at Talkeetna Elementary School’s gym on Mondays from 4:30-5:30 pm. (free)  For more information including fees\, visit their Facebook Page.  You may email REBECCA.HRDY@matsuk12.us with any questions.
URL:https://ktna.org/events/toddler-gym-time-community-enrichment-talkeetna-elementary-pta/2026-04-06/
LOCATION:Talkeetna Elementary School
CATEGORIES:Calendar
ORGANIZER;CN="Talkeetna Elementary PTA":MAILTO:pta.talkeetna@gmail.com
END:VEVENT
BEGIN:VEVENT
DTSTART;TZID=America/Anchorage:20260406T190000
DTEND;TZID=America/Anchorage:20260406T190000
DTSTAMP:20260419T152718
CREATED:20260402T194125Z
LAST-MODIFIED:20260402T194127Z
UID:10008403-1775502000-1775502000@ktna.org
SUMMARY:Talkeetna Community Council monthly meeting
DESCRIPTION:The Talkeetna Community Council meets the first Monday of each month at 7pm at the Talkeetna Public Library and over Zoom. Visit talkeetnacouncil.org for more information including the Zoom link.
URL:https://ktna.org/events/talkeetna-community-council-monthly-meeting-3-2/
LOCATION:Talkeetna Public Library\, Talkeetna
CATEGORIES:Announcements,Calendar
END:VEVENT
BEGIN:VEVENT
DTSTART;TZID=America/Anchorage:20260407T120000
DTEND;TZID=America/Anchorage:20260407T133000
DTSTAMP:20260419T152718
CREATED:20260206T210953Z
LAST-MODIFIED:20260206T211825Z
UID:10005900-1775563200-1775568600@ktna.org
SUMMARY:Organic Gardening Class: Build Your Soil's Mineral Bank - Mat-Su College
DESCRIPTION:Mat-Su College hosts Organic Gardening: Build Your Soil’s Mineral Bank. This is an in-person organic gardening class that meets at Mat-Su College in the Snodgrass Hall (SGH) Building\, first floor in Room 117. Soils in the Mat-Su Valley typically lack some essential minerals\, so crops are bitter or get sick. Avoid nutrient deficiency by learning which organic fertilizers to choose\, and how much to apply. Discover secrets to raising chemical-free\, nutrient-packed foods in the region through the thoughtful use of organic fertilizers. This 90-minute course will meet for 1 day only from 12:00-1:30 p.m. Class cost is $25. The instructor presents the material via a slideshow and with hands-on demonstrations.
URL:https://ktna.org/events/organic-gardening-class-mat-su-college/
LOCATION:Mat-Su College
CATEGORIES:Calendar
END:VEVENT
BEGIN:VEVENT
DTSTART;TZID=America/Anchorage:20260407T120000
DTEND;TZID=America/Anchorage:20260407T150000
DTSTAMP:20260419T152718
CREATED:20260403T195445Z
LAST-MODIFIED:20260406T195403Z
UID:10008637-1775563200-1775574000@ktna.org
SUMMARY:Social Security 101 Webinar - Alaska Commission on Aging
DESCRIPTION:Alaska Commission on Aging is hosting a public webinar with Social Security Administration Regional Public Affairs Specialist\, Nathan Cole\, on Social Security and Medicare at the Talkeetna Public Library on Tuesday\, April 7th\, beginning at 12pm. Following the webinar\, Sean McPhilamy\, a volunteer with the State of Alaska’s Medicare Information Office\, will provide an overview on Medicare. After the general discussion\, he will be available for one-on-one conversations as needed\, until 3pm. If you have questions you need answered\, you are welcome to email them ahead of time to doh.acoa.info@alaska.gov. The link to the webinar is available in the announcement on KTNA.org for those who would like to attend from home.
URL:https://ktna.org/events/social-security-101-webinar-alaska-commission-on-aging/
LOCATION:Talkeetna Public Library\, Talkeetna
CATEGORIES:Announcements,Calendar
END:VEVENT
BEGIN:VEVENT
DTSTART;TZID=America/Anchorage:20260407T120000
DTEND;TZID=America/Anchorage:20260407T160000
DTSTAMP:20260419T152718
CREATED:20260216T202028Z
LAST-MODIFIED:20260304T021931Z
UID:10005184-1775563200-1775577600@ktna.org
SUMMARY:Talkeetna Recycling
DESCRIPTION:Talkeetna Recycling is open on Tuesdays and Saturdays from 12:00 to 4:00 pm at the Talkeetna Transfer station. Cardboard recycling is available on Saturdays only. They are always looking for volunteers. To learn more\, call Cici at (907)355-8324 and visit their Facebook Page.
URL:https://ktna.org/events/talkeetna-recycling-3/2026-04-07/
LOCATION:Talkeetna Transfer Station\, Mile\, 11.5 Talkeetna Spur Rd\, Talkeetna\, AK\, 99676\, United States
CATEGORIES:Calendar
END:VEVENT
BEGIN:VEVENT
DTSTART;TZID=America/Anchorage:20260407T151500
DTEND;TZID=America/Anchorage:20260407T163000
DTSTAMP:20260419T152718
CREATED:20260324T191149Z
LAST-MODIFIED:20260408T193937Z
UID:10008130-1775574900-1775579400@ktna.org
SUMMARY:Reading Tuesdays - Talkeetna Public Library
DESCRIPTION:The Talkeetna Public Library hosts a weekly afterschool program called Reading Tuesdays. Students are welcome to come and read\, work on homework or a craft\, and spend time with friends from 3:15 until 5pm every Tuesday. Sunshine Transit is available to pick up students at Talkeetna Elementary School and bring them to the library. Permission slips are required. For more information and to sign up\, contact the library at Talkeetna.Library@matsugov.us or (907)861-7645.
URL:https://ktna.org/events/reading-tuesdays-talkeetna-public-library/2026-04-07/
LOCATION:Talkeetna Public Library\, Talkeetna
CATEGORIES:Calendar
END:VEVENT
BEGIN:VEVENT
DTSTART;TZID=America/Anchorage:20260407T180000
DTEND;TZID=America/Anchorage:20260407T180000
DTSTAMP:20260419T152718
CREATED:20260403T193740Z
LAST-MODIFIED:20260403T193740Z
UID:10008636-1775584800-1775584800@ktna.org
SUMMARY:Talkeetna Skatepark Committee Meeting
DESCRIPTION:The next Talkeetna Skatepark Committee Meeting will be held on Tuesday\, April 7th at 6pm at the Talkeetna Public Library. All are welcome. To contact the committee you can email them at tkaskatepark@gmail.com.
URL:https://ktna.org/events/talkeetna-skatepark-committee-meeting-17/
LOCATION:Talkeetna Public Library\, Talkeetna
CATEGORIES:Announcements,Calendar
END:VEVENT
END:VCALENDAR