BEGIN:VCALENDAR
VERSION:2.0
PRODID:-//KTNA 88.9 FM - ECPv6.15.20//NONSGML v1.0//EN
CALSCALE:GREGORIAN
METHOD:PUBLISH
X-WR-CALNAME:KTNA 88.9 FM
X-ORIGINAL-URL:https://ktna.org
X-WR-CALDESC:Events for KTNA 88.9 FM
REFRESH-INTERVAL;VALUE=DURATION:PT1H
X-Robots-Tag:noindex
X-PUBLISHED-TTL:PT1H
BEGIN:VTIMEZONE
TZID:America/Anchorage
BEGIN:DAYLIGHT
TZOFFSETFROM:-0900
TZOFFSETTO:-0800
TZNAME:AKDT
DTSTART:20250309T110000
END:DAYLIGHT
BEGIN:STANDARD
TZOFFSETFROM:-0800
TZOFFSETTO:-0900
TZNAME:AKST
DTSTART:20251102T100000
END:STANDARD
BEGIN:DAYLIGHT
TZOFFSETFROM:-0900
TZOFFSETTO:-0800
TZNAME:AKDT
DTSTART:20260308T110000
END:DAYLIGHT
BEGIN:STANDARD
TZOFFSETFROM:-0800
TZOFFSETTO:-0900
TZNAME:AKST
DTSTART:20261101T100000
END:STANDARD
BEGIN:DAYLIGHT
TZOFFSETFROM:-0900
TZOFFSETTO:-0800
TZNAME:AKDT
DTSTART:20270314T110000
END:DAYLIGHT
BEGIN:STANDARD
TZOFFSETFROM:-0800
TZOFFSETTO:-0900
TZNAME:AKST
DTSTART:20271107T100000
END:STANDARD
END:VTIMEZONE
BEGIN:VEVENT
DTSTART;TZID=America/Anchorage:20260405T150000
DTEND;TZID=America/Anchorage:20260405T173000
DTSTAMP:20260420T102312
CREATED:20260403T192509Z
LAST-MODIFIED:20260403T192510Z
UID:10005230-1775401200-1775410200@ktna.org
SUMMARY:Pickle Ball - Community Enrichment – Talkeetna Elementary PTA
DESCRIPTION:Talkeetna Elementary PTA hosts Beginner/Intermediate Pickleball at Talkeetna Elementary School’s gym on Sundays from 3-5:30 pm. For more information including fees visit their Facebook Page.  You may email REBECCA.HRDY@matsuk12.us with any questions.
URL:https://ktna.org/events/pickle-ball-community-enrichment-talkeetna-elementary-pta-5/
LOCATION:Talkeetna Elementary School
CATEGORIES:Announcements,Calendar
ORGANIZER;CN="Talkeetna Elementary PTA":MAILTO:pta.talkeetna@gmail.com
END:VEVENT
BEGIN:VEVENT
DTSTART;TZID=America/Anchorage:20260405T180000
DTEND;TZID=America/Anchorage:20260405T200000
DTSTAMP:20260420T102312
CREATED:20260403T192749Z
LAST-MODIFIED:20260403T192750Z
UID:10005021-1775412000-1775419200@ktna.org
SUMMARY:Pick-Up Basketball - Community Enrichment - Talkeetna Elementary PTA
DESCRIPTION:Talkeetna Elementary PTA hosts Pick-Up Basketball for teens and adults\, 6th grade and up\, at Talkeetna Elementary School’s gym on Sundays from 6-8 pm. For more information including fees visit their Facebook Page.  You may email REBECCA.HRDY@matsuk12.us for more information.
URL:https://ktna.org/events/pick-up-basketball-community-enrichment-talkeetna-elementary-pta-2/
LOCATION:Talkeetna Elementary School
CATEGORIES:Announcements,Calendar
ORGANIZER;CN="Talkeetna Elementary PTA":MAILTO:pta.talkeetna@gmail.com
END:VEVENT
BEGIN:VEVENT
DTSTART;TZID=America/Anchorage:20260406T151500
DTEND;TZID=America/Anchorage:20260406T163000
DTSTAMP:20260420T102312
CREATED:20260403T193255Z
LAST-MODIFIED:20260403T193259Z
UID:10008539-1775488500-1775493000@ktna.org
SUMMARY:Beginner's Ukulele Class - Community Enrichment - Talkeetna Elementary PTA
DESCRIPTION:Talkeetna Elementary PTA and Denali Arts Council host a self-paced Beginner’s Ukulele Class\, taught by  Danielle Aslanian\, for grades K-5 on Mondays from 3:15 to 4:30pm at Talkeetna Elementary School. Spaces are still available\, pre-registration is required. For more information about the PTA’s Community Enrichment Activities\, including fees\, visit their Facebook Page.  You may email REBECCA.HRDY@matsuk12.us with any questions.
URL:https://ktna.org/events/beginners-ukulele-class-community-enrichment-talkeetna-elementary-pta-2-2/
LOCATION:Talkeetna Elementary School
CATEGORIES:Announcements,Calendar
ORGANIZER;CN="Talkeetna Elementary PTA":MAILTO:pta.talkeetna@gmail.com
END:VEVENT
BEGIN:VEVENT
DTSTART;TZID=America/Anchorage:20260406T163000
DTEND;TZID=America/Anchorage:20260406T173000
DTSTAMP:20260420T102312
CREATED:20260123T212314Z
LAST-MODIFIED:20260407T192517Z
UID:10005061-1775493000-1775496600@ktna.org
SUMMARY:Toddler Gym Time - Community Enrichment - Talkeetna Elementary PTA
DESCRIPTION:Talkeetna Elementary PTA hosts Toddler Gym Time at Talkeetna Elementary School’s gym on Mondays from 4:30-5:30 pm. (free)  For more information including fees\, visit their Facebook Page.  You may email REBECCA.HRDY@matsuk12.us with any questions.
URL:https://ktna.org/events/toddler-gym-time-community-enrichment-talkeetna-elementary-pta/2026-04-06/
LOCATION:Talkeetna Elementary School
CATEGORIES:Calendar
ORGANIZER;CN="Talkeetna Elementary PTA":MAILTO:pta.talkeetna@gmail.com
END:VEVENT
BEGIN:VEVENT
DTSTART;TZID=America/Anchorage:20260406T190000
DTEND;TZID=America/Anchorage:20260406T190000
DTSTAMP:20260420T102312
CREATED:20260402T194125Z
LAST-MODIFIED:20260402T194127Z
UID:10008403-1775502000-1775502000@ktna.org
SUMMARY:Talkeetna Community Council monthly meeting
DESCRIPTION:The Talkeetna Community Council meets the first Monday of each month at 7pm at the Talkeetna Public Library and over Zoom. Visit talkeetnacouncil.org for more information including the Zoom link.
URL:https://ktna.org/events/talkeetna-community-council-monthly-meeting-3-2/
LOCATION:Talkeetna Public Library\, Talkeetna
CATEGORIES:Announcements,Calendar
END:VEVENT
BEGIN:VEVENT
DTSTART;TZID=America/Anchorage:20260407T100000
DTEND;TZID=America/Anchorage:20260407T110000
DTSTAMP:20260420T102312
CREATED:20250811T193041Z
LAST-MODIFIED:20260407T192355Z
UID:10004610-1775556000-1775559600@ktna.org
SUMMARY:Strong Women Exercise Group - Talkeetna Public Library
DESCRIPTION:Strong Women exercise group meet at 10 am at the Talkeetna Public Library on Tuesdays and Thursdays. A Zoom option is available. This program is aimed at improving strength\, balance and flexibility for women over 40 years old. Newcomers are always welcome\, weights and instructions are provided. For more information\, you may call the library at 907-861-7645.
URL:https://ktna.org/events/strong-women-exercise-group-talkeetna-public-library-2026-01-13/2026-04-07/
LOCATION:Talkeetna Public Library\, Talkeetna
CATEGORIES:Calendar
END:VEVENT
BEGIN:VEVENT
DTSTART;TZID=America/Anchorage:20260407T120000
DTEND;TZID=America/Anchorage:20260407T133000
DTSTAMP:20260420T102312
CREATED:20260206T210953Z
LAST-MODIFIED:20260206T211825Z
UID:10005900-1775563200-1775568600@ktna.org
SUMMARY:Organic Gardening Class: Build Your Soil's Mineral Bank - Mat-Su College
DESCRIPTION:Mat-Su College hosts Organic Gardening: Build Your Soil’s Mineral Bank. This is an in-person organic gardening class that meets at Mat-Su College in the Snodgrass Hall (SGH) Building\, first floor in Room 117. Soils in the Mat-Su Valley typically lack some essential minerals\, so crops are bitter or get sick. Avoid nutrient deficiency by learning which organic fertilizers to choose\, and how much to apply. Discover secrets to raising chemical-free\, nutrient-packed foods in the region through the thoughtful use of organic fertilizers. This 90-minute course will meet for 1 day only from 12:00-1:30 p.m. Class cost is $25. The instructor presents the material via a slideshow and with hands-on demonstrations.
URL:https://ktna.org/events/organic-gardening-class-mat-su-college/
LOCATION:Mat-Su College
CATEGORIES:Calendar
END:VEVENT
BEGIN:VEVENT
DTSTART;TZID=America/Anchorage:20260407T120000
DTEND;TZID=America/Anchorage:20260407T150000
DTSTAMP:20260420T102312
CREATED:20260403T195445Z
LAST-MODIFIED:20260406T195403Z
UID:10008637-1775563200-1775574000@ktna.org
SUMMARY:Social Security 101 Webinar - Alaska Commission on Aging
DESCRIPTION:Alaska Commission on Aging is hosting a public webinar with Social Security Administration Regional Public Affairs Specialist\, Nathan Cole\, on Social Security and Medicare at the Talkeetna Public Library on Tuesday\, April 7th\, beginning at 12pm. Following the webinar\, Sean McPhilamy\, a volunteer with the State of Alaska’s Medicare Information Office\, will provide an overview on Medicare. After the general discussion\, he will be available for one-on-one conversations as needed\, until 3pm. If you have questions you need answered\, you are welcome to email them ahead of time to doh.acoa.info@alaska.gov. The link to the webinar is available in the announcement on KTNA.org for those who would like to attend from home.
URL:https://ktna.org/events/social-security-101-webinar-alaska-commission-on-aging/
LOCATION:Talkeetna Public Library\, Talkeetna
CATEGORIES:Announcements,Calendar
END:VEVENT
BEGIN:VEVENT
DTSTART;TZID=America/Anchorage:20260407T120000
DTEND;TZID=America/Anchorage:20260407T160000
DTSTAMP:20260420T102312
CREATED:20260216T202028Z
LAST-MODIFIED:20260304T021931Z
UID:10005184-1775563200-1775577600@ktna.org
SUMMARY:Talkeetna Recycling
DESCRIPTION:Talkeetna Recycling is open on Tuesdays and Saturdays from 12:00 to 4:00 pm at the Talkeetna Transfer station. Cardboard recycling is available on Saturdays only. They are always looking for volunteers. To learn more\, call Cici at (907)355-8324 and visit their Facebook Page.
URL:https://ktna.org/events/talkeetna-recycling-3/2026-04-07/
LOCATION:Talkeetna Transfer Station\, Mile\, 11.5 Talkeetna Spur Rd\, Talkeetna\, AK\, 99676\, United States
CATEGORIES:Calendar
END:VEVENT
BEGIN:VEVENT
DTSTART;TZID=America/Anchorage:20260407T151500
DTEND;TZID=America/Anchorage:20260407T163000
DTSTAMP:20260420T102312
CREATED:20260324T191149Z
LAST-MODIFIED:20260408T193937Z
UID:10008130-1775574900-1775579400@ktna.org
SUMMARY:Reading Tuesdays - Talkeetna Public Library
DESCRIPTION:The Talkeetna Public Library hosts a weekly afterschool program called Reading Tuesdays. Students are welcome to come and read\, work on homework or a craft\, and spend time with friends from 3:15 until 5pm every Tuesday. Sunshine Transit is available to pick up students at Talkeetna Elementary School and bring them to the library. Permission slips are required. For more information and to sign up\, contact the library at Talkeetna.Library@matsugov.us or (907)861-7645.
URL:https://ktna.org/events/reading-tuesdays-talkeetna-public-library/2026-04-07/
LOCATION:Talkeetna Public Library\, Talkeetna
CATEGORIES:Calendar
END:VEVENT
BEGIN:VEVENT
DTSTART;TZID=America/Anchorage:20260407T180000
DTEND;TZID=America/Anchorage:20260407T180000
DTSTAMP:20260420T102312
CREATED:20260403T193740Z
LAST-MODIFIED:20260403T193740Z
UID:10008636-1775584800-1775584800@ktna.org
SUMMARY:Talkeetna Skatepark Committee Meeting
DESCRIPTION:The next Talkeetna Skatepark Committee Meeting will be held on Tuesday\, April 7th at 6pm at the Talkeetna Public Library. All are welcome. To contact the committee you can email them at tkaskatepark@gmail.com.
URL:https://ktna.org/events/talkeetna-skatepark-committee-meeting-17/
LOCATION:Talkeetna Public Library\, Talkeetna
CATEGORIES:Announcements,Calendar
END:VEVENT
BEGIN:VEVENT
DTSTART;VALUE=DATE:20260408
DTEND;VALUE=DATE:20260409
DTSTAMP:20260420T102312
CREATED:20260401T185732Z
LAST-MODIFIED:20260403T192349Z
UID:10008569-1775606400-1775692799@ktna.org
SUMMARY:Seasonal position at the Talkeetna ranger station
DESCRIPTION:The Walter Harper Talkeetna Ranger station is hiring a seasonal Recreation Fee Technician. This front desk position assists in climbing registration\, issuing park passes and answering visitor questions through mid-September. Applications are accepted through USA Jobs by submitting a two-page resume and completing the local hire questionnaire. The application period is open through 7:59 pm on April 8th. Contact Mary at the Talkeetna Ranger station for more information regarding the position at 907-733-2231. The link to apply can also be found on the Classified on KTNA’s Announcements Page. https://www.usajobs.gov/job/863409800
URL:https://ktna.org/events/seasonal-position-at-the-talkeetna-ranger-station/
CATEGORIES:Calendar,Classifieds
END:VEVENT
BEGIN:VEVENT
DTSTART;TZID=America/Anchorage:20260408T151000
DTEND;TZID=America/Anchorage:20260408T163000
DTSTAMP:20260420T102312
CREATED:20251003T192516Z
LAST-MODIFIED:20260115T212033Z
UID:10004774-1775661000-1775665800@ktna.org
SUMMARY:Willow Library Mentoring Program
DESCRIPTION:The Willow Public Library’s Mentoring Program meets every Wednesday from 3:10 to 4:30pm\, when Willow Elementary School is in session. This program is for Kindergartners through 5th graders. You may call the Willow Library at 907-861-7655 with questions.
URL:https://ktna.org/events/willow-library-mentoring-program/2026-04-08/
LOCATION:Willow Public Library
CATEGORIES:Calendar
END:VEVENT
BEGIN:VEVENT
DTSTART;TZID=America/Anchorage:20260408T151500
DTEND;TZID=America/Anchorage:20260408T161500
DTSTAMP:20260420T102312
CREATED:20260407T193027Z
LAST-MODIFIED:20260408T193345Z
UID:10005964-1775661300-1775664900@ktna.org
SUMMARY:Radio Journalism Afterschool Club
DESCRIPTION:KTNA and Su Valley High School are collaborating to start a Radio Journalism Afterschool Club for the remainder of the school year. This Club is open to all Su Valley students\, from middle to high school level. The Club will meet every Wednesday from 3:15-4:15pm at Su Valley High School beginning March 4th. If you are a student or parent and would like to learn more or become involved\, please reach out to Teacher Cory O’Dell or School Librarian Tracy Steere.
URL:https://ktna.org/events/112386-5/
LOCATION:Su Valley Jr/Sr High School
CATEGORIES:Calendar
ORGANIZER;CN="KTNA":MAILTO:info@ktna.org
END:VEVENT
BEGIN:VEVENT
DTSTART;TZID=America/Anchorage:20260408T170000
DTEND;TZID=America/Anchorage:20260408T200000
DTSTAMP:20260420T102312
CREATED:20260407T192950Z
LAST-MODIFIED:20260407T192951Z
UID:10008534-1775667600-1775678400@ktna.org
SUMMARY:Competitive Pickle Ball - Community Enrichment – Talkeetna Elementary PTA
DESCRIPTION:Talkeetna Elementary PTA hosts Competitive Pickleball for knowledgeable players seeking competitive bouts from 5 to 8 pm on Wednesdays. Attendees will rotate through games of four players at a time\, equipment is available if you do not have your own. Wednesday evening pickleball is held at Talkeetna Elementary School’s gym\, play will move outside to the hockey rink when weather and temperatures permit. For more information visit their Facebook Page or email REBECCA.HRDY@matsuk12.us.
URL:https://ktna.org/events/competitive-pickle-ball-community-enrichment-talkeetna-elementary-pta-3/
LOCATION:Talkeetna Elementary School
CATEGORIES:Announcements,Calendar
ORGANIZER;CN="Talkeetna Elementary PTA":MAILTO:pta.talkeetna@gmail.com
END:VEVENT
BEGIN:VEVENT
DTSTART;TZID=America/Anchorage:20260409T110000
DTEND;TZID=America/Anchorage:20260409T110000
DTSTAMP:20260420T102312
CREATED:20251006T213523Z
LAST-MODIFIED:20251120T193918Z
UID:10004839-1775732400-1775732400@ktna.org
SUMMARY:Story Time - Willow Public Library
DESCRIPTION:The Willow Public Library hosts a Story Time\, followed by play time in the Willow Community Center on Thursdays beginning at 11:00am. Story Time is geared toward children up to 5 years old\, but all are welcome. You may call the Willow Library at 907-861-7655 with any questions.
URL:https://ktna.org/events/story-time-willow-public-library/2026-04-09/
LOCATION:Willow Community Center
CATEGORIES:Calendar
END:VEVENT
BEGIN:VEVENT
DTSTART;TZID=America/Anchorage:20260409T111500
DTEND;TZID=America/Anchorage:20260409T123000
DTSTAMP:20260420T102312
CREATED:20260408T193559Z
LAST-MODIFIED:20260409T190640Z
UID:10005244-1775733300-1775737800@ktna.org
SUMMARY:Storytime - Talkeetna Public Library
DESCRIPTION:Talkeetna Public Library hosts Storytime at 11:15am on Thursdays with a snack\, stories and a craft. All are welcome. For more information\, you may call Talkeetna Library at 907-861-7645.
URL:https://ktna.org/events/storytime-talkeetna-public-library-4-2026-03-12-6/
LOCATION:Talkeetna Public Library\, Talkeetna
CATEGORIES:Calendar
END:VEVENT
BEGIN:VEVENT
DTSTART;TZID=America/Anchorage:20260409T163000
DTEND;TZID=America/Anchorage:20260409T180000
DTSTAMP:20260420T102312
CREATED:20260409T191532Z
LAST-MODIFIED:20260409T191533Z
UID:10006514-1775752200-1775757600@ktna.org
SUMMARY:Open Gym - Community Enrichment - Talkeetna Elementary PTA
DESCRIPTION:Talkeetna Elementary PTA hosts Open Gym at Talkeetna Elementary School’s gym on Thursdays from 4:30-6:00 pm.  You may email REBECCA.HRDY@matsuk12.us for more information.
URL:https://ktna.org/events/open-gym-community-enrichment-talkeetna-elementary-pta-2-6/
LOCATION:Talkeetna Elementary School
CATEGORIES:Announcements,Calendar
ORGANIZER;CN="Talkeetna Elementary PTA":MAILTO:pta.talkeetna@gmail.com
END:VEVENT
BEGIN:VEVENT
DTSTART;TZID=America/Anchorage:20260410T120000
DTEND;TZID=America/Anchorage:20260410T120000
DTSTAMP:20260420T102312
CREATED:20260403T195750Z
LAST-MODIFIED:20260403T195750Z
UID:10008399-1775822400-1775822400@ktna.org
SUMMARY:Banff Mountain Film Festival - Denali Arts Council
DESCRIPTION:Denali Arts Council presents the Banff Mountain Film Festival on Friday and Saturday\, April 10th and 11th\, featuring a different series of films each night at Sheldon Community Arts Hangar. As part of the festival\, Denali Arts Council\, Talkeetna Chamber of Commerce\, and Talkeetna Alaskan Lodge host a marketplace and Mini Beer Fest at the Talkeetna Alaskan Lodge on Saturday\, April 11th from 12 to 5 PM. This event also marks the finish line of the Soggy Sneaker 5K Run. There will be saunas to warm up in\, tubing for kids\, live music\, and Alaskan vendors. Learn more at denaliartscouncil.org. \nFilm showings at the Sheldon Community Arts Hangar: \n\nFriday\, April 10th\, 6:30-10pm: Moraine\nSaturday\, April 11th\, 7-10pm Film: Serac
URL:https://ktna.org/events/banff-mountain-film-festival-denali-arts-council-2/
LOCATION:Sheldon Community Arts Hangar
CATEGORIES:Announcements,Calendar
ORGANIZER;CN="Denali Arts Council":MAILTO:https://denaliartscouncil.org/contact-us/
END:VEVENT
BEGIN:VEVENT
DTSTART;TZID=America/Anchorage:20260410T130000
DTEND;TZID=America/Anchorage:20260410T140000
DTSTAMP:20260420T102312
CREATED:20260406T210640Z
LAST-MODIFIED:20260406T210640Z
UID:10008646-1775826000-1775829600@ktna.org
SUMMARY:Friends of the Talkeetna Library Meeting
DESCRIPTION:The Friends of the Talkeetna Library will meet Friday\, April 10th\, at 1pm\, at the library. All are welcome. A Zoom option is available. Please call the library at 907-861-7645 for Zoom information.
URL:https://ktna.org/events/friends-of-the-talkeetna-library-meeting-14/
LOCATION:Talkeetna Public Library\, Talkeetna
CATEGORIES:Announcements,Calendar
END:VEVENT
BEGIN:VEVENT
DTSTART;TZID=America/Anchorage:20260410T130000
DTEND;TZID=America/Anchorage:20260410T150000
DTSTAMP:20260420T102312
CREATED:20260408T194209Z
LAST-MODIFIED:20260408T195120Z
UID:10005910-1775826000-1775833200@ktna.org
SUMMARY:Computer Classes - Talkeetna Public Library
DESCRIPTION:The Friends of the Talkeetna Library host computer classes every 2nd and 4th Friday from 1 to 3pm at the Talkeetna Public Library beginning on Friday\, February 13th. The classes include: Basic Computing\, How Not to Be Fooled by Spam and AI\, Basic Internet\, Windows 11\, and more. For questions and to sign up\, call the Talkeetna Library at 907-861-7645. \nBasic Computer Classes at the Talkeetna Library \nFeb.13: Computer Basics #1 \nFebruary 27th: Computer Basics #2 \nMarch 13th: Basic Internet \nMarch 27th: Windows 11 \nApril 10th: Word processing (MS word or Libre) \nApril 24th: A.I. Basics \nMay 8th: Scam Busters
URL:https://ktna.org/events/computer-classes-talkeetna-public-library-4/
LOCATION:Talkeetna Public Library\, Talkeetna
CATEGORIES:Announcements,Calendar
END:VEVENT
BEGIN:VEVENT
DTSTART;TZID=America/Anchorage:20260410T190000
DTEND;TZID=America/Anchorage:20260410T210000
DTSTAMP:20260420T102312
CREATED:20260408T191403Z
LAST-MODIFIED:20260409T230326Z
UID:10007290-1775847600-1775854800@ktna.org
SUMMARY:Bingo - Upper Susitna Seniors
DESCRIPTION:Bingo scheduled at the Upper Susitna Community and Senior Center for April 10th has been canceled. You may call (907)733-6200 for more information.
URL:https://ktna.org/events/bingo-upper-susitna-seniors-4/
LOCATION:Upper Susitna Community and Senior Center\, 16463 E. Helena Ave. / Mile 98.5 Parks Hwy.\, Sunshine\, Alaska\, 99676
CATEGORIES:Announcements,Calendar
END:VEVENT
BEGIN:VEVENT
DTSTART;TZID=America/Anchorage:20260411T120000
DTEND;TZID=America/Anchorage:20260411T160000
DTSTAMP:20260420T102312
CREATED:20260409T191500Z
LAST-MODIFIED:20260409T191500Z
UID:10005928-1775908800-1775923200@ktna.org
SUMMARY:Talkeetna Recycling
DESCRIPTION:Talkeetna Recycling is open on Tuesdays and Saturdays from 12:00 to 4:00 pm at the Talkeetna Transfer station. Cardboard recycling is available on Saturdays only. They are always looking for volunteers. To learn more\, call Cici at (907)355-8324 and visit their Facebook Page.
URL:https://ktna.org/events/talkeetna-recycling-4-2/
LOCATION:Talkeetna Transfer Station\, Mile\, 11.5 Talkeetna Spur Rd\, Talkeetna\, AK\, 99676\, United States
CATEGORIES:Announcements,Calendar
END:VEVENT
BEGIN:VEVENT
DTSTART;TZID=America/Anchorage:20260411T170000
DTEND;TZID=America/Anchorage:20260411T190000
DTSTAMP:20260420T102312
CREATED:20260408T195956Z
LAST-MODIFIED:20260408T200040Z
UID:10008652-1775926800-1775934000@ktna.org
SUMMARY:Tween Page to Screen - Talkeetna Library
DESCRIPTION:Talkeetna Library hosts the last Tween Page to Screen program for the season on Saturday\, April 11th from 5-7pm. The book Nancy Drew and the Hidden Staircase by Carolyn Keene will be discussed and then the movie will be compared to the book. Tweens ages 9-12 are welcome.
URL:https://ktna.org/events/tween-page-to-screen-talkeetna-library-3/
LOCATION:Talkeetna Public Library\, Talkeetna
CATEGORIES:Announcements,Calendar
ORGANIZER;CN="Talkeetna Elementary PTA":MAILTO:pta.talkeetna@gmail.com
END:VEVENT
BEGIN:VEVENT
DTSTART;TZID=America/Anchorage:20260411T233000
DTEND;TZID=America/Anchorage:20260411T233000
DTSTAMP:20260420T102312
CREATED:20260325T200606Z
LAST-MODIFIED:20260407T204525Z
UID:10008398-1775950200-1775950200@ktna.org
SUMMARY:Soggy Sneaker 5K Run - Denali Arts Council
DESCRIPTION:Denali Arts Council hosts the Soggy Sneaker 5K Run as part of the Banff Film Festival festivities on Saturday\, April 11th. Bib pickup is at 11:30am at Sheldon Community Arts Hangar and the race starts at 12pm\, winding through some soggy spring snow along the Chase Trail\, and finishing at the Talkeetna Alaskan Lodge. Registration is now open for this is a fundraiser which supports Denali Arts Council. More information and registration at denaliartscouncil.org.
URL:https://ktna.org/events/soggy-sneaker-5k-run-denali-arts-council/
LOCATION:Sheldon Community Arts Hangar
CATEGORIES:Announcements,Calendar
ORGANIZER;CN="Denali Arts Council":MAILTO:https://denaliartscouncil.org/contact-us/
END:VEVENT
BEGIN:VEVENT
DTSTART;VALUE=DATE:20260413
DTEND;VALUE=DATE:20260414
DTSTAMP:20260420T102312
CREATED:20260408T193036Z
LAST-MODIFIED:20260408T200925Z
UID:10008649-1776038400-1776124799@ktna.org
SUMMARY:PTA seeking Board Members
DESCRIPTION:The Talkeetna Elementary PTA is seeking new Board Members. The PTA supports the teachers and students of Talkeetna Elementary School with a wide variety of programs centered around healthy lifestyles\, art and education. They also host Community Enrichment Activities such as Pickleball and Basketball. If you are interested in learning more please send an email to pta.talkeetna@gmail.com or call (907)733-9400.
URL:https://ktna.org/events/pta-seeking-board-members/
LOCATION:Talkeetna Elementary School
CATEGORIES:Calendar,Classifieds
ORGANIZER;CN="Talkeetna Elementary PTA":MAILTO:pta.talkeetna@gmail.com
END:VEVENT
BEGIN:VEVENT
DTSTART;TZID=America/Anchorage:20260413T183000
DTEND;TZID=America/Anchorage:20260413T183000
DTSTAMP:20260420T102312
CREATED:20260413T185502Z
LAST-MODIFIED:20260413T200650Z
UID:10008658-1776105000-1776105000@ktna.org
SUMMARY:Caswell RSA15 Road Board Meeting
DESCRIPTION:There is a Caswell RSA 15 Road board meeting meeting today (Monday\, April 13th) at 6:30PM at Sheep Creek Lodge to discuss the proposed change in the mill rate and how this will affect RSA funding. This meeting and future meetings now offer the opportunity for you to attend online or to call-in via Zoom. The Zoom Meeting Link and information is posted on the announcement at KTNA.org. \nMeeting ID: 289 753 3519\nPasscode: 594227
URL:https://ktna.org/events/caswell-rsa15-road-board-meeting/
LOCATION:Sheep Creek Lodge
CATEGORIES:Announcements,Calendar
END:VEVENT
BEGIN:VEVENT
DTSTART;VALUE=DATE:20260414
DTEND;VALUE=DATE:20260415
DTSTAMP:20260420T102312
CREATED:20260414T194400Z
LAST-MODIFIED:20260414T194400Z
UID:10008669-1776124800-1776211199@ktna.org
SUMMARY:Seeking Suggestions for National Library Week
DESCRIPTION:National Library Week begins on Monday\, April 20th. The theme this year is Find Your Joy. Daily events and surprises are being planned. If you have requests or suggestions\, you may call Talkeetna Library at 907-861-7645.
URL:https://ktna.org/events/seeking-suggestions-for-national-library-week/
LOCATION:Talkeetna Public Library\, Talkeetna
CATEGORIES:Calendar,Classifieds
END:VEVENT
BEGIN:VEVENT
DTSTART;TZID=America/Anchorage:20260414T120000
DTEND;TZID=America/Anchorage:20260414T133000
DTSTAMP:20260420T102312
CREATED:20260206T211453Z
LAST-MODIFIED:20260206T211453Z
UID:10005901-1776168000-1776173400@ktna.org
SUMMARY:Organic Gardening Class: Build Your Soil's Microbe Bank - Mat-Su College
DESCRIPTION:Mat-Su College hosts Organic Gardening: Build Your Soil’s Microbe Bank. This is an in-person organic gardening class that meets at Mat-Su College in the Snodgrass Hall (SGH) Building\, first floor in Room 117. Your soil may have all the minerals in the world–but they are useless if your garden lacks the microorganisms to deliver them to your plants. But how? Which ones? This class offers practical guidance to help your soil with helpful microbes. This 90-minute course will meet for 1 day only from 12:00-1:30 p.m. Class cost is $25. The instructor presents the material via a slideshow and with hands-on demonstrations.
URL:https://ktna.org/events/organic-gardening-class-build-your-soils-microbe-bank-mat-su-college/
LOCATION:Mat-Su College
CATEGORIES:Calendar
END:VEVENT
BEGIN:VEVENT
DTSTART;TZID=America/Anchorage:20260414T130000
DTEND;TZID=America/Anchorage:20260414T130000
DTSTAMP:20260420T102312
CREATED:20260316T230826Z
LAST-MODIFIED:20260409T234838Z
UID:10008109-1776171600-1776171600@ktna.org
SUMMARY:MatSu Borough Library Board Meeting
DESCRIPTION:The MatSu Borough Library Board is having their monthly meeting on April 14th at 1pm at the Talkeetna Public Library. You can attend in person or call in. The info to call into the meeting is in the announcement on ktna.org. \nCall 907-290-7880 Participation Code: 993 810 560#
URL:https://ktna.org/events/matsu-borough-library-board-meeting/
LOCATION:Talkeetna Public Library\, Talkeetna
CATEGORIES:Announcements,Calendar
END:VEVENT
END:VCALENDAR