BEGIN:VCALENDAR
VERSION:2.0
PRODID:-//KTNA 88.9 FM - ECPv6.15.20//NONSGML v1.0//EN
CALSCALE:GREGORIAN
METHOD:PUBLISH
X-WR-CALNAME:KTNA 88.9 FM
X-ORIGINAL-URL:https://ktna.org
X-WR-CALDESC:Events for KTNA 88.9 FM
REFRESH-INTERVAL;VALUE=DURATION:PT1H
X-Robots-Tag:noindex
X-PUBLISHED-TTL:PT1H
BEGIN:VTIMEZONE
TZID:America/Anchorage
BEGIN:DAYLIGHT
TZOFFSETFROM:-0900
TZOFFSETTO:-0800
TZNAME:AKDT
DTSTART:20250309T110000
END:DAYLIGHT
BEGIN:STANDARD
TZOFFSETFROM:-0800
TZOFFSETTO:-0900
TZNAME:AKST
DTSTART:20251102T100000
END:STANDARD
BEGIN:DAYLIGHT
TZOFFSETFROM:-0900
TZOFFSETTO:-0800
TZNAME:AKDT
DTSTART:20260308T110000
END:DAYLIGHT
BEGIN:STANDARD
TZOFFSETFROM:-0800
TZOFFSETTO:-0900
TZNAME:AKST
DTSTART:20261101T100000
END:STANDARD
BEGIN:DAYLIGHT
TZOFFSETFROM:-0900
TZOFFSETTO:-0800
TZNAME:AKDT
DTSTART:20270314T110000
END:DAYLIGHT
BEGIN:STANDARD
TZOFFSETFROM:-0800
TZOFFSETTO:-0900
TZNAME:AKST
DTSTART:20271107T100000
END:STANDARD
END:VTIMEZONE
BEGIN:VEVENT
DTSTART;TZID=America/Anchorage:20260604T190000
DTEND;TZID=America/Anchorage:20260604T190000
DTSTAMP:20260421T153437
CREATED:20250825T231855Z
LAST-MODIFIED:20251007T233228Z
UID:10004688-1780599600-1780599600@ktna.org
SUMMARY:Susitna Community Council Meeting
DESCRIPTION:The Susitna Community Council meets the first Thursday of each month at the Upper Susitna Community & Senior Center at 7 pm.
URL:https://ktna.org/events/susitna-community-council-meeting/2026-06-04/
LOCATION:Upper Susitna Community and Senior Center\, 16463 E. Helena Ave. / Mile 98.5 Parks Hwy.\, Sunshine\, Alaska\, 99676
CATEGORIES:Calendar
END:VEVENT
BEGIN:VEVENT
DTSTART;TZID=America/Anchorage:20260606T150000
DTEND;TZID=America/Anchorage:20260606T170000
DTSTAMP:20260421T153437
CREATED:20260330T222313Z
LAST-MODIFIED:20260330T222313Z
UID:10008549-1780758000-1780765200@ktna.org
SUMMARY:Art Opening - Flying Squirrel Bakery Cafe
DESCRIPTION:The Flying Squirrel Bakery & Cafe hosts an art opening on the first Saturday of each month from 3-5pm\, hors d’oeuvres are provided. Located at Mile 11 of the Talkeetna Spur Road. \nUpcoming Art Shows: \n\nApril: Marissa Goerke\, bird paintings\nMay: Jon Mann & Bill Barstow\, new pastels and paintings\nJune: TBD\nJuly: Adele Pierre\, quilts\nAugust: Abby Vohaska\, paintings\nSeptember: Amy Voricheck\, pressed plants\nOctober: Michele Cornelius\nNovember: Jennifer Kosharek
URL:https://ktna.org/events/art-opening-flying-squirrel-bakery-cafe/2026-06-06/
LOCATION:Flying Squirrel Bakery & Cafe
CATEGORIES:Calendar
END:VEVENT
BEGIN:VEVENT
DTSTART;VALUE=DATE:20260615
DTEND;VALUE=DATE:20260616
DTSTAMP:20260421T153437
CREATED:20260325T185040Z
LAST-MODIFIED:20260330T183628Z
UID:10008393-1781481600-1781567999@ktna.org
SUMMARY:Talkeetna Historical Society seeking artists
DESCRIPTION:The Talkeetna Historical Society is seeking artists to decorate wooden salmon cutouts for their upcoming Salmon Run Art Auction fundraiser. The completed artwork is due by June 15th. Those who are interested may stop by the museum between 11am and 5pm on Fridays and Saturdays or call Autumn at (907)304-0321 to coordinate a pickup time.
URL:https://ktna.org/events/talkeetna-historical-society-seeking-artists/
LOCATION:Talkeetna Museum
CATEGORIES:Calendar
ORGANIZER;CN="Talkeetna Historical Society":MAILTO:info@talkeetnahistoricalsociety.org
END:VEVENT
END:VCALENDAR