BEGIN:VCALENDAR
VERSION:2.0
PRODID:-//KTNA 88.9 FM - ECPv6.15.20//NONSGML v1.0//EN
CALSCALE:GREGORIAN
METHOD:PUBLISH
X-ORIGINAL-URL:https://ktna.org
X-WR-CALDESC:Events for KTNA 88.9 FM
REFRESH-INTERVAL;VALUE=DURATION:PT1H
X-Robots-Tag:noindex
X-PUBLISHED-TTL:PT1H
BEGIN:VTIMEZONE
TZID:America/Anchorage
BEGIN:DAYLIGHT
TZOFFSETFROM:-0900
TZOFFSETTO:-0800
TZNAME:AKDT
DTSTART:20250309T110000
END:DAYLIGHT
BEGIN:STANDARD
TZOFFSETFROM:-0800
TZOFFSETTO:-0900
TZNAME:AKST
DTSTART:20251102T100000
END:STANDARD
BEGIN:DAYLIGHT
TZOFFSETFROM:-0900
TZOFFSETTO:-0800
TZNAME:AKDT
DTSTART:20260308T110000
END:DAYLIGHT
BEGIN:STANDARD
TZOFFSETFROM:-0800
TZOFFSETTO:-0900
TZNAME:AKST
DTSTART:20261101T100000
END:STANDARD
BEGIN:DAYLIGHT
TZOFFSETFROM:-0900
TZOFFSETTO:-0800
TZNAME:AKDT
DTSTART:20270314T110000
END:DAYLIGHT
BEGIN:STANDARD
TZOFFSETFROM:-0800
TZOFFSETTO:-0900
TZNAME:AKST
DTSTART:20271107T100000
END:STANDARD
END:VTIMEZONE
BEGIN:VEVENT
DTSTART;TZID=America/Anchorage:20260415T170000
DTEND;TZID=America/Anchorage:20260415T200000
DTSTAMP:20260420T101230
CREATED:20260414T192518Z
LAST-MODIFIED:20260414T192519Z
UID:10008535-1776272400-1776283200@ktna.org
SUMMARY:Competitive Pickle Ball - Community Enrichment – Talkeetna Elementary PTA
DESCRIPTION:Talkeetna Elementary PTA hosts Competitive Pickleball for knowledgeable players seeking competitive bouts from 5 to 8 pm on Wednesdays. Attendees will rotate through games of four players at a time\, equipment is available if you do not have your own. Wednesday evening pickleball is held at Talkeetna Elementary School’s gym\, play will move outside to the hockey rink when weather and temperatures permit. For more information visit their Facebook Page or email REBECCA.HRDY@matsuk12.us.
URL:https://ktna.org/events/competitive-pickle-ball-community-enrichment-talkeetna-elementary-pta-4/
LOCATION:Talkeetna Elementary School
CATEGORIES:Announcements,Calendar
ORGANIZER;CN="Talkeetna Elementary PTA":MAILTO:pta.talkeetna@gmail.com
END:VEVENT
BEGIN:VEVENT
DTSTART;TZID=America/Anchorage:20260415T180000
DTEND;TZID=America/Anchorage:20260415T180000
DTSTAMP:20260420T101230
CREATED:20260413T183139Z
LAST-MODIFIED:20260413T183139Z
UID:10008656-1776276000-1776276000@ktna.org
SUMMARY:Chase Community Council quarterly meeting
DESCRIPTION:The quarterly meeting of the Chase Community Council Board of Directors is on Wednesday April\, 15th at 6PM at the Alaska Railroad mile 232 gravel pit.
URL:https://ktna.org/events/chase-community-council-quarterly-meeting-3/
LOCATION:Mile 232 Gravel Pit\, Chase\, AK
CATEGORIES:Announcements,Calendar
END:VEVENT
BEGIN:VEVENT
DTSTART;TZID=America/Anchorage:20260415T183000
DTEND;TZID=America/Anchorage:20260415T183000
DTSTAMP:20260420T101230
CREATED:20260413T184153Z
LAST-MODIFIED:20260413T184153Z
UID:10008657-1776277800-1776277800@ktna.org
SUMMARY:Main Street Improvement Committee meeting - Talkeetna Community Council
DESCRIPTION:The Talkeetna Community Council Main Street Improvement Committee meets on Wednesday\, April 15th at the Denali Education Center at 6:30 pm. All are welcome. Contact (907)232-0714 for more information.
URL:https://ktna.org/events/main-street-improvement-committee-meeting-talkeetna-community-council-2/
LOCATION:Denali Education Center\, Talkeetna Campus\, 22510 S Talkeetna Spur Rd\, Talkeetna\, AK\, 99676\, United States
CATEGORIES:Announcements,Calendar
END:VEVENT
BEGIN:VEVENT
DTSTART;TZID=America/Anchorage:20260416T110000
DTEND;TZID=America/Anchorage:20260416T110000
DTSTAMP:20260420T101230
CREATED:20251006T213523Z
LAST-MODIFIED:20251120T193918Z
UID:10004840-1776337200-1776337200@ktna.org
SUMMARY:Story Time - Willow Public Library
DESCRIPTION:The Willow Public Library hosts a Story Time\, followed by play time in the Willow Community Center on Thursdays beginning at 11:00am. Story Time is geared toward children up to 5 years old\, but all are welcome. You may call the Willow Library at 907-861-7655 with any questions.
URL:https://ktna.org/events/story-time-willow-public-library/2026-04-16/
LOCATION:Willow Community Center
CATEGORIES:Calendar
END:VEVENT
BEGIN:VEVENT
DTSTART;TZID=America/Anchorage:20260416T111500
DTEND;TZID=America/Anchorage:20260416T123000
DTSTAMP:20260420T101230
CREATED:20260413T200822Z
LAST-MODIFIED:20260416T184723Z
UID:10005245-1776338100-1776342600@ktna.org
SUMMARY:Storytime - Talkeetna Public Library
DESCRIPTION:Talkeetna Public Library hosts Storytime at 11:15am on Thursdays with a snack\, stories and a craft. The theme this week is Earth Day\, all are welcome. For more information\, you may call Talkeetna Library at 907-861-7645.
URL:https://ktna.org/events/storytime-talkeetna-public-library-4-2026-03-12-7/
LOCATION:Talkeetna Public Library\, Talkeetna
CATEGORIES:Calendar
END:VEVENT
BEGIN:VEVENT
DTSTART;TZID=America/Anchorage:20260416T163000
DTEND;TZID=America/Anchorage:20260416T180000
DTSTAMP:20260420T101230
CREATED:20260415T194324Z
LAST-MODIFIED:20260416T185638Z
UID:10006515-1776357000-1776362400@ktna.org
SUMMARY:Open Gym CANCELLED - Community Enrichment - Talkeetna Elementary PTA
DESCRIPTION:Talkeetna Elementary PTA normally hosts Open Gym at Talkeetna Elementary School’s gym on Thursdays from 4:30-6:00 pm. You may email REBECCA.HRDY@matsuk12.us for more information.
URL:https://ktna.org/events/open-gym-community-enrichment-talkeetna-elementary-pta-2-7/
LOCATION:Talkeetna Elementary School
CATEGORIES:Announcements,Calendar
ORGANIZER;CN="Talkeetna Elementary PTA":MAILTO:pta.talkeetna@gmail.com
END:VEVENT
BEGIN:VEVENT
DTSTART;TZID=America/Anchorage:20260416T183000
DTEND;TZID=America/Anchorage:20260416T183000
DTSTAMP:20260420T101230
CREATED:20260316T181219Z
LAST-MODIFIED:20260401T192143Z
UID:10008575-1776364200-1776364200@ktna.org
SUMMARY:Trapper Creek Community Council Meeting
DESCRIPTION:The Trapper Creek Community Council meets the 3rd Thursday of every month at 6:30pm at the Trapper Creek Community Center. All are welcome to attend.
URL:https://ktna.org/events/trapper-creek-community-council-meeting-2/2026-04-16/
LOCATION:Trapper Creek Community Center
CATEGORIES:Calendar
END:VEVENT
BEGIN:VEVENT
DTSTART;TZID=America/Anchorage:20260416T183000
DTEND;TZID=America/Anchorage:20260416T183000
DTSTAMP:20260420T101230
CREATED:20260413T200546Z
LAST-MODIFIED:20260416T190447Z
UID:10003941-1776364200-1776364200@ktna.org
SUMMARY:Trapper Creek Community Council Meeting
DESCRIPTION:The Trapper Creek Community Council meets the 3rd Thursday of every month at 6:30pm at the Trapper Creek Community Center. All are welcome to attend.
URL:https://ktna.org/events/trapper-creek-community-council-meeting-3/
LOCATION:Trapper Creek Community Center
CATEGORIES:Announcements,Calendar
END:VEVENT
BEGIN:VEVENT
DTSTART;TZID=America/Anchorage:20260416T190000
DTEND;TZID=America/Anchorage:20260416T190000
DTSTAMP:20260420T101230
CREATED:20260415T021337Z
LAST-MODIFIED:20260416T191125Z
UID:10008670-1776366000-1776366000@ktna.org
SUMMARY:Singing Zoologist Performance - Denali Arts Council
DESCRIPTION:Denali Arts Council hosts The Singing Zoologist at the Sheldon Community Arts Hangar on Thursday\, April 16th. The Singing Zoologist\, Lucas Miller\, blends music\, puppets and projected videos to keep audiences laughing\, moving\, singing and learning. This show family-friendly show is suitable for all ages. There will be pizza available\, by the slice until it runs out\, to make this a dinner-and-a-show type of event. Doors open at 6:30pm\, the performance starts at 7.  More information and tickets available at denaliartscouncil.org.
URL:https://ktna.org/events/singing-zoologist-performance-denali-arts-council/
LOCATION:Sheldon Community Arts Hangar
CATEGORIES:Announcements,Calendar
END:VEVENT
BEGIN:VEVENT
DTSTART;TZID=America/Anchorage:20260417T160000
DTEND;TZID=America/Anchorage:20260417T180000
DTSTAMP:20260420T101230
CREATED:20260417T210845Z
LAST-MODIFIED:20260417T210845Z
UID:10008734-1776441600-1776448800@ktna.org
SUMMARY:Mat-Su College Student Art Showcase
DESCRIPTION:Celebrate creativity\, vision\, and talent at the Mat-Su College Student Art Showcase\, happening April 17–25. This end-of-year exhibition showcases the exceptional work of Mat-Su Fine Art students\, featuring a diverse range of artistic expressions and innovations. \nThe Opening Celebration is on April 17 from 4–6 PM and be among the first to experience this inspiring showcase. For more information\, contact Michelle Mishaan at mlmishaan@alaska.edu. \n8295 E College Drive
URL:https://ktna.org/events/mat-su-college-student-art-showcase/
LOCATION:Mat-Su College
CATEGORIES:Calendar
END:VEVENT
BEGIN:VEVENT
DTSTART;TZID=America/Anchorage:20260418T110000
DTEND;TZID=America/Anchorage:20260418T150000
DTSTAMP:20260420T101230
CREATED:20260413T200157Z
LAST-MODIFIED:20260413T200157Z
UID:10008664-1776510000-1776524400@ktna.org
SUMMARY:Earth Day Celebration - Denali Education Center
DESCRIPTION:Denali Education Center and Jessica Stevens Community Foundation host their annual Earth Day Celebration and Nonprofit Fair on Saturday\, April 18th from 11am until 3pm at Denali Education Center’s Susitna Hall in Talkeetna. Featuring presentations on recycling and food waste\, kids’ activities and projects\, and food. This year there will be recycling collections of electronics\, small appliances\, clean glass\, miscellaneous plastic and books. Learn more by visiting Denali Education Center’s Facebook Page.
URL:https://ktna.org/events/earth-day-celebration-denali-education-center-2/
LOCATION:Denali Education Center\, Talkeetna Campus\, 22510 S Talkeetna Spur Rd\, Talkeetna\, AK\, 99676\, United States
CATEGORIES:Announcements,Calendar
END:VEVENT
BEGIN:VEVENT
DTSTART;VALUE=DATE:20260420
DTEND;VALUE=DATE:20260421
DTSTAMP:20260420T101230
CREATED:20260304T021505Z
LAST-MODIFIED:20260417T205138Z
UID:10005975-1776643200-1776729599@ktna.org
SUMMARY:KTNA Job Openings
DESCRIPTION:KTNA is hiring! We are currently looking for a full-time News Producer and part-time Development Coordinator. The News Producer writes local stories and oversees the work of staff and volunteer reporters. The Development Coordinator is responsible for KTNA’s membership and underwriting programs as well as coordination of events. Find the complete job descriptions at ktna.org. Are you curious to learn more? Stop by the station anytime Monday through Friday 10am-3pm or reach out to General Manager\, Phillip Manning with questions at (907)733-1700 or manager@ktna.org. \nInterested applicants are invited to send their resume and letter of interest to manager@ktna.org.
URL:https://ktna.org/events/ktna-job-opening/
LOCATION:AK
CATEGORIES:Calendar,Classifieds
ORGANIZER;CN="KTNA":MAILTO:info@ktna.org
END:VEVENT
BEGIN:VEVENT
DTSTART;TZID=America/Anchorage:20260420T163000
DTEND;TZID=America/Anchorage:20260420T180000
DTSTAMP:20260420T101230
CREATED:20260413T190319Z
LAST-MODIFIED:20260413T190319Z
UID:10004524-1776702600-1776708000@ktna.org
SUMMARY:KTNA Board of Directors Meeting
DESCRIPTION:The KTNA Board of Directors meets the third Monday of the month at 4:30pm at the station on 2nd Street in Talkeetna. All are welcome. For more information\, call 907-733-1700 or email manager@ktna.org.
URL:https://ktna.org/events/ktna-board-of-directors-meeting-5-2025-04-21-2/
LOCATION:KTNA\, 13764 E. Second Street\, Talkeetna\, 99676\, United States
CATEGORIES:Announcements,Calendar
ORGANIZER;CN="KTNA":MAILTO:info@ktna.org
END:VEVENT
BEGIN:VEVENT
DTSTART;TZID=America/Anchorage:20260421T060000
DTEND;TZID=America/Anchorage:20260421T180000
DTSTAMP:20260420T101230
CREATED:20260417T190920Z
LAST-MODIFIED:20260417T190920Z
UID:10008732-1776751200-1776794400@ktna.org
SUMMARY:Talkeetna Skatepark Committee Meeting
DESCRIPTION:The next Talkeetna Skatepark Committee Meeting is on Tuesday\, April 21st at 6pm at the Talkeetna Public Library. All are welcome. To contact the committee you can email them at tkaskatepark@gmail.com.
URL:https://ktna.org/events/talkeetna-skatepark-committee-meeting-18/
LOCATION:Talkeetna Public Library\, Talkeetna
CATEGORIES:Announcements,Calendar
END:VEVENT
BEGIN:VEVENT
DTSTART;TZID=America/Anchorage:20260421T120000
DTEND;TZID=America/Anchorage:20260421T133000
DTSTAMP:20260420T101230
CREATED:20260206T211706Z
LAST-MODIFIED:20260206T211706Z
UID:10005902-1776772800-1776778200@ktna.org
SUMMARY:Organic Gardening Class: Your Soil's Health Care Plan - Mat-Su College
DESCRIPTION:Mat-Su College hosts Organic Gardening: Your Soil’s Health Care Plan. This is an in-person organic gardening class that meets at Mat-Su College in the Snodgrass Hall (SGH) Building\, first floor in Room 117. Unlock the power of cover crops\, green manures\, compost\, and mulches. Discover how to use and time them for constantly regenerating your garden’s vigor and production. This 90-minute course will meet for 1 day only from 12:00-1:30 p.m. Class cost is $25. The instructor presents the material via a slideshow and with hands-on demonstrations. \n 
URL:https://ktna.org/events/organic-gardening-class-your-soils-health-care-plan-mat-su-college/
LOCATION:Mat-Su College
CATEGORIES:Calendar
END:VEVENT
BEGIN:VEVENT
DTSTART;TZID=America/Anchorage:20260422T140000
DTEND;TZID=America/Anchorage:20260422T190000
DTSTAMP:20260420T101230
CREATED:20260302T213735Z
LAST-MODIFIED:20260302T213735Z
UID:10005974-1776866400-1776884400@ktna.org
SUMMARY:Mat-Su College 2026 Spring Open House
DESCRIPTION:Mat-Su College hosts their 2026 Spring Open House on Wednesday\, April 22nd. The event will be held on campus from 2 to 7pm. Whether you’re a high school student or looking to level up your career\, all are welcome to explore the campus\, meet some faculty and experience the atmosphere at Mat-Su College. Learn more at matsu.alaska.edu.
URL:https://ktna.org/events/mat-su-college-2026-spring-open-house/
LOCATION:Mat-Su College
CATEGORIES:Calendar
END:VEVENT
BEGIN:VEVENT
DTSTART;TZID=America/Anchorage:20260424T130000
DTEND;TZID=America/Anchorage:20260424T150000
DTSTAMP:20260420T101230
CREATED:20260210T203442Z
LAST-MODIFIED:20260304T204733Z
UID:10005911-1777035600-1777042800@ktna.org
SUMMARY:Computer Classes - Talkeetna Public Library
DESCRIPTION:The Friends of the Talkeetna Library host computer classes every 2nd and 4th Friday from 1 to 3pm at the Talkeetna Public Library beginning on Friday\, February 13th. The classes include: Basic Computing\, How Not to Be Fooled by Spam and AI\, Basic Internet\, Windows 11\, and more. For questions and to sign up\, call the Talkeetna Library at 907-861-7645. \nBasic Computer Classes at the Talkeetna Library \nFeb.13: Computer Basics #1 \nFebruary 27th: Computer Basics #2 \nMarch 13th: Basic Internet \nMarch 27th: Windows 11 \nApril 10th: Word processing (MS word or Libre) \nApril 24th: A.I. Basics \nMay 8th: Scam Busters
URL:https://ktna.org/events/computer-classes-talkeetna-public-library/2026-04-24/
LOCATION:Talkeetna Public Library\, Talkeetna
CATEGORIES:Calendar
END:VEVENT
BEGIN:VEVENT
DTSTART;TZID=America/Anchorage:20260424T190000
DTEND;TZID=America/Anchorage:20260424T210000
DTSTAMP:20260420T101230
CREATED:20260310T201108Z
LAST-MODIFIED:20260310T201108Z
UID:10007291-1777057200-1777064400@ktna.org
SUMMARY:Bingo - Upper Susitna Seniors
DESCRIPTION:The Upper Susitna Seniors host Bingo every other Friday from 7 to 9pm at the Upper Susitna Community and Senior Center. All are welcome. You may call (907)733-6200 for more information.
URL:https://ktna.org/events/bingo-upper-susitna-seniors/2026-04-24/
LOCATION:Upper Susitna Community and Senior Center\, 16463 E. Helena Ave. / Mile 98.5 Parks Hwy.\, Sunshine\, Alaska\, 99676
CATEGORIES:Calendar
END:VEVENT
BEGIN:VEVENT
DTSTART;TZID=America/Anchorage:20260425T070000
DTEND;TZID=America/Anchorage:20260425T210000
DTSTAMP:20260420T101230
CREATED:20260415T194655Z
LAST-MODIFIED:20260415T194655Z
UID:10008673-1777100400-1777150800@ktna.org
SUMMARY:Community Gathering & Potluck-  KTNA
DESCRIPTION:We’re taking a trip down memory lane! KTNA is hosting a casual community gathering featuring a screening of the KTNA Millennium Concert from April 22\, 2000. This footage was recently digitized\, and we are excited to bring it back to the community 26 years after the original performance. We’ll be celebrating with a potluck\, you are welcome to bring something to share… or just bring yourself! That’s from 7 to 9pm on Saturday\, April 25th at the Sheldon Community Arts Hangar. We look forward to sharing this blast from the past with you all!
URL:https://ktna.org/events/community-gathering-potluck-ktna/
LOCATION:Sheldon Community Arts Hangar
CATEGORIES:Calendar
ORGANIZER;CN="Talkeetna Community Radio%2C Inc.":MAILTO:supportktna@ktna.org
END:VEVENT
BEGIN:VEVENT
DTSTART;TZID=America/Anchorage:20260425T100000
DTEND;TZID=America/Anchorage:20260425T140000
DTSTAMP:20260420T101230
CREATED:20260415T192811Z
LAST-MODIFIED:20260415T192811Z
UID:10008671-1777111200-1777125600@ktna.org
SUMMARY:DEA National Drug Take-Back Day - Matanuska-Susitna Borough
DESCRIPTION:The DEA National Drug Take-Back Day is on Saturday\, April 25th. There are two drop off locations available in the Susitna Valley from 10am to 2pm – at the Wasilla and Palmer Fred Meyers. All are welcome to drop off unused or expired medications in original packaging or a generic bag\, without your personal information. Liquid products\, such as cough syrup\, should remain tightly sealed in the original container. Syringes and medical waste cannot be accepted. Turning in unused medications reduces prescription drug abuse and accidental poisoning\, and protects local waterways and the environment. You may call Mary Miller at (907)861-8557 or email MMiller@matsugov.us with any questions.
URL:https://ktna.org/events/dea-national-drug-take-back-day-matanuska-susitna-borough/
LOCATION:AK
CATEGORIES:Announcements,Calendar
END:VEVENT
BEGIN:VEVENT
DTSTART;VALUE=DATE:20260501
DTEND;VALUE=DATE:20260502
DTSTAMP:20260420T101230
CREATED:20260211T021509Z
LAST-MODIFIED:20260211T021509Z
UID:10005175-1777593600-1777679999@ktna.org
SUMMARY:Scholarship opportunity - Sunshine Community Health Center
DESCRIPTION:Sunshine Community Health Center (SCHC) Student Scholarship Program supports high school seniors pursuing degrees or certificates in health care\, behavioral health\, and social services by awarding scholarships of up to $2\,500. These scholarships recognize students who have demonstrated leadership\, community involvement\, and a dedication to wellness\, helping to build a stronger health workforce in the Matanuska-Susitna Valley and beyond.\nThe application period is open and the deadline is May 1st. Eligible students must reside in zip codes 99676\, 99688\, or 99683. \nThe link to apply is in the announcement on ktna.org. \nEmail scholarship@sunshineclinic.org or call 1-907-376-2273 (CARE) with any questions.
URL:https://ktna.org/events/scholarship-opportunity-sunshine-community-health-center/
LOCATION:AK
END:VEVENT
BEGIN:VEVENT
DTSTART;VALUE=DATE:20260502
DTEND;VALUE=DATE:20260513
DTSTAMP:20260420T101230
CREATED:20260417T191836Z
LAST-MODIFIED:20260417T191836Z
UID:10008733-1777680000-1778630399@ktna.org
SUMMARY:Denali Arts Council is Hiring
DESCRIPTION:Denali Arts Council is hiring an Administrative Manager. Full-time\, must have strong organizational\, office\, and Excel skills\, and enjoy teamwork and event coordination. A love for the arts is also a must. Interested applicants must submit their resume and letter of interest to michelle@denaliartscouncil.org by May 2nd. A full job description is available at denaliartscouncil.org\, for more information contact Denali Arts Council.
URL:https://ktna.org/events/denali-arts-council-is-hiring/
LOCATION:Sheldon Community Arts Hangar
CATEGORIES:Calendar,Classifieds
ORGANIZER;CN="Denali Arts Council":MAILTO:https://denaliartscouncil.org/contact-us/
END:VEVENT
BEGIN:VEVENT
DTSTART;TZID=America/Anchorage:20260502T150000
DTEND;TZID=America/Anchorage:20260502T170000
DTSTAMP:20260420T101230
CREATED:20260330T222313Z
LAST-MODIFIED:20260330T222313Z
UID:10008548-1777734000-1777741200@ktna.org
SUMMARY:Art Opening - Flying Squirrel Bakery Cafe
DESCRIPTION:The Flying Squirrel Bakery & Cafe hosts an art opening on the first Saturday of each month from 3-5pm\, hors d’oeuvres are provided. Located at Mile 11 of the Talkeetna Spur Road. \nUpcoming Art Shows: \n\nApril: Marissa Goerke\, bird paintings\nMay: Jon Mann & Bill Barstow\, new pastels and paintings\nJune: TBD\nJuly: Adele Pierre\, quilts\nAugust: Abby Vohaska\, paintings\nSeptember: Amy Voricheck\, pressed plants\nOctober: Michele Cornelius\nNovember: Jennifer Kosharek
URL:https://ktna.org/events/art-opening-flying-squirrel-bakery-cafe/2026-05-02/
LOCATION:Flying Squirrel Bakery & Cafe
CATEGORIES:Calendar
END:VEVENT
BEGIN:VEVENT
DTSTART;TZID=America/Anchorage:20260504T190000
DTEND;TZID=America/Anchorage:20260504T190000
DTSTAMP:20260420T101230
CREATED:20260105T201209Z
LAST-MODIFIED:20260326T202140Z
UID:10008404-1777921200-1777921200@ktna.org
SUMMARY:Talkeetna Community Council monthly meeting
DESCRIPTION:The Talkeetna Community Council meets the first Monday of each month at 7pm at the Talkeetna Public Library and over Zoom. Visit talkeetnacouncil.org for more information including the Zoom link.
URL:https://ktna.org/events/talkeetna-community-council-monthly-meeting-3/2026-05-04/
LOCATION:Talkeetna Public Library\, Talkeetna
CATEGORIES:Calendar
END:VEVENT
BEGIN:VEVENT
DTSTART;TZID=America/Anchorage:20260506T190000
DTEND;TZID=America/Anchorage:20260506T190000
DTSTAMP:20260420T101230
CREATED:20250929T195421Z
LAST-MODIFIED:20250929T195421Z
UID:10005677-1778094000-1778094000@ktna.org
SUMMARY:WACO Monthly Meeting
DESCRIPTION:The Willow Area Community Organization’s (WACO) monthly meetings are held at 7pm on the first Wednesday of every month at the Willow Community Center. More information at waco-ak.org
URL:https://ktna.org/events/waco-monthly-meeting/2026-05-06/
LOCATION:Willow Community Center
CATEGORIES:Calendar
ORGANIZER;CN="Willow Area Community Organization":MAILTO:admin@waco-ak.org
END:VEVENT
BEGIN:VEVENT
DTSTART;TZID=America/Anchorage:20260507T190000
DTEND;TZID=America/Anchorage:20260507T190000
DTSTAMP:20260420T101230
CREATED:20250825T231855Z
LAST-MODIFIED:20251007T233228Z
UID:10004687-1778180400-1778180400@ktna.org
SUMMARY:Susitna Community Council Meeting
DESCRIPTION:The Susitna Community Council meets the first Thursday of each month at the Upper Susitna Community & Senior Center at 7 pm.
URL:https://ktna.org/events/susitna-community-council-meeting/2026-05-07/
LOCATION:Upper Susitna Community and Senior Center\, 16463 E. Helena Ave. / Mile 98.5 Parks Hwy.\, Sunshine\, Alaska\, 99676
CATEGORIES:Calendar
END:VEVENT
BEGIN:VEVENT
DTSTART;VALUE=DATE:20260522
DTEND;VALUE=DATE:20260523
DTSTAMP:20260420T101230
CREATED:20260414T191745Z
LAST-MODIFIED:20260414T191745Z
UID:10008666-1779408000-1779494399@ktna.org
SUMMARY:Seeking Volunteers & Ideas for Discovery Days at Talkeetna Elementary
DESCRIPTION:Talkeetna Elementary School is hosting Discovery Days on Monday\, May 18th through Wednesday\, May 20th\, from 9:00 to 11:15 AM\, and they are looking for community volunteers. Discovery Days give students a chance to explore hands-on activities—from art and music to outdoor skills\, STEM\, and local business experiences. If you have a hobby\, skill\, or passion you’d like to share\, please email teachers Suzi or Kelsey at susan.reichert@matsuk12.us and kelsey.wakefield@matsuk12.us.
URL:https://ktna.org/events/seeking-volunteers-ideas-for-discovery-days-at-talkeetna-elementary/
LOCATION:AK
CATEGORIES:Calendar,Classifieds
END:VEVENT
BEGIN:VEVENT
DTSTART;TZID=America/Anchorage:20260530T110000
DTEND;TZID=America/Anchorage:20260530T140000
DTSTAMP:20260420T101230
CREATED:20260403T214013Z
LAST-MODIFIED:20260403T215251Z
UID:10008638-1780138800-1780149600@ktna.org
SUMMARY:Emergency Preparedness Fair - CERT
DESCRIPTION:The Willow\, Talkeetna and Trapper Creek CERT host the 5th Biennial Su Valley Emergency Preparedness Fair at the Willow Community Center from 11am until 2pm on Saturday\, May 30th\, with education about preparedness for earthquakes\, wildfires\, floods\, CPR\, first aid\, and backcountry safety. There will be indoor and outdoor exhibits with family activities for all ages\, including live demonstrations\, an earthquake escape room\, door prizes and vendors. For more information you may contact Brenda McCain at (907)355-1418 or brendalmccain@gmail.com.
URL:https://ktna.org/events/emergency-preparedness-fair-cert/
LOCATION:Willow Community Center
CATEGORIES:Calendar
END:VEVENT
BEGIN:VEVENT
DTSTART;VALUE=DATE:20260615
DTEND;VALUE=DATE:20260616
DTSTAMP:20260420T101230
CREATED:20260325T185040Z
LAST-MODIFIED:20260330T183628Z
UID:10008393-1781481600-1781567999@ktna.org
SUMMARY:Talkeetna Historical Society seeking artists
DESCRIPTION:The Talkeetna Historical Society is seeking artists to decorate wooden salmon cutouts for their upcoming Salmon Run Art Auction fundraiser. The completed artwork is due by June 15th. Those who are interested may stop by the museum between 11am and 5pm on Fridays and Saturdays or call Autumn at (907)304-0321 to coordinate a pickup time.
URL:https://ktna.org/events/talkeetna-historical-society-seeking-artists/
LOCATION:Talkeetna Museum
CATEGORIES:Calendar
ORGANIZER;CN="Talkeetna Historical Society":MAILTO:info@talkeetnahistoricalsociety.org
END:VEVENT
END:VCALENDAR