BEGIN:VCALENDAR
VERSION:2.0
PRODID:-//KTNA 88.9 FM - ECPv6.15.20//NONSGML v1.0//EN
CALSCALE:GREGORIAN
METHOD:PUBLISH
X-ORIGINAL-URL:https://ktna.org
X-WR-CALDESC:Events for KTNA 88.9 FM
REFRESH-INTERVAL;VALUE=DURATION:PT1H
X-Robots-Tag:noindex
X-PUBLISHED-TTL:PT1H
BEGIN:VTIMEZONE
TZID:America/Anchorage
BEGIN:DAYLIGHT
TZOFFSETFROM:-0900
TZOFFSETTO:-0800
TZNAME:AKDT
DTSTART:20230312T110000
END:DAYLIGHT
BEGIN:STANDARD
TZOFFSETFROM:-0800
TZOFFSETTO:-0900
TZNAME:AKST
DTSTART:20231105T100000
END:STANDARD
BEGIN:DAYLIGHT
TZOFFSETFROM:-0900
TZOFFSETTO:-0800
TZNAME:AKDT
DTSTART:20240310T110000
END:DAYLIGHT
BEGIN:STANDARD
TZOFFSETFROM:-0800
TZOFFSETTO:-0900
TZNAME:AKST
DTSTART:20241103T100000
END:STANDARD
BEGIN:DAYLIGHT
TZOFFSETFROM:-0900
TZOFFSETTO:-0800
TZNAME:AKDT
DTSTART:20250309T110000
END:DAYLIGHT
BEGIN:STANDARD
TZOFFSETFROM:-0800
TZOFFSETTO:-0900
TZNAME:AKST
DTSTART:20251102T100000
END:STANDARD
END:VTIMEZONE
BEGIN:VEVENT
DTSTART;TZID=America/Anchorage:20240519T090000
DTEND;TZID=America/Anchorage:20240519T140000
DTSTAMP:20260423T162739
CREATED:20240508T182124Z
LAST-MODIFIED:20241030T224723Z
UID:10003616-1716109200-1716127200@ktna.org
SUMMARY:Spur Road Clean-Up
DESCRIPTION:Impact Alaska and Church on the Rock host a Spur Road Cleanup on May 19th from 9am until 12pm. Volunteers meet at the Sunshine “Y” parking area and branch out from there. There will be a community BBQ lunch provided at Church on the Rock after the cleanup. Mile 99 Parks Highway. For more information you may visit churchak.ccbchurch.com or call Alison at (907)841-8953.
URL:https://ktna.org/events/spur-road-clean-up/
LOCATION:Church on the Rock\, Mile 99\, S Parks Highway\, Talkeetna\, 99676\, United States
CATEGORIES:Calendar
END:VEVENT
END:VCALENDAR