BEGIN:VCALENDAR
VERSION:2.0
PRODID:-//KTNA 88.9 FM - ECPv6.15.20//NONSGML v1.0//EN
CALSCALE:GREGORIAN
METHOD:PUBLISH
X-ORIGINAL-URL:https://ktna.org
X-WR-CALDESC:Events for KTNA 88.9 FM
REFRESH-INTERVAL;VALUE=DURATION:PT1H
X-Robots-Tag:noindex
X-PUBLISHED-TTL:PT1H
BEGIN:VTIMEZONE
TZID:America/Anchorage
BEGIN:DAYLIGHT
TZOFFSETFROM:-0900
TZOFFSETTO:-0800
TZNAME:AKDT
DTSTART:20230312T110000
END:DAYLIGHT
BEGIN:STANDARD
TZOFFSETFROM:-0800
TZOFFSETTO:-0900
TZNAME:AKST
DTSTART:20231105T100000
END:STANDARD
BEGIN:DAYLIGHT
TZOFFSETFROM:-0900
TZOFFSETTO:-0800
TZNAME:AKDT
DTSTART:20240310T110000
END:DAYLIGHT
BEGIN:STANDARD
TZOFFSETFROM:-0800
TZOFFSETTO:-0900
TZNAME:AKST
DTSTART:20241103T100000
END:STANDARD
BEGIN:DAYLIGHT
TZOFFSETFROM:-0900
TZOFFSETTO:-0800
TZNAME:AKDT
DTSTART:20250309T110000
END:DAYLIGHT
BEGIN:STANDARD
TZOFFSETFROM:-0800
TZOFFSETTO:-0900
TZNAME:AKST
DTSTART:20251102T100000
END:STANDARD
END:VTIMEZONE
BEGIN:VEVENT
DTSTART;TZID=America/Anchorage:20241005T183000
DTEND;TZID=America/Anchorage:20241005T210000
DTSTAMP:20260424T115049
CREATED:20240924T184017Z
LAST-MODIFIED:20241030T224614Z
UID:10003720-1728153000-1728162000@ktna.org
SUMMARY:An Evening of One Act Plays - Denali Drama
DESCRIPTION:Denali Arts Council is hosting the following events at the Sheldon Community Arts Hangar: \n\nDenali Drama presents An Evening of One Act Plays for two weekends; September 27th\, & 28th and October 4th & 5th. There will be four performances which include a spoof of Hamlet and a locally written play. Doors open at 6:30 and the shows start at 7pm.\n\nFor more information about the shows and to purchase tickets for shows\, you may visit denaliartscouncil.org or call (907) 733-7929.
URL:https://ktna.org/events/an-evening-of-one-act-plays-denali-drama-4/
LOCATION:Sheldon Community Arts Hangar
CATEGORIES:Calendar
END:VEVENT
BEGIN:VEVENT
DTSTART;TZID=America/Anchorage:20241004T183000
DTEND;TZID=America/Anchorage:20241004T210000
DTSTAMP:20260424T115049
CREATED:20240924T183829Z
LAST-MODIFIED:20241030T224614Z
UID:10003719-1728066600-1728075600@ktna.org
SUMMARY:An Evening of One Act Plays - Denali Drama
DESCRIPTION:Denali Arts Council is hosting the following events at the Sheldon Community Arts Hangar: \n\nDenali Drama presents An Evening of One Act Plays for two weekends; September 27th\, & 28th and October 4th & 5th. There will be four performances which include a spoof of Hamlet and a locally written play. Doors open at 6:30 and the shows start at 7pm.\n\nFor more information about the shows and to purchase tickets for shows\, you may visit denaliartscouncil.org or call (907) 733-7929.
URL:https://ktna.org/events/an-evening-of-one-act-plays-denali-drama-3/
LOCATION:Sheldon Community Arts Hangar
CATEGORIES:Calendar
END:VEVENT
BEGIN:VEVENT
DTSTART;TZID=America/Anchorage:20240928T183000
DTEND;TZID=America/Anchorage:20240928T210000
DTSTAMP:20260424T115049
CREATED:20240924T183801Z
LAST-MODIFIED:20241030T224616Z
UID:10003718-1727548200-1727557200@ktna.org
SUMMARY:An Evening of One Act Plays - Denali Drama
DESCRIPTION:Denali Arts Council is hosting the following events at the Sheldon Community Arts Hangar: \n\nDenali Drama presents An Evening of One Act Plays for two weekends; September 27th\, & 28th and October 4th & 5th. There will be four performances which include a spoof of Hamlet and a locally written play. Doors open at 6:30 and the shows start at 7pm.\n\nFor more information about the shows and to purchase tickets for shows\, you may visit denaliartscouncil.org or call (907) 733-7929.
URL:https://ktna.org/events/an-evening-of-one-act-plays-denali-drama-2/
LOCATION:Sheldon Community Arts Hangar
CATEGORIES:Calendar
END:VEVENT
BEGIN:VEVENT
DTSTART;TZID=America/Anchorage:20240927T183000
DTEND;TZID=America/Anchorage:20240927T210000
DTSTAMP:20260424T115049
CREATED:20240924T183720Z
LAST-MODIFIED:20241030T224616Z
UID:10003717-1727461800-1727470800@ktna.org
SUMMARY:An Evening of One Act Plays - Denali Drama
DESCRIPTION:Denali Arts Council is hosting the following events at the Sheldon Community Arts Hangar: \n\nDenali Drama presents An Evening of One Act Plays for two weekends; September 27th\, & 28th and October 4th & 5th. There will be four performances which include a spoof of Hamlet and a locally written play. Doors open at 6:30 and the shows start at 7pm.\n\nFor more information about the shows and to purchase tickets for shows\, you may visit denaliartscouncil.org or call (907) 733-7929.
URL:https://ktna.org/events/an-evening-of-one-act-plays-denali-drama/
LOCATION:Sheldon Community Arts Hangar
CATEGORIES:Calendar
END:VEVENT
BEGIN:VEVENT
DTSTART;TZID=America/Anchorage:20240915T160000
DTEND;TZID=America/Anchorage:20240915T180000
DTSTAMP:20260424T115049
CREATED:20240820T215827Z
LAST-MODIFIED:20241030T224617Z
UID:10003879-1726416000-1726423200@ktna.org
SUMMARY:Denali Drama play reading - Sheldon Community Arts Hangar
DESCRIPTION:Denali Drama hosts an informal reading of Memory Care by Joe Page from 4 to 6pm on Sunday\, September 15th at the Sheldon Community Arts Center. Readers and audience are invited to attend. \nHave you written or know of a one-act or 10 minute play you’d like to stage? Playwrights\, directors\, actors\, and crew are invited to discuss and schedule future productions. You may email joepage52@hotmail.com for more information.
URL:https://ktna.org/events/denali-drama-play-reading-sheldon-community-arts-hangar-2/
LOCATION:Sheldon Community Arts Hangar
CATEGORIES:Calendar
END:VEVENT
BEGIN:VEVENT
DTSTART;TZID=America/Anchorage:20240826T170000
DTEND;TZID=America/Anchorage:20240826T190000
DTSTAMP:20260424T115049
CREATED:20240823T195836Z
LAST-MODIFIED:20241030T224620Z
UID:10003889-1724691600-1724698800@ktna.org
SUMMARY:Denali Drama Auditions
DESCRIPTION:Denali Drama is seeking actors for one act plays. Auditions will be held on Monday\, August 26th at 5 PM at the Sheldon Community Arts Hangar. For more information\, or if you cannot make Monday’s audition\, you may call Kathy Trump at 907-315-8775
URL:https://ktna.org/events/denali-drama-auditions/
LOCATION:Sheldon Community Arts Hangar
CATEGORIES:Calendar
END:VEVENT
BEGIN:VEVENT
DTSTART;TZID=America/Anchorage:20240808T070000
DTEND;TZID=America/Anchorage:20240808T210000
DTSTAMP:20260424T115049
CREATED:20240801T185227Z
LAST-MODIFIED:20241030T231133Z
UID:10003694-1723100400-1723150800@ktna.org
SUMMARY:Denali Drama play reading - Sheldon Community Arts Hangar
DESCRIPTION:Denali Drama hosts monthly\, informal play readings at the Sheldon Community Arts Hangar the second Thursday of each month at 7 pm. \n\nYou Can’t Take It With You\, by Kaufman and Hart is on Thursday\, August 8th.\n\nHave you written or know of a one-act or 10 minute play you’d like to stage? Playwrights\, directors\, actors\, and crew are invited to discuss and schedule future productions. You may email joepage52@hotmail.com for more information.
URL:https://ktna.org/events/denali-drama-play-reading-sheldon-community-arts-hangar/
LOCATION:Sheldon Community Arts Hangar
CATEGORIES:Calendar
END:VEVENT
END:VCALENDAR