BEGIN:VCALENDAR
VERSION:2.0
PRODID:-//KTNA 88.9 FM - ECPv6.15.20//NONSGML v1.0//EN
CALSCALE:GREGORIAN
METHOD:PUBLISH
X-ORIGINAL-URL:https://ktna.org
X-WR-CALDESC:Events for KTNA 88.9 FM
REFRESH-INTERVAL;VALUE=DURATION:PT1H
X-Robots-Tag:noindex
X-PUBLISHED-TTL:PT1H
BEGIN:VTIMEZONE
TZID:America/Anchorage
BEGIN:DAYLIGHT
TZOFFSETFROM:-0900
TZOFFSETTO:-0800
TZNAME:AKDT
DTSTART:20240310T110000
END:DAYLIGHT
BEGIN:STANDARD
TZOFFSETFROM:-0800
TZOFFSETTO:-0900
TZNAME:AKST
DTSTART:20241103T100000
END:STANDARD
BEGIN:DAYLIGHT
TZOFFSETFROM:-0900
TZOFFSETTO:-0800
TZNAME:AKDT
DTSTART:20250309T110000
END:DAYLIGHT
BEGIN:STANDARD
TZOFFSETFROM:-0800
TZOFFSETTO:-0900
TZNAME:AKST
DTSTART:20251102T100000
END:STANDARD
BEGIN:DAYLIGHT
TZOFFSETFROM:-0900
TZOFFSETTO:-0800
TZNAME:AKDT
DTSTART:20260308T110000
END:DAYLIGHT
BEGIN:STANDARD
TZOFFSETFROM:-0800
TZOFFSETTO:-0900
TZNAME:AKST
DTSTART:20261101T100000
END:STANDARD
BEGIN:DAYLIGHT
TZOFFSETFROM:-0900
TZOFFSETTO:-0800
TZNAME:AKDT
DTSTART:20270314T110000
END:DAYLIGHT
BEGIN:STANDARD
TZOFFSETFROM:-0800
TZOFFSETTO:-0900
TZNAME:AKST
DTSTART:20271107T100000
END:STANDARD
END:VTIMEZONE
BEGIN:VEVENT
DTSTART;TZID=America/Anchorage:20260225T183000
DTEND;TZID=America/Anchorage:20260225T183000
DTSTAMP:20260424T014722
CREATED:20260223T215737Z
LAST-MODIFIED:20260223T215737Z
UID:10005921-1772044200-1772044200@ktna.org
SUMMARY:The Friends of Benka Lake - Quarterly Meeting
DESCRIPTION:The Friends of Benka Lake are holding their quarterly meeting Wednesday\, February 25th at 6:30pm at the Talkeetna VFW. All are welcome.  You may call Forrest with any questions at (907)355-3179.
URL:https://ktna.org/events/the-friends-of-benka-lake-quarterly-meeting-2/
LOCATION:VFW Post on Veterens Way in Talkeetna
CATEGORIES:Announcements,Calendar
END:VEVENT
BEGIN:VEVENT
DTSTART;TZID=America/Anchorage:20260211T183000
DTEND;TZID=America/Anchorage:20260211T183000
DTSTAMP:20260424T014722
CREATED:20260210T204414Z
LAST-MODIFIED:20260211T225923Z
UID:10005914-1770834600-1770834600@ktna.org
SUMMARY:The Friends of Benka Lake - Quarterly Meeting
DESCRIPTION:The Friends of Benka Lake have postponed their quarterly meeting due to the weather. They will announce the rescheduled date at a further time. You may call Forrest with any questions at (907)355-3179. \nThe meeting was scheduled for Wednesday\, February 11th at 6:30pm at the Talkeetna VFW. All are welcome.
URL:https://ktna.org/events/the-friends-of-benka-lake-quarterly-meeting/
LOCATION:VFW Post on Veterens Way in Talkeetna
CATEGORIES:Announcements,Calendar
END:VEVENT
BEGIN:VEVENT
DTSTART;TZID=America/Anchorage:20251119T180000
DTEND;TZID=America/Anchorage:20251119T180000
DTSTAMP:20260424T014722
CREATED:20251117T202609Z
LAST-MODIFIED:20251118T202203Z
UID:10004934-1763575200-1763575200@ktna.org
SUMMARY:Friends of Benka Lake Meeting
DESCRIPTION:The public is welcome to the quarterly meeting of the Friends of Benka Lake at the Talkeetna VFW post on Wednesday\, November 19th at 6pm.
URL:https://ktna.org/events/friends-of-benka-lake-meeting/
LOCATION:VFW Post on Veterens Way in Talkeetna
CATEGORIES:Announcements,Calendar
END:VEVENT
BEGIN:VEVENT
DTSTART;TZID=America/Anchorage:20250528T183000
DTEND;TZID=America/Anchorage:20250528T183000
DTSTAMP:20260424T014722
CREATED:20250509T190815Z
LAST-MODIFIED:20250522T181917Z
UID:10005168-1748457000-1748457000@ktna.org
SUMMARY:Friends of Benka Lake quarterly board meeting
DESCRIPTION:The quarterly board meeting of the Friends of Benka Lake is Wednesday\, May 28th at 6:30pm at the VFW post 3836. For any questions you may call Forrest at 907-355-3179 or check the Friends of Benka Lake Facebook page.
URL:https://ktna.org/events/friends-of-benka-lake-quarterly-board-meeting/
LOCATION:VFW Post on Veterens Way in Talkeetna
CATEGORIES:Announcements,Calendar
END:VEVENT
END:VCALENDAR