BEGIN:VCALENDAR
VERSION:2.0
PRODID:-//KTNA 88.9 FM - ECPv6.15.20//NONSGML v1.0//EN
CALSCALE:GREGORIAN
METHOD:PUBLISH
X-WR-CALNAME:KTNA 88.9 FM
X-ORIGINAL-URL:https://ktna.org
X-WR-CALDESC:Events for KTNA 88.9 FM
REFRESH-INTERVAL;VALUE=DURATION:PT1H
X-Robots-Tag:noindex
X-PUBLISHED-TTL:PT1H
BEGIN:VTIMEZONE
TZID:America/Anchorage
BEGIN:DAYLIGHT
TZOFFSETFROM:-0900
TZOFFSETTO:-0800
TZNAME:AKDT
DTSTART:20240310T110000
END:DAYLIGHT
BEGIN:STANDARD
TZOFFSETFROM:-0800
TZOFFSETTO:-0900
TZNAME:AKST
DTSTART:20241103T100000
END:STANDARD
BEGIN:DAYLIGHT
TZOFFSETFROM:-0900
TZOFFSETTO:-0800
TZNAME:AKDT
DTSTART:20250309T110000
END:DAYLIGHT
BEGIN:STANDARD
TZOFFSETFROM:-0800
TZOFFSETTO:-0900
TZNAME:AKST
DTSTART:20251102T100000
END:STANDARD
BEGIN:DAYLIGHT
TZOFFSETFROM:-0900
TZOFFSETTO:-0800
TZNAME:AKDT
DTSTART:20260308T110000
END:DAYLIGHT
BEGIN:STANDARD
TZOFFSETFROM:-0800
TZOFFSETTO:-0900
TZNAME:AKST
DTSTART:20261101T100000
END:STANDARD
END:VTIMEZONE
BEGIN:VEVENT
DTSTART;TZID=America/Anchorage:20250429T113000
DTEND;TZID=America/Anchorage:20250429T123000
DTSTAMP:20260422T131521
CREATED:20250422T172951Z
LAST-MODIFIED:20250429T201133Z
UID:10004989-1745926200-1745929800@ktna.org
SUMMARY:Mat-Su Health Foundation Focus Group
DESCRIPTION:The Mat-Su Health Foundation is hosting a discussion group with a focus on community health needs at the Talkeetna Public Library on Tuesday\, April 29th from 11:30am until 12:30pm. Discussions will include what opportunities support health and wellbeing\, and what services and healthcare access are needed in your community. Pre-registration is not required\, but is appreciated. You can find the Registration Link on KTNA’s Announcement’s Page. You may call 907-352-4411 for more information.
URL:https://ktna.org/events/mat-su-health-foundation-focus-group/
LOCATION:Talkeetna Public Library\, Talkeetna
CATEGORIES:Calendar
ORGANIZER;CN="Mat-Su Health Foundation":MAILTO:admin@healthymatsu.org
END:VEVENT
END:VCALENDAR