BEGIN:VCALENDAR
VERSION:2.0
PRODID:-//KTNA 88.9 FM - ECPv6.15.20//NONSGML v1.0//EN
CALSCALE:GREGORIAN
METHOD:PUBLISH
X-WR-CALNAME:KTNA 88.9 FM
X-ORIGINAL-URL:https://ktna.org
X-WR-CALDESC:Events for KTNA 88.9 FM
REFRESH-INTERVAL;VALUE=DURATION:PT1H
X-Robots-Tag:noindex
X-PUBLISHED-TTL:PT1H
BEGIN:VTIMEZONE
TZID:America/Anchorage
BEGIN:DAYLIGHT
TZOFFSETFROM:-0900
TZOFFSETTO:-0800
TZNAME:AKDT
DTSTART:20240310T110000
END:DAYLIGHT
BEGIN:STANDARD
TZOFFSETFROM:-0800
TZOFFSETTO:-0900
TZNAME:AKST
DTSTART:20241103T100000
END:STANDARD
BEGIN:DAYLIGHT
TZOFFSETFROM:-0900
TZOFFSETTO:-0800
TZNAME:AKDT
DTSTART:20250309T110000
END:DAYLIGHT
BEGIN:STANDARD
TZOFFSETFROM:-0800
TZOFFSETTO:-0900
TZNAME:AKST
DTSTART:20251102T100000
END:STANDARD
BEGIN:DAYLIGHT
TZOFFSETFROM:-0900
TZOFFSETTO:-0800
TZNAME:AKDT
DTSTART:20260308T110000
END:DAYLIGHT
BEGIN:STANDARD
TZOFFSETFROM:-0800
TZOFFSETTO:-0900
TZNAME:AKST
DTSTART:20261101T100000
END:STANDARD
END:VTIMEZONE
BEGIN:VEVENT
DTSTART;TZID=America/Anchorage:20251214T153000
DTEND;TZID=America/Anchorage:20251214T153000
DTSTAMP:20260423T215643
CREATED:20251205T205540Z
LAST-MODIFIED:20251212T210418Z
UID:10004954-1765726200-1765726200@ktna.org
SUMMARY:Chanukah Celebration - Mat-Su Jewish Center Chabad
DESCRIPTION:For the very first time\, The Mat-Su Jewish Center Chabad hosts a community Chanukah celebration at the Upper Susitna Community and Senior Center on Sunday\, December 14th at 3:30pm. There will be a Menorah lighting\, holiday treats\, festive music\, and activities for all ages. Everyone is welcome. For more information\, visit MatsuJewishCenter.org.
URL:https://ktna.org/events/chanukah-celebration-mat-su-jewish-center-chabad/
LOCATION:Upper Susitna Community and Senior Center\, 16463 E. Helena Ave. / Mile 98.5 Parks Hwy.\, Sunshine\, Alaska\, 99676
CATEGORIES:Announcements,Calendar
ORGANIZER;CN="Mat-Su Jewish Center Chabad":MAILTO:rabbi@matsujewishcenter.org
END:VEVENT
END:VCALENDAR