BEGIN:VCALENDAR
VERSION:2.0
PRODID:-//KTNA 88.9 FM - ECPv6.15.20//NONSGML v1.0//EN
CALSCALE:GREGORIAN
METHOD:PUBLISH
X-WR-CALNAME:KTNA 88.9 FM
X-ORIGINAL-URL:https://ktna.org
X-WR-CALDESC:Events for KTNA 88.9 FM
REFRESH-INTERVAL;VALUE=DURATION:PT1H
X-Robots-Tag:noindex
X-PUBLISHED-TTL:PT1H
BEGIN:VTIMEZONE
TZID:America/Anchorage
BEGIN:DAYLIGHT
TZOFFSETFROM:-0900
TZOFFSETTO:-0800
TZNAME:AKDT
DTSTART:20230312T110000
END:DAYLIGHT
BEGIN:STANDARD
TZOFFSETFROM:-0800
TZOFFSETTO:-0900
TZNAME:AKST
DTSTART:20231105T100000
END:STANDARD
BEGIN:DAYLIGHT
TZOFFSETFROM:-0900
TZOFFSETTO:-0800
TZNAME:AKDT
DTSTART:20240310T110000
END:DAYLIGHT
BEGIN:STANDARD
TZOFFSETFROM:-0800
TZOFFSETTO:-0900
TZNAME:AKST
DTSTART:20241103T100000
END:STANDARD
BEGIN:DAYLIGHT
TZOFFSETFROM:-0900
TZOFFSETTO:-0800
TZNAME:AKDT
DTSTART:20250309T110000
END:DAYLIGHT
BEGIN:STANDARD
TZOFFSETFROM:-0800
TZOFFSETTO:-0900
TZNAME:AKST
DTSTART:20251102T100000
END:STANDARD
END:VTIMEZONE
BEGIN:VEVENT
DTSTART;TZID=America/Anchorage:20241025T130000
DTEND;TZID=America/Anchorage:20241025T180000
DTSTAMP:20260420T015500
CREATED:20240930T210810Z
LAST-MODIFIED:20241030T224609Z
UID:10003935-1729861200-1729879200@ktna.org
SUMMARY:Vaccine Mobile Clinic - Trapper Creek
DESCRIPTION:Sunshine Community Health Center’s mobile unit\, Moby 11\, will be at Vitus in Trapper Creek on October 25th from 1 to 6 pm. They are offering vaccines\, including Tetanus\, Shingles\, COVID\, RSV\, and Flu. Vaccines will be billed to insurance or offered on a sliding fee scale to eligible patients. To register for this resource you may call (907)376-2273.
URL:https://ktna.org/events/vaccine-mobile-clinic-trapper-creek/
CATEGORIES:Calendar
END:VEVENT
BEGIN:VEVENT
DTSTART;VALUE=DATE:20241016
DTEND;VALUE=DATE:20241017
DTSTAMP:20260420T015500
CREATED:20241008T184017Z
LAST-MODIFIED:20241030T224610Z
UID:10003745-1729036800-1729123199@ktna.org
SUMMARY:Sunshine Community Health Center CLINICS CLOSED
DESCRIPTION:Both the Willow and Talkeetna locations of Sunshine Community Health Center will be closed on Wednesday\, October 16th for their All-Staff Training Day. This allows their team to focus on vital training and development to better serve the community. They remind you to dial 911 for emergencies.
URL:https://ktna.org/events/sunshine-community-health-center-clinics-closed-2/
LOCATION:Sunshine Community Health Center Willow\, 24091 Long Lake Road\, Willow\, 99688\, United States
CATEGORIES:Calendar
END:VEVENT
BEGIN:VEVENT
DTSTART;VALUE=DATE:20240910
DTEND;VALUE=DATE:20240913
DTSTAMP:20260420T015500
CREATED:20240827T201740Z
LAST-MODIFIED:20241030T224618Z
UID:10003891-1725926400-1726185599@ktna.org
SUMMARY:Mobile Mammogram Unit - Willow & Talkeetna
DESCRIPTION:The Providence Imaging Center Mobile Mammogram Unit will be at Sunshine Community Health Center at the following locations and times: \n\nWillow Clinic on Tuesday\, September 10th\nTalkeetna Clinic on Wednesday\, September 11th\nTalkeetna Clinic on Wednesday\, September 12th\n\nTo schedule you may call Providence at (907)212-3151 and let them know your location preference.
URL:https://ktna.org/events/mobile-mammogram-unit-willow-talkeetna/
LOCATION:Sunshine Community Health Center Willow\, 24091 Long Lake Road\, Willow\, 99688\, United States
CATEGORIES:Calendar
END:VEVENT
BEGIN:VEVENT
DTSTART;TZID=America/Anchorage:20240810T110000
DTEND;TZID=America/Anchorage:20240810T160000
DTSTAMP:20260420T015500
CREATED:20240617T205137Z
LAST-MODIFIED:20241030T231135Z
UID:10003755-1723287600-1723305600@ktna.org
SUMMARY:Community Celebration-Sunshine Community Health Center
DESCRIPTION:The 2nd annual Northern Valley Community Celebration\, hosted by Sunshine Community Health Center. Music\, food\, local vendors\, local resources.
URL:https://ktna.org/events/community-celebration-sunshine-community-health-center/
LOCATION:Sunshine Community Health Center Talkeetna\, 34300 South Talkeetna Spur Road\, Talkeetna\, Alaska\, 99676\, United States
CATEGORIES:Calendar
END:VEVENT
BEGIN:VEVENT
DTSTART;TZID=America/Anchorage:20240806T110000
DTEND;TZID=America/Anchorage:20240806T130000
DTSTAMP:20260420T015500
CREATED:20240617T223444Z
LAST-MODIFIED:20241030T231132Z
UID:10003816-1722942000-1722949200@ktna.org
SUMMARY:Senior Lunch & Blood Pressure Check Ups
DESCRIPTION:The Upper Susitna Community and Senior Center hosts lunch at 11:30am every Tuesday. \nSunshine Community Health Center will be providing free blood pressure checks during lunch starting at 11:00 am the first Tuesday of every month. You can get your blood pressure read by a professional\, take home a free blood pressure log\, discuss resources with their patient advocates. \nFor more information you may call (907)733-6200.
URL:https://ktna.org/events/senior-lunch-blood-pressure-check-ups-4/
LOCATION:Upper Susitna Community and Senior Center\, 16463 E. Helena Ave. / Mile 98.5 Parks Hwy.\, Sunshine\, Alaska\, 99676
CATEGORIES:Calendar
END:VEVENT
BEGIN:VEVENT
DTSTART;TZID=America/Anchorage:20240702T110000
DTEND;TZID=America/Anchorage:20240702T130000
DTSTAMP:20260420T015500
CREATED:20240617T223330Z
LAST-MODIFIED:20241030T231117Z
UID:10003815-1719918000-1719925200@ktna.org
SUMMARY:Senior Lunch & Blood Pressure Check Ups
DESCRIPTION:The Upper Susitna Community and Senior Center hosts lunch at 11:30am every Tuesday. \nSunshine Community Health Center will be providing free blood pressure checks during lunch starting at 11:00 am the first Tuesday of every month. You can get your blood pressure read by a professional\, take home a free blood pressure log\, discuss resources with their patient advocates. \nFor more information you may call (907)733-6200.
URL:https://ktna.org/events/senior-lunch-blood-pressure-check-ups-3/
LOCATION:Upper Susitna Community and Senior Center\, 16463 E. Helena Ave. / Mile 98.5 Parks Hwy.\, Sunshine\, Alaska\, 99676
CATEGORIES:Calendar
END:VEVENT
BEGIN:VEVENT
DTSTART;TZID=America/Anchorage:20240604T110000
DTEND;TZID=America/Anchorage:20240604T130000
DTSTAMP:20260420T015500
CREATED:20240430T191351Z
LAST-MODIFIED:20241030T231105Z
UID:10003722-1717498800-1717506000@ktna.org
SUMMARY:Senior Lunch & Blood Pressure Check Ups
DESCRIPTION:The Upper Susitna Community and Senior Center hosts lunch at 11:30am every Tuesday. \nSunshine Community Health Center will be providing free blood pressure checks during lunch starting at 11:00 am the first Tuesday of every month. You can get your blood pressure read by a professional\, take home a free blood pressure log\, discuss resources with their patient advocates. \nFor more information you may call (907)733-6200.
URL:https://ktna.org/events/senior-lunch-blood-pressure-check-ups-2/
LOCATION:Upper Susitna Community and Senior Center\, 16463 E. Helena Ave. / Mile 98.5 Parks Hwy.\, Sunshine\, Alaska\, 99676
CATEGORIES:Calendar
ORGANIZER;CN="Upper Susitna Community and Senior Center":MAILTO:Ussi.inc@outlook.com
END:VEVENT
BEGIN:VEVENT
DTSTART;TZID=America/Anchorage:20240523T010000
DTEND;TZID=America/Anchorage:20240523T150000
DTSTAMP:20260420T015500
CREATED:20240509T192205Z
LAST-MODIFIED:20241030T224722Z
UID:10003618-1716426000-1716476400@ktna.org
SUMMARY:Breastfeeding Class
DESCRIPTION:Sunshine Community Health Center\, in collaboration with The Northern Valley Health Coalition and Therapeutic Health and Home\, is hosting a free Breastfeeding Class from 1 to 3PM on May 23rd\, at Sunshine’s Willow Clinic. This informative session is taught by Courtney Schaeffer\, a distinguished lactation specialist. A light lunch will be provided for all participants. Registration is encouraged at sunshineclinic.org/events.
URL:https://ktna.org/events/breastfeeding-class/
LOCATION:Sunshine Community Health Center Willow\, 24091 Long Lake Road\, Willow\, 99688\, United States
CATEGORIES:Calendar
END:VEVENT
BEGIN:VEVENT
DTSTART;TZID=America/Anchorage:20240509T170000
DTEND;TZID=America/Anchorage:20240509T190000
DTSTAMP:20260420T015500
CREATED:20240507T183631Z
LAST-MODIFIED:20241030T224724Z
UID:10003609-1715274000-1715281200@ktna.org
SUMMARY:Sunshine Community Health Center Board of Directors
DESCRIPTION:Sunshine Community Health Center Board of Directors monthly meeting will take place on Thursday\, May 9th at 5PM at the Willow Sunshine Clinic large conference room and via zoom link on Thursday\, May 9th at 5PM. Please email mgunderson@sunshineclinic.org or rspaulding@sunshineclinic.org if interested in being listed as a person to be heard prior to the meeting. \nSCHC Board of Directors Monthly Meeting Zoom Link:\nhttps://us06web.zoom.us/j/84030002424?pwd=7R0SBJNucuisj4Ts3bwbLSL0G1XA26.1&from=addon \nMeeting ID: 840 3000 2424\nPasscode: 991132
URL:https://ktna.org/events/sunshine-community-health-center-board-of-directors/
LOCATION:Sunshine Community Health Center Willow\, 24091 Long Lake Road\, Willow\, 99688\, United States
CATEGORIES:Calendar
END:VEVENT
BEGIN:VEVENT
DTSTART;TZID=America/Anchorage:20240507T110000
DTEND;TZID=America/Anchorage:20240507T130000
DTSTAMP:20260420T015500
CREATED:20240430T191257Z
LAST-MODIFIED:20241030T224725Z
UID:10003714-1715079600-1715086800@ktna.org
SUMMARY:Senior Lunch & Blood Pressure Check Ups
DESCRIPTION:The Upper Susitna Community and Senior Center hosts lunch at 11:30am every Tuesday. \nSunshine Community Health Center will be providing free blood pressure checks during lunch starting at 11:00 am the first Tuesday of every month. You can get your blood pressure read by a professional\, take home a free blood pressure log\, discuss resources with their patient advocates. \nFor more information you may call (907)733-6200.
URL:https://ktna.org/events/senior-lunch-blood-pressure-check-ups/
LOCATION:Upper Susitna Community and Senior Center\, 16463 E. Helena Ave. / Mile 98.5 Parks Hwy.\, Sunshine\, Alaska\, 99676
CATEGORIES:Calendar
ORGANIZER;CN="Upper Susitna Community and Senior Center":MAILTO:Ussi.inc@outlook.com
END:VEVENT
BEGIN:VEVENT
DTSTART;TZID=America/Anchorage:20240402T110000
DTEND;TZID=America/Anchorage:20240402T130000
DTSTAMP:20260420T015500
CREATED:20240305T185843Z
LAST-MODIFIED:20241030T224732Z
UID:10003625-1712055600-1712062800@ktna.org
SUMMARY:free blood pressure checks and senior center lunch
DESCRIPTION:Sunshine Community Health Center will be providing free blood pressure checks starting at 11:00 am the first Tuesday of every month at the Upper Susitna Community and Senior Center. You can get your blood pressure read by a professional\, take home a free blood pressure log\, discuss resources with their patient advocates. \nLunch is held at the Upper Susitna Community and Senior Center at 11:30am every Tuesday. \nFor more information you may call (907)733-6200.
URL:https://ktna.org/events/free-blood-pressure-checks-and-senior-center-lunch/
LOCATION:Upper Susitna Community and Senior Center\, 16463 E. Helena Ave. / Mile 98.5 Parks Hwy.\, Sunshine\, Alaska\, 99676
CATEGORIES:Calendar
END:VEVENT
BEGIN:VEVENT
DTSTART;TZID=America/Anchorage:20240307T170000
DTEND;TZID=America/Anchorage:20240307T180000
DTSTAMP:20260420T015500
CREATED:20240304T200350Z
LAST-MODIFIED:20241030T224734Z
UID:10003615-1709830800-1709834400@ktna.org
SUMMARY:Sunshine Community Health Center's monthly board meeting
DESCRIPTION:The Sunshine Community Health Center’s monthly board meeting is at 5pm on Thursday\, March 7th at Sunshine Community Health Center\, Talkeetna location and virtually via Zoom. The community is welcome to participate. To be a person to be heard or guest you may email rspaulding@sunshineclinic.org prior to the meeting date. For more information and the Zoom link\, you may visit sunshineclinic.org/our-team
URL:https://ktna.org/events/sunshine-community-health-centers-monthly-board-meeting/
LOCATION:Sunshine Community Health Center Talkeetna\, 34300 South Talkeetna Spur Road\, Talkeetna\, Alaska\, 99676\, United States
CATEGORIES:Calendar
END:VEVENT
END:VCALENDAR