BEGIN:VCALENDAR
VERSION:2.0
PRODID:-//KTNA 88.9 FM - ECPv6.15.20//NONSGML v1.0//EN
CALSCALE:GREGORIAN
METHOD:PUBLISH
X-WR-CALNAME:KTNA 88.9 FM
X-ORIGINAL-URL:https://ktna.org
X-WR-CALDESC:Events for KTNA 88.9 FM
REFRESH-INTERVAL;VALUE=DURATION:PT1H
X-Robots-Tag:noindex
X-PUBLISHED-TTL:PT1H
BEGIN:VTIMEZONE
TZID:America/Anchorage
BEGIN:DAYLIGHT
TZOFFSETFROM:-0900
TZOFFSETTO:-0800
TZNAME:AKDT
DTSTART:20240310T110000
END:DAYLIGHT
BEGIN:STANDARD
TZOFFSETFROM:-0800
TZOFFSETTO:-0900
TZNAME:AKST
DTSTART:20241103T100000
END:STANDARD
BEGIN:DAYLIGHT
TZOFFSETFROM:-0900
TZOFFSETTO:-0800
TZNAME:AKDT
DTSTART:20250309T110000
END:DAYLIGHT
BEGIN:STANDARD
TZOFFSETFROM:-0800
TZOFFSETTO:-0900
TZNAME:AKST
DTSTART:20251102T100000
END:STANDARD
BEGIN:DAYLIGHT
TZOFFSETFROM:-0900
TZOFFSETTO:-0800
TZNAME:AKDT
DTSTART:20260308T110000
END:DAYLIGHT
BEGIN:STANDARD
TZOFFSETFROM:-0800
TZOFFSETTO:-0900
TZNAME:AKST
DTSTART:20261101T100000
END:STANDARD
END:VTIMEZONE
BEGIN:VEVENT
DTSTART;TZID=America/Anchorage:20250319T180000
DTEND;TZID=America/Anchorage:20250319T180000
DTSTAMP:20260424T104150
CREATED:20250304T000410Z
LAST-MODIFIED:20250313T010432Z
UID:10003882-1742407200-1742407200@ktna.org
SUMMARY:Talkeetna Paddle & Racket Committee Meeting
DESCRIPTION:The Talkeetna Paddle and Racket Committee meets at the Talkeetna Public Library on Wednesday\, March 19th at 6pm. All are welcome.
URL:https://ktna.org/events/talkeetna-paddle-racket-committee-meeting-3/
LOCATION:Talkeetna Public Library\, Talkeetna
CATEGORIES:Announcements,Calendar
END:VEVENT
BEGIN:VEVENT
DTSTART;TZID=America/Anchorage:20250219T180000
DTEND;TZID=America/Anchorage:20250219T180000
DTSTAMP:20260424T104150
CREATED:20250204T010619Z
LAST-MODIFIED:20250217T202408Z
UID:10004693-1739988000-1739988000@ktna.org
SUMMARY:Talkeetna Paddle & Racket Committee Meeting
DESCRIPTION:The Talkeetna Paddle and Racket Committee meets at the Talkeetna Public Library on Wednesday\, February 19th at 6pm. All are welcome.
URL:https://ktna.org/events/talkeetna-paddle-racket-committee-meeting-2/
LOCATION:Talkeetna Public Library\, Talkeetna
CATEGORIES:Announcements,Calendar
END:VEVENT
END:VCALENDAR