BEGIN:VCALENDAR
VERSION:2.0
PRODID:-//KTNA 88.9 FM - ECPv6.15.20//NONSGML v1.0//EN
CALSCALE:GREGORIAN
METHOD:PUBLISH
X-ORIGINAL-URL:https://ktna.org
X-WR-CALDESC:Events for KTNA 88.9 FM
REFRESH-INTERVAL;VALUE=DURATION:PT1H
X-Robots-Tag:noindex
X-PUBLISHED-TTL:PT1H
BEGIN:VTIMEZONE
TZID:America/Anchorage
BEGIN:DAYLIGHT
TZOFFSETFROM:-0900
TZOFFSETTO:-0800
TZNAME:AKDT
DTSTART:20240310T110000
END:DAYLIGHT
BEGIN:STANDARD
TZOFFSETFROM:-0800
TZOFFSETTO:-0900
TZNAME:AKST
DTSTART:20241103T100000
END:STANDARD
BEGIN:DAYLIGHT
TZOFFSETFROM:-0900
TZOFFSETTO:-0800
TZNAME:AKDT
DTSTART:20250309T110000
END:DAYLIGHT
BEGIN:STANDARD
TZOFFSETFROM:-0800
TZOFFSETTO:-0900
TZNAME:AKST
DTSTART:20251102T100000
END:STANDARD
BEGIN:DAYLIGHT
TZOFFSETFROM:-0900
TZOFFSETTO:-0800
TZNAME:AKDT
DTSTART:20260308T110000
END:DAYLIGHT
BEGIN:STANDARD
TZOFFSETFROM:-0800
TZOFFSETTO:-0900
TZNAME:AKST
DTSTART:20261101T100000
END:STANDARD
BEGIN:DAYLIGHT
TZOFFSETFROM:-0900
TZOFFSETTO:-0800
TZNAME:AKDT
DTSTART:20270314T110000
END:DAYLIGHT
BEGIN:STANDARD
TZOFFSETFROM:-0800
TZOFFSETTO:-0900
TZNAME:AKST
DTSTART:20271107T100000
END:STANDARD
END:VTIMEZONE
BEGIN:VEVENT
DTSTART;TZID=America/Anchorage:20260421T100000
DTEND;TZID=America/Anchorage:20260421T110000
DTSTAMP:20260421T155229
CREATED:20260420T183638Z
LAST-MODIFIED:20260421T185004Z
UID:10004614-1776765600-1776769200@ktna.org
SUMMARY:Strong Women Exercise Group - Talkeetna Public Library
DESCRIPTION:Strong Women exercise group meet at 10 am at the Talkeetna Public Library on Tuesdays and Thursdays. A Zoom option is available. This program is aimed at improving strength\, balance and flexibility for women over 40 years old. Newcomers are always welcome\, weights and instructions are provided. For more information\, you may call the library at 907-861-7645.
URL:https://ktna.org/events/strong-women-exercise-group-talkeetna-public-library-2026-01-13-5/
LOCATION:Talkeetna Public Library\, Talkeetna
CATEGORIES:Calendar
END:VEVENT
BEGIN:VEVENT
DTSTART;TZID=America/Anchorage:20260414T151500
DTEND;TZID=America/Anchorage:20260414T163000
DTSTAMP:20260421T155229
CREATED:20260413T183919Z
LAST-MODIFIED:20260413T183919Z
UID:10008131-1776179700-1776184200@ktna.org
SUMMARY:Reading Tuesdays - Talkeetna Public Library
DESCRIPTION:The Talkeetna Public Library hosts a weekly afterschool program called Reading Tuesdays. Students are welcome to come and read\, work on homework or a craft\, and spend time with friends from 3:15 until 5pm every Tuesday. Sunshine Transit is available to pick up students at Talkeetna Elementary School and bring them to the library. Permission slips are required. For more information and to sign up\, contact the library at Talkeetna.Library@matsugov.us or (907)861-7645.
URL:https://ktna.org/events/reading-tuesdays-talkeetna-public-library-3/
LOCATION:Talkeetna Public Library\, Talkeetna
CATEGORIES:Announcements,Calendar
END:VEVENT
BEGIN:VEVENT
DTSTART;VALUE=DATE:20260311
DTEND;VALUE=DATE:20260316
DTSTAMP:20260421T155229
CREATED:20260307T013952Z
LAST-MODIFIED:20260313T194118Z
UID:10006774-1773187200-1773619199@ktna.org
SUMMARY:Spring Break at the Library - Talkeetna Public Library
DESCRIPTION:Talkeetna Public Library will be holding day-long events during Spring Break. Details are available on the library’s Facebook page and on flyers at the library and around town as well as on the KTNA Community Calendar. These events will be open to all ages. Children under 8 years old need to be accompanied by an adult. For more information\, please contact the Talkeetna Library at 907-861-7645 \n\nMonday\, March 9 is Lego Monday. The library received a large gift of Legos as well as some wonderful completed projects. There will be space to make your own Lego project and just have fun with friends.\nTuesday\, March 10 is Collage Tuesday. Supplies will be available to make your own collage.\nWednesday\, March 11 is Music Day at Talkeetna Library! The Bon deBarras Trio will perform from Noon to 1pm at The Talkeetna Library. Other musical opportunities will continue throughout the day.\nThursday\, March 12 is Taco Thursday. Storytime’s theme is Tacos and you can make tacos and burritos all day at Talkeetna Library.\nFriday March 13 is Cribbage Day. You can learn how to play cribbage- and checkers- at Talkeetna Library. In addition\, there are jigsaw puzzles to attempt or to take home.\nSaturday March 14 at Talkeetna Library is Pi Day as it is also 3 14. Pi is a mathematical term but the library will be serving pie to all- as long as the supply lasts. If you would like to donate a pie\, it will be gratefully accepted.\nSaturday is also the Tween Page to Screen program. The movie this month is Inkheart\, based on the book by Cornelia Funke. Tweens aged 9 to 12 are invited to discuss the book\, enjoy the movie and share some pizza Pie!
URL:https://ktna.org/events/spring-break-at-the-library-talkeetna-public-library/
LOCATION:Talkeetna Public Library\, Talkeetna
CATEGORIES:Calendar
END:VEVENT
BEGIN:VEVENT
DTSTART;TZID=America/Anchorage:20260303T100000
DTEND;TZID=America/Anchorage:20260303T110000
DTSTAMP:20260421T155229
CREATED:20250811T193041Z
LAST-MODIFIED:20260303T194745Z
UID:10004672-1772532000-1772535600@ktna.org
SUMMARY:Strong Women Exercise Group - Talkeetna Public Library
DESCRIPTION:Strong Women exercise group meet at 10 am at the Talkeetna Public Library on Tuesdays and Thursdays. A Zoom option is available. This program is aimed at improving strength\, balance and flexibility for women over 40 years old. Newcomers are always welcome\, weights and instructions are provided. For more information\, you may call the library at 907-861-7645.
URL:https://ktna.org/events/strong-women-exercise-group-talkeetna-public-library-2026-01-13-2026-03-03/
LOCATION:Talkeetna Public Library\, Talkeetna
CATEGORIES:Calendar
END:VEVENT
BEGIN:VEVENT
DTSTART;TZID=America/Anchorage:20260226T111500
DTEND;TZID=America/Anchorage:20260226T111500
DTSTAMP:20260421T155229
CREATED:20250811T202202Z
LAST-MODIFIED:20260224T182225Z
UID:10005610-1772104500-1772104500@ktna.org
SUMMARY:Storytime - Talkeetna Public Library
DESCRIPTION:Talkeetna Public Library hosts Storytime at 11:15am on Thursdays with a snack\, stories and a craft. The theme this week is Sled Dogs\, all are welcome. For more information\, you may call Talkeetna Library at 907-861-7645.
URL:https://ktna.org/events/storytime-talkeetna-public-library-3-2025-08-21-2026-02-26/
LOCATION:Talkeetna Public Library\, Talkeetna
CATEGORIES:Announcements,Calendar
END:VEVENT
BEGIN:VEVENT
DTSTART;TZID=America/Anchorage:20260219T111500
DTEND;TZID=America/Anchorage:20260219T111500
DTSTAMP:20260421T155229
CREATED:20250811T202202Z
LAST-MODIFIED:20260216T203129Z
UID:10005609-1771499700-1771499700@ktna.org
SUMMARY:Storytime - Talkeetna Public Library
DESCRIPTION:Talkeetna Public Library hosts Storytime at 11:15am on Thursdays with a snack\, stories and a craft. This week is Science Thursday with Miss. Pamala\, all are welcome. For more information\, you may call Talkeetna Library at 907-861-7645.
URL:https://ktna.org/events/storytime-talkeetna-public-library-3-2025-08-21-2026-02-19/
LOCATION:Talkeetna Public Library\, Talkeetna
CATEGORIES:Calendar
END:VEVENT
BEGIN:VEVENT
DTSTART;TZID=America/Anchorage:20260212T111500
DTEND;TZID=America/Anchorage:20260212T111500
DTSTAMP:20260421T155229
CREATED:20250811T202202Z
LAST-MODIFIED:20260210T202029Z
UID:10005608-1770894900-1770894900@ktna.org
SUMMARY:Storytime - Talkeetna Public Library
DESCRIPTION:Talkeetna Public Library hosts Storytime at 11:15am on Thursdays with a snack\, stories and a craft. The theme this week is I Love My Library. All are welcome. For more information\, you may call Talkeetna Library at 907-861-7645.
URL:https://ktna.org/events/storytime-talkeetna-public-library-3-2025-08-21-2026-02-12/
LOCATION:Talkeetna Public Library\, Talkeetna
CATEGORIES:Announcements,Calendar
END:VEVENT
BEGIN:VEVENT
DTSTART;TZID=America/Anchorage:20260205T111500
DTEND;TZID=America/Anchorage:20260205T111500
DTSTAMP:20260421T155229
CREATED:20250811T202202Z
LAST-MODIFIED:20260203T200800Z
UID:10005607-1770290100-1770290100@ktna.org
SUMMARY:Storytime - Talkeetna Public Library
DESCRIPTION:Talkeetna Public Library hosts Storytime at 11:15am on Thursdays with a snack\, stories and a craft. The theme this week is I Love My Library. All are welcome. For more information\, you may call Talkeetna Library at 907-861-7645.
URL:https://ktna.org/events/storytime-talkeetna-public-library-3-2025-08-21-2026-02-05/
LOCATION:Talkeetna Public Library\, Talkeetna
CATEGORIES:Calendar
END:VEVENT
BEGIN:VEVENT
DTSTART;TZID=America/Anchorage:20260129T111500
DTEND;TZID=America/Anchorage:20260129T111500
DTSTAMP:20260421T155229
CREATED:20250811T202202Z
LAST-MODIFIED:20260128T204852Z
UID:10005606-1769685300-1769685300@ktna.org
SUMMARY:Storytime - Talkeetna Public Library
DESCRIPTION:Talkeetna Public Library hosts Storytime at 11:15am on Thursdays with a snack\, stories and a craft. The theme this week is mittens and there will be a short play. All are welcome. For more information\, you may call Talkeetna Library at 907-861-7645.
URL:https://ktna.org/events/storytime-talkeetna-public-library-3-2025-08-21-2026-01-29/
LOCATION:Talkeetna Public Library\, Talkeetna
CATEGORIES:Announcements,Calendar
END:VEVENT
BEGIN:VEVENT
DTSTART;TZID=America/Anchorage:20260115T111500
DTEND;TZID=America/Anchorage:20260115T111500
DTSTAMP:20260421T155229
CREATED:20250811T202202Z
LAST-MODIFIED:20260112T204045Z
UID:10005605-1768475700-1768475700@ktna.org
SUMMARY:Storytime - Talkeetna Public Library
DESCRIPTION:Talkeetna Public Library hosts Storytime at 11:15am on Thursdays with a snack\, stories and a craft. This week is Science Thursday and attendees will be learning all about buoyancy. All are welcome. For more information\, you may call Talkeetna Library at 907-861-7645.
URL:https://ktna.org/events/storytime-talkeetna-public-library-3-2025-08-21-2026-01-15/
LOCATION:Talkeetna Public Library\, Talkeetna
CATEGORIES:Announcements,Calendar
END:VEVENT
BEGIN:VEVENT
DTSTART;TZID=America/Anchorage:20260108T111500
DTEND;TZID=America/Anchorage:20260108T111500
DTSTAMP:20260421T155229
CREATED:20250811T202202Z
LAST-MODIFIED:20260108T200923Z
UID:10005604-1767870900-1767870900@ktna.org
SUMMARY:Storytime - Talkeetna Public Library
DESCRIPTION:Talkeetna Public Library hosts Storytime at 11:15am on Thursdays with a snack\, stories and a craft. The theme this week is snowmen. All are welcome. For more information\, you may call Talkeetna Library at 907-861-7645.
URL:https://ktna.org/events/storytime-talkeetna-public-library-3-2025-08-21-2026-01-08/
LOCATION:Talkeetna Public Library\, Talkeetna
CATEGORIES:Calendar
END:VEVENT
BEGIN:VEVENT
DTSTART;TZID=America/Anchorage:20260106T100000
DTEND;TZID=America/Anchorage:20260106T110000
DTSTAMP:20260421T155229
CREATED:20250811T193041Z
LAST-MODIFIED:20260102T193248Z
UID:10004584-1767693600-1767697200@ktna.org
SUMMARY:Strong Women Exercise Group - Talkeetna Public Library
DESCRIPTION:Strong Women exercise group meet at 10 am at the Talkeetna Public Library on Tuesdays and Thursdays. A Zoom option is available. This program is aimed at improving strength\, balance and flexibility for women over 40 years old. Newcomers are always welcome\, weights and instructions are provided. For more information\, you may call the library at 907-861-7645.
URL:https://ktna.org/events/strong-women-exercise-group-talkeetna-public-library-2026-01-06/
LOCATION:Talkeetna Public Library\, Talkeetna
CATEGORIES:Announcements,Calendar
END:VEVENT
BEGIN:VEVENT
DTSTART;TZID=America/Anchorage:20251230T100000
DTEND;TZID=America/Anchorage:20251230T110000
DTSTAMP:20260421T155229
CREATED:20250811T193041Z
LAST-MODIFIED:20251226T203028Z
UID:10004578-1767088800-1767092400@ktna.org
SUMMARY:Strong Women Exercise Group - Talkeetna Public Library
DESCRIPTION:Strong Women exercise group meet at 10 am at the Talkeetna Public Library on Tuesdays and Thursdays. A Zoom option is available. This program is aimed at improving strength\, balance and flexibility for women over 40 years old. Newcomers are always welcome\, weights and instructions are provided. For more information\, you may call the library at 907-861-7645.
URL:https://ktna.org/events/strong-women-exercise-group-talkeetna-public-library-2025-12-30/
LOCATION:Talkeetna Public Library\, Talkeetna
CATEGORIES:Announcements,Calendar
END:VEVENT
BEGIN:VEVENT
DTSTART;TZID=America/Anchorage:20251225T111500
DTEND;TZID=America/Anchorage:20251225T111500
DTSTAMP:20260421T155229
CREATED:20250811T202202Z
LAST-MODIFIED:20251218T212921Z
UID:10005603-1766661300-1766661300@ktna.org
SUMMARY:CLOSED TODAY - Storytime - Talkeetna Public Library
DESCRIPTION:The Talkeetna Library is closed for the holiday. \nTalkeetna Public Library normally hosts Storytime at 11:15am on Thursdays with a snack\, stories and a craft. All are welcome. For more information\, you may call Talkeetna Library at 907-861-7645.
URL:https://ktna.org/events/storytime-talkeetna-public-library-3-2025-08-21-2025-12-25/
LOCATION:Talkeetna Public Library\, Talkeetna
CATEGORIES:Calendar
END:VEVENT
BEGIN:VEVENT
DTSTART;TZID=America/Anchorage:20251225T100000
DTEND;TZID=America/Anchorage:20251225T110000
DTSTAMP:20260421T155229
CREATED:20250811T193041Z
LAST-MODIFIED:20251218T212726Z
UID:10004576-1766656800-1766660400@ktna.org
SUMMARY:CLOSED TODAY - Strong Women Exercise Group - Talkeetna Public Library
DESCRIPTION:Talkeetna Library is closed for the holiday. \nStrong Women exercise group normally meet at 10 am at the Talkeetna Public Library on Tuesdays and Thursdays. A Zoom option is available. This program is aimed at improving strength\, balance and flexibility for women over 40 years old. Newcomers are always welcome\, weights and instructions are provided. For more information\, you may call the library at 907-861-7645.
URL:https://ktna.org/events/strong-women-exercise-group-talkeetna-public-library-2025-12-25/
LOCATION:Talkeetna Public Library\, Talkeetna
CATEGORIES:Calendar
END:VEVENT
BEGIN:VEVENT
DTSTART;TZID=America/Anchorage:20251223T100000
DTEND;TZID=America/Anchorage:20251223T110000
DTSTAMP:20260421T155229
CREATED:20250811T193041Z
LAST-MODIFIED:20251222T210523Z
UID:10004564-1766484000-1766487600@ktna.org
SUMMARY:Strong Women Exercise Group - Talkeetna Public Library
DESCRIPTION:Now is the time to get a head start on your New Year’s Resolution. Strong Women meet at 10am in person and on Zoom at the Talkeetna Library every Tuesday and Thursday (except of course this and next Thursday due to holiday closures). This exercise group focuses on improving balance\, flexibility\, and strength. All equipment is supplied\, and there is no fee to attend. For more information\, you may call the Talkeetna Library at 907-861-7645.
URL:https://ktna.org/events/strong-women-exercise-group-talkeetna-public-library-2025-12-23/
LOCATION:Talkeetna Public Library\, Talkeetna
CATEGORIES:Calendar
END:VEVENT
BEGIN:VEVENT
DTSTART;TZID=America/Anchorage:20251211T111500
DTEND;TZID=America/Anchorage:20251211T111500
DTSTAMP:20260421T155229
CREATED:20250811T202202Z
LAST-MODIFIED:20251211T193435Z
UID:10005602-1765451700-1765451700@ktna.org
SUMMARY:Storytime - Talkeetna Public Library
DESCRIPTION:Talkeetna Public Library hosts Storytime at 11:15am on Thursdays with a snack\, stories and a craft. This week’s Storytime will include cookie decorating and a visit from Santa and Mrs. Claus.  There will also be a holiday craft to bring home and make. Cookies for adults will also be available until they run out.  For more information\, you may call Talkeetna Library at 907-861-7645.
URL:https://ktna.org/events/storytime-talkeetna-public-library-3-2025-08-21-2025-12-11/
LOCATION:Talkeetna Public Library\, Talkeetna
CATEGORIES:Calendar
END:VEVENT
BEGIN:VEVENT
DTSTART;TZID=America/Anchorage:20251210T093000
DTEND;TZID=America/Anchorage:20251210T093000
DTSTAMP:20260421T155229
CREATED:20251202T203619Z
LAST-MODIFIED:20251202T203619Z
UID:10005777-1765359000-1765359000@ktna.org
SUMMARY:The Breakfast Book Club - Talkeetna Public Library
DESCRIPTION:The Breakfast Book Club meets at the Talkeetna Public Library on Wednesday\, December 10th at 9:30am. An option to attend via Zoom is available. This month’s selection is The Fox Wife by Yangsze Choo. Copies of the book are available at the library’s front desk. For more information and the Zoom link\, you may call 907-861-7645.
URL:https://ktna.org/events/the-breakfast-book-club-talkeetna-public-library/
LOCATION:Talkeetna Public Library\, Talkeetna
CATEGORIES:Announcements,Calendar
END:VEVENT
BEGIN:VEVENT
DTSTART;TZID=America/Anchorage:20251209T130000
DTEND;TZID=America/Anchorage:20251209T130000
DTSTAMP:20260421T155229
CREATED:20251202T203322Z
LAST-MODIFIED:20251205T203723Z
UID:10005776-1765285200-1765285200@ktna.org
SUMMARY:Mat-Su Library Board of Directors meeting - Talkeetna Public Library
DESCRIPTION:The Mat-Su Library Board of Directors meets at the Big Lake Lions Club on Tuesday\, December 9th at 1pm. Zoom participation will be available at the Talkeetna Public Library.
URL:https://ktna.org/events/109651/
LOCATION:Talkeetna Public Library\, Talkeetna
CATEGORIES:Announcements,Calendar
END:VEVENT
BEGIN:VEVENT
DTSTART;TZID=America/Anchorage:20251204T111500
DTEND;TZID=America/Anchorage:20251204T111500
DTSTAMP:20260421T155229
CREATED:20250811T202202Z
LAST-MODIFIED:20251204T190651Z
UID:10005601-1764846900-1764846900@ktna.org
SUMMARY:Storytime - Talkeetna Public Library
DESCRIPTION:Talkeetna Public Library hosts Storytime at 11:15am on Thursdays with a snack\, stories and a craft.  It’s Christmas Tree Time at Talkeetna Library\, this week they will read stories about trees and then make holiday ornaments to add to the library tree or take home. All are welcome. For more information\, you may call Talkeetna Library at 907-861-7645.
URL:https://ktna.org/events/storytime-talkeetna-public-library-3-2025-08-21-2025-12-04/
LOCATION:Talkeetna Public Library\, Talkeetna
CATEGORIES:Calendar
END:VEVENT
BEGIN:VEVENT
DTSTART;TZID=America/Anchorage:20251129T180000
DTEND;TZID=America/Anchorage:20251129T200000
DTSTAMP:20260421T155229
CREATED:20251124T213601Z
LAST-MODIFIED:20251124T213601Z
UID:10005766-1764439200-1764446400@ktna.org
SUMMARY:Teens’ Book to Movie Program - Talkeetna Public Library
DESCRIPTION:Talkeetna Public Library hosts their Teens’ Book to Movie Program\, on Saturday\, November 29th from 6 to 8pm. They will be showing The Giver – a movie is based on the novel by Lois Lowry. There will be a snack and discussion of the movie and book. Next month’s books will be handed out for the teens to read and keep. This monthly program for teens ages 13-18. For more information you may contact the Talkeetna Library at 907-861-7645.
URL:https://ktna.org/events/teens-book-to-movie-program-talkeetna-public-library/
LOCATION:Talkeetna Public Library\, Talkeetna
CATEGORIES:Announcements,Calendar
END:VEVENT
BEGIN:VEVENT
DTSTART;TZID=America/Anchorage:20251127T111500
DTEND;TZID=America/Anchorage:20251127T111500
DTSTAMP:20260421T155229
CREATED:20250811T202202Z
LAST-MODIFIED:20251125T180206Z
UID:10005600-1764242100-1764242100@ktna.org
SUMMARY:Storytime - Talkeetna Public Library - CLOSED TODAY
DESCRIPTION:Talkeetna Public Library hosts Storytime at 11:15am on Thursdays with a snack\, stories and a craft. All are welcome. For more information\, you may call Talkeetna Library at 907-861-7645. \nThe Talkeetna Library will be closed on Thursday and Friday\, November 27th and 28th for Thanksgiving. So there will not by Strong Women or Storytime this Thursday. They will reopen on Saturday\, November 29th at regular hours – 11am until 6pm. The wifi is on 24/7 and can be accessed from the parking lot and picnic tables\, the password info is on the front door. The staff wish all a wonderful Thanksgiving and hope you get a chance to read a good book.
URL:https://ktna.org/events/storytime-talkeetna-public-library-3-2025-08-21-2025-11-27/
LOCATION:Talkeetna Public Library\, Talkeetna
CATEGORIES:Calendar
END:VEVENT
BEGIN:VEVENT
DTSTART;TZID=America/Anchorage:20251127T100000
DTEND;TZID=America/Anchorage:20251127T110000
DTSTAMP:20260421T155229
CREATED:20250811T193041Z
LAST-MODIFIED:20251124T212404Z
UID:10004544-1764237600-1764241200@ktna.org
SUMMARY:Strong Women Exercise Group - Talkeetna Public Library - CLOSED TODAY
DESCRIPTION:Strong Women exercise group meet at 10 am at the Talkeetna Public Library on Tuesdays and Thursdays. A Zoom option is available. This program is aimed at improving strength\, balance and flexibility for women over 40 years old. Newcomers are always welcome\, weights and instructions are provided. For more information\, you may call the library at 907-861-7645. \nThe Talkeetna Library will be closed on Thursday\, Nov 27th and Friday\, November 28th for Thanksgiving. So there will not by Strong Women or Storytime this Thursday. They will reopen on Friday\, November 29th at regular hours – 11am until 6pm. The wifi is on 24/7 and can be accessed from the parking lot and picnic tables\, the password info is on the front door. The staff wish all a wonderful Thanksgiving and hope you get a chance to read a good book.
URL:https://ktna.org/events/strong-women-exercise-group-talkeetna-public-library-2025-11-27/
LOCATION:Talkeetna Public Library\, Talkeetna
CATEGORIES:Calendar
END:VEVENT
BEGIN:VEVENT
DTSTART;TZID=America/Anchorage:20251125T100000
DTEND;TZID=America/Anchorage:20251125T110000
DTSTAMP:20260421T155229
CREATED:20250811T193041Z
LAST-MODIFIED:20251125T180037Z
UID:10004537-1764064800-1764068400@ktna.org
SUMMARY:Strong Women Exercise Group - Talkeetna Public Library
DESCRIPTION:Strong Women exercise group meet at 10 am at the Talkeetna Public Library on Tuesday. A Zoom option is available\, all are welcome. Strong Women is a national program whose aims are to increase the health of participants by increasing flexibility\, strength\, balance\, and coordination. Equipment and instruction are provided. For more information\, you may call the library at 907-861-7645. \nThe Talkeetna Library will be closed on Thursday and Friday\, November 27th and 28th for Thanksgiving. So there will not by Strong Women or Storytime this Thursday. They will reopen on Saturday\, November 29th at regular hours – 11am until 6pm. The wifi is on 24/7 and can be accessed from the parking lot and picnic tables\, the password info is on the front door. The staff wish all a wonderful Thanksgiving and hope you get a chance to read a good book.
URL:https://ktna.org/events/strong-women-exercise-group-talkeetna-public-library-2025-11-25/
LOCATION:Talkeetna Public Library\, Talkeetna
CATEGORIES:Calendar
END:VEVENT
BEGIN:VEVENT
DTSTART;TZID=America/Anchorage:20251124T140000
DTEND;TZID=America/Anchorage:20251124T150000
DTSTAMP:20260421T155229
CREATED:20251014T194945Z
LAST-MODIFIED:20251124T211444Z
UID:10005711-1763992800-1763996400@ktna.org
SUMMARY:Toddler Time - Talkeetna Public Library
DESCRIPTION:The Talkeetna Public Library hosts Toddler Time today from 2 to 3pm. This program is for ages 1 to 3 years old. This will be a a time for parents\, guardians\, grandmas and pas to participate in fun activities with their toddlers. This is the last Toddler Time scheduled. If you have suggestions for a new time or day or age range\, please call Talkeetna library at 907-861-7645.
URL:https://ktna.org/events/toddler-time-talkeetna-public-library-2/
LOCATION:Talkeetna Public Library\, Talkeetna
CATEGORIES:Announcements,Calendar
END:VEVENT
BEGIN:VEVENT
DTSTART;TZID=America/Anchorage:20251120T111500
DTEND;TZID=America/Anchorage:20251120T111500
DTSTAMP:20260421T155229
CREATED:20250811T202202Z
LAST-MODIFIED:20251120T010356Z
UID:10005599-1763637300-1763637300@ktna.org
SUMMARY:Storytime - Talkeetna Public Library
DESCRIPTION:Storytime at the Talkeetna Library this week is about Giving Thanks.  The program begins at 11:15am on Thursday\, November 20th.  All ages are welcome.  There will be stories\, a snack and a craft. For more information\, you may call Talkeetna Library at 907-861-7645.
URL:https://ktna.org/events/storytime-talkeetna-public-library-3-2025-08-21-2025-11-20/
LOCATION:Talkeetna Public Library\, Talkeetna
CATEGORIES:Announcements,Calendar
END:VEVENT
BEGIN:VEVENT
DTSTART;TZID=America/Anchorage:20251118T151500
DTEND;TZID=America/Anchorage:20251118T151500
DTSTAMP:20260421T155229
CREATED:20250916T192653Z
LAST-MODIFIED:20251119T005637Z
UID:10005661-1763478900-1763478900@ktna.org
SUMMARY:Final Reading Mentors - Talkeetna Public Library
DESCRIPTION:Tuesday\, November 18th is the Talkeetna Public Library’s final Reading Mentors program for this session. They will have pizza and a movie for participants\, beginning at 3:15pm. This program is for 1st through 3rd graders and is designed to help new readers get experience and confidence in reading out loud. If you have any questions\, or you would like to volunteer as a reading\, mentor\, you may call the library at 907-861-7645.
URL:https://ktna.org/events/reading-mentors-talkeetna-public-library-2025-11-18/
LOCATION:Talkeetna Public Library\, Talkeetna
CATEGORIES:Calendar
END:VEVENT
BEGIN:VEVENT
DTSTART;TZID=America/Anchorage:20251112T153000
DTEND;TZID=America/Anchorage:20251112T170000
DTSTAMP:20260421T155229
CREATED:20250902T203127Z
LAST-MODIFIED:20250922T161009Z
UID:10005643-1762961400-1762966800@ktna.org
SUMMARY:Sizzle & Stir Club - Talkeetna Public Library
DESCRIPTION:The Talkeetna Public Library hosts a new afterschool program; The Sizzle & Stir Club beginning on Wednesday\, October 1st. This cooking program is open to 4th and 5th graders and homeschool students are welcome. Transportation from Talkeetna Elementary School to the library will be provided by Sunshine Transit. Space is limited to eight participants and requires pre-registration.  For more information and to register\, please call the library at 907-861-7645. \nThis class is full\, but you could call the library if interested in being added to the waiting list.
URL:https://ktna.org/events/sizzle-stir-club-talkeetna-public-library/2025-11-12/
LOCATION:Talkeetna Public Library\, Talkeetna
CATEGORIES:Calendar
END:VEVENT
BEGIN:VEVENT
DTSTART;TZID=America/Anchorage:20251104T151500
DTEND;TZID=America/Anchorage:20251104T151500
DTSTAMP:20260421T155229
CREATED:20250916T192653Z
LAST-MODIFIED:20251103T215940Z
UID:10005660-1762269300-1762269300@ktna.org
SUMMARY:Reading Mentors - Talkeetna Public Library
DESCRIPTION:Talkeetna Public Library’s Reading Mentors program is on Tuesdays at 3:15pm. This program is for 1st through 3rd graders and is designed to help new readers get experience and confidence in reading out loud. If you have any questions\, or you would like to volunteer as a reading\, mentor\, you may call the library at 907-861-7645.
URL:https://ktna.org/events/reading-mentors-talkeetna-public-library-2025-11-04/
LOCATION:Talkeetna Public Library\, Talkeetna
CATEGORIES:Announcements,Calendar
END:VEVENT
BEGIN:VEVENT
DTSTART;TZID=America/Anchorage:20251030T111500
DTEND;TZID=America/Anchorage:20251030T111500
DTSTAMP:20260421T155229
CREATED:20250811T202202Z
LAST-MODIFIED:20251029T174243Z
UID:10005598-1761822900-1761822900@ktna.org
SUMMARY:Storytime - Talkeetna Public Library
DESCRIPTION:Talkeetna Public Library hosts Storytime at 11:15am on Thursdays with a snack\, stories and a craft. The theme this week is Spiders Are Your friends. Halloween treat bags will be handed out at the end of the program\, and there will be grab and go bags with the craft supplies included in the front entryway. All are welcome. For more information\, you may call Talkeetna Library at 907-861-7645.
URL:https://ktna.org/events/storytime-talkeetna-public-library-3-2025-08-21-2025-10-30/
LOCATION:Talkeetna Public Library\, Talkeetna
CATEGORIES:Announcements,Calendar
END:VEVENT
END:VCALENDAR