BEGIN:VCALENDAR
VERSION:2.0
PRODID:-//KTNA 88.9 FM - ECPv6.15.20//NONSGML v1.0//EN
CALSCALE:GREGORIAN
METHOD:PUBLISH
X-ORIGINAL-URL:https://ktna.org
X-WR-CALDESC:Events for KTNA 88.9 FM
REFRESH-INTERVAL;VALUE=DURATION:PT1H
X-Robots-Tag:noindex
X-PUBLISHED-TTL:PT1H
BEGIN:VTIMEZONE
TZID:America/Anchorage
BEGIN:DAYLIGHT
TZOFFSETFROM:-0900
TZOFFSETTO:-0800
TZNAME:AKDT
DTSTART:20240310T110000
END:DAYLIGHT
BEGIN:STANDARD
TZOFFSETFROM:-0800
TZOFFSETTO:-0900
TZNAME:AKST
DTSTART:20241103T100000
END:STANDARD
BEGIN:DAYLIGHT
TZOFFSETFROM:-0900
TZOFFSETTO:-0800
TZNAME:AKDT
DTSTART:20250309T110000
END:DAYLIGHT
BEGIN:STANDARD
TZOFFSETFROM:-0800
TZOFFSETTO:-0900
TZNAME:AKST
DTSTART:20251102T100000
END:STANDARD
BEGIN:DAYLIGHT
TZOFFSETFROM:-0900
TZOFFSETTO:-0800
TZNAME:AKDT
DTSTART:20260308T110000
END:DAYLIGHT
BEGIN:STANDARD
TZOFFSETFROM:-0800
TZOFFSETTO:-0900
TZNAME:AKST
DTSTART:20261101T100000
END:STANDARD
END:VTIMEZONE
BEGIN:VEVENT
DTSTART;TZID=America/Anchorage:20251129T180000
DTEND;TZID=America/Anchorage:20251129T200000
DTSTAMP:20260423T125917
CREATED:20251124T213601Z
LAST-MODIFIED:20251124T213601Z
UID:10005766-1764439200-1764446400@ktna.org
SUMMARY:Teens’ Book to Movie Program - Talkeetna Public Library
DESCRIPTION:Talkeetna Public Library hosts their Teens’ Book to Movie Program\, on Saturday\, November 29th from 6 to 8pm. They will be showing The Giver – a movie is based on the novel by Lois Lowry. There will be a snack and discussion of the movie and book. Next month’s books will be handed out for the teens to read and keep. This monthly program for teens ages 13-18. For more information you may contact the Talkeetna Library at 907-861-7645.
URL:https://ktna.org/events/teens-book-to-movie-program-talkeetna-public-library/
LOCATION:Talkeetna Public Library\, Talkeetna
CATEGORIES:Announcements,Calendar
END:VEVENT
BEGIN:VEVENT
DTSTART;TZID=America/Anchorage:20251127T111500
DTEND;TZID=America/Anchorage:20251127T111500
DTSTAMP:20260423T125917
CREATED:20250811T202202Z
LAST-MODIFIED:20251125T180206Z
UID:10005600-1764242100-1764242100@ktna.org
SUMMARY:Storytime - Talkeetna Public Library - CLOSED TODAY
DESCRIPTION:Talkeetna Public Library hosts Storytime at 11:15am on Thursdays with a snack\, stories and a craft. All are welcome. For more information\, you may call Talkeetna Library at 907-861-7645. \nThe Talkeetna Library will be closed on Thursday and Friday\, November 27th and 28th for Thanksgiving. So there will not by Strong Women or Storytime this Thursday. They will reopen on Saturday\, November 29th at regular hours – 11am until 6pm. The wifi is on 24/7 and can be accessed from the parking lot and picnic tables\, the password info is on the front door. The staff wish all a wonderful Thanksgiving and hope you get a chance to read a good book.
URL:https://ktna.org/events/storytime-talkeetna-public-library-3-2025-08-21-2025-11-27/
LOCATION:Talkeetna Public Library\, Talkeetna
CATEGORIES:Calendar
END:VEVENT
BEGIN:VEVENT
DTSTART;TZID=America/Anchorage:20251127T100000
DTEND;TZID=America/Anchorage:20251127T110000
DTSTAMP:20260423T125917
CREATED:20250811T193041Z
LAST-MODIFIED:20251124T212404Z
UID:10004544-1764237600-1764241200@ktna.org
SUMMARY:Strong Women Exercise Group - Talkeetna Public Library - CLOSED TODAY
DESCRIPTION:Strong Women exercise group meet at 10 am at the Talkeetna Public Library on Tuesdays and Thursdays. A Zoom option is available. This program is aimed at improving strength\, balance and flexibility for women over 40 years old. Newcomers are always welcome\, weights and instructions are provided. For more information\, you may call the library at 907-861-7645. \nThe Talkeetna Library will be closed on Thursday\, Nov 27th and Friday\, November 28th for Thanksgiving. So there will not by Strong Women or Storytime this Thursday. They will reopen on Friday\, November 29th at regular hours – 11am until 6pm. The wifi is on 24/7 and can be accessed from the parking lot and picnic tables\, the password info is on the front door. The staff wish all a wonderful Thanksgiving and hope you get a chance to read a good book.
URL:https://ktna.org/events/strong-women-exercise-group-talkeetna-public-library-2025-11-27/
LOCATION:Talkeetna Public Library\, Talkeetna
CATEGORIES:Calendar
END:VEVENT
BEGIN:VEVENT
DTSTART;TZID=America/Anchorage:20251125T100000
DTEND;TZID=America/Anchorage:20251125T110000
DTSTAMP:20260423T125917
CREATED:20250811T193041Z
LAST-MODIFIED:20251125T180037Z
UID:10004537-1764064800-1764068400@ktna.org
SUMMARY:Strong Women Exercise Group - Talkeetna Public Library
DESCRIPTION:Strong Women exercise group meet at 10 am at the Talkeetna Public Library on Tuesday. A Zoom option is available\, all are welcome. Strong Women is a national program whose aims are to increase the health of participants by increasing flexibility\, strength\, balance\, and coordination. Equipment and instruction are provided. For more information\, you may call the library at 907-861-7645. \nThe Talkeetna Library will be closed on Thursday and Friday\, November 27th and 28th for Thanksgiving. So there will not by Strong Women or Storytime this Thursday. They will reopen on Saturday\, November 29th at regular hours – 11am until 6pm. The wifi is on 24/7 and can be accessed from the parking lot and picnic tables\, the password info is on the front door. The staff wish all a wonderful Thanksgiving and hope you get a chance to read a good book.
URL:https://ktna.org/events/strong-women-exercise-group-talkeetna-public-library-2025-11-25/
LOCATION:Talkeetna Public Library\, Talkeetna
CATEGORIES:Calendar
END:VEVENT
BEGIN:VEVENT
DTSTART;TZID=America/Anchorage:20251124T140000
DTEND;TZID=America/Anchorage:20251124T150000
DTSTAMP:20260423T125917
CREATED:20251014T194945Z
LAST-MODIFIED:20251124T211444Z
UID:10005711-1763992800-1763996400@ktna.org
SUMMARY:Toddler Time - Talkeetna Public Library
DESCRIPTION:The Talkeetna Public Library hosts Toddler Time today from 2 to 3pm. This program is for ages 1 to 3 years old. This will be a a time for parents\, guardians\, grandmas and pas to participate in fun activities with their toddlers. This is the last Toddler Time scheduled. If you have suggestions for a new time or day or age range\, please call Talkeetna library at 907-861-7645.
URL:https://ktna.org/events/toddler-time-talkeetna-public-library-2/
LOCATION:Talkeetna Public Library\, Talkeetna
CATEGORIES:Announcements,Calendar
END:VEVENT
BEGIN:VEVENT
DTSTART;TZID=America/Anchorage:20251120T111500
DTEND;TZID=America/Anchorage:20251120T111500
DTSTAMP:20260423T125917
CREATED:20250811T202202Z
LAST-MODIFIED:20251120T010356Z
UID:10005599-1763637300-1763637300@ktna.org
SUMMARY:Storytime - Talkeetna Public Library
DESCRIPTION:Storytime at the Talkeetna Library this week is about Giving Thanks.  The program begins at 11:15am on Thursday\, November 20th.  All ages are welcome.  There will be stories\, a snack and a craft. For more information\, you may call Talkeetna Library at 907-861-7645.
URL:https://ktna.org/events/storytime-talkeetna-public-library-3-2025-08-21-2025-11-20/
LOCATION:Talkeetna Public Library\, Talkeetna
CATEGORIES:Announcements,Calendar
END:VEVENT
BEGIN:VEVENT
DTSTART;TZID=America/Anchorage:20251118T151500
DTEND;TZID=America/Anchorage:20251118T151500
DTSTAMP:20260423T125917
CREATED:20250916T192653Z
LAST-MODIFIED:20251119T005637Z
UID:10005661-1763478900-1763478900@ktna.org
SUMMARY:Final Reading Mentors - Talkeetna Public Library
DESCRIPTION:Tuesday\, November 18th is the Talkeetna Public Library’s final Reading Mentors program for this session. They will have pizza and a movie for participants\, beginning at 3:15pm. This program is for 1st through 3rd graders and is designed to help new readers get experience and confidence in reading out loud. If you have any questions\, or you would like to volunteer as a reading\, mentor\, you may call the library at 907-861-7645.
URL:https://ktna.org/events/reading-mentors-talkeetna-public-library-2025-11-18/
LOCATION:Talkeetna Public Library\, Talkeetna
CATEGORIES:Calendar
END:VEVENT
BEGIN:VEVENT
DTSTART;TZID=America/Anchorage:20251112T153000
DTEND;TZID=America/Anchorage:20251112T170000
DTSTAMP:20260423T125917
CREATED:20250902T203127Z
LAST-MODIFIED:20250922T161009Z
UID:10005643-1762961400-1762966800@ktna.org
SUMMARY:Sizzle & Stir Club - Talkeetna Public Library
DESCRIPTION:The Talkeetna Public Library hosts a new afterschool program; The Sizzle & Stir Club beginning on Wednesday\, October 1st. This cooking program is open to 4th and 5th graders and homeschool students are welcome. Transportation from Talkeetna Elementary School to the library will be provided by Sunshine Transit. Space is limited to eight participants and requires pre-registration.  For more information and to register\, please call the library at 907-861-7645. \nThis class is full\, but you could call the library if interested in being added to the waiting list.
URL:https://ktna.org/events/sizzle-stir-club-talkeetna-public-library/2025-11-12/
LOCATION:Talkeetna Public Library\, Talkeetna
CATEGORIES:Calendar
END:VEVENT
BEGIN:VEVENT
DTSTART;TZID=America/Anchorage:20251104T151500
DTEND;TZID=America/Anchorage:20251104T151500
DTSTAMP:20260423T125917
CREATED:20250916T192653Z
LAST-MODIFIED:20251103T215940Z
UID:10005660-1762269300-1762269300@ktna.org
SUMMARY:Reading Mentors - Talkeetna Public Library
DESCRIPTION:Talkeetna Public Library’s Reading Mentors program is on Tuesdays at 3:15pm. This program is for 1st through 3rd graders and is designed to help new readers get experience and confidence in reading out loud. If you have any questions\, or you would like to volunteer as a reading\, mentor\, you may call the library at 907-861-7645.
URL:https://ktna.org/events/reading-mentors-talkeetna-public-library-2025-11-04/
LOCATION:Talkeetna Public Library\, Talkeetna
CATEGORIES:Announcements,Calendar
END:VEVENT
BEGIN:VEVENT
DTSTART;TZID=America/Anchorage:20251030T111500
DTEND;TZID=America/Anchorage:20251030T111500
DTSTAMP:20260423T125917
CREATED:20250811T202202Z
LAST-MODIFIED:20251029T174243Z
UID:10005598-1761822900-1761822900@ktna.org
SUMMARY:Storytime - Talkeetna Public Library
DESCRIPTION:Talkeetna Public Library hosts Storytime at 11:15am on Thursdays with a snack\, stories and a craft. The theme this week is Spiders Are Your friends. Halloween treat bags will be handed out at the end of the program\, and there will be grab and go bags with the craft supplies included in the front entryway. All are welcome. For more information\, you may call Talkeetna Library at 907-861-7645.
URL:https://ktna.org/events/storytime-talkeetna-public-library-3-2025-08-21-2025-10-30/
LOCATION:Talkeetna Public Library\, Talkeetna
CATEGORIES:Announcements,Calendar
END:VEVENT
BEGIN:VEVENT
DTSTART;TZID=America/Anchorage:20251028T151500
DTEND;TZID=America/Anchorage:20251028T151500
DTSTAMP:20260423T125917
CREATED:20250916T192653Z
LAST-MODIFIED:20251103T220101Z
UID:10004735-1761664500-1761664500@ktna.org
SUMMARY:Reading Mentors - Talkeetna Public Library
DESCRIPTION:Talkeetna Public Library’s Reading Mentors program is on Tuesdays at 3:15pm. This program is for 1st through 3rd graders and is designed to help new readers get experience and confidence in reading out loud. If you have any questions\, or you would like to volunteer as a reading\, mentor\, you may call the library at 907-861-7645.
URL:https://ktna.org/events/reading-mentors-talkeetna-public-library/2025-10-28/
LOCATION:Talkeetna Public Library\, Talkeetna
CATEGORIES:Calendar
END:VEVENT
BEGIN:VEVENT
DTSTART;VALUE=DATE:20251028
DTEND;VALUE=DATE:20251029
DTSTAMP:20260423T125917
CREATED:20251023T200034Z
LAST-MODIFIED:20251023T200034Z
UID:10004901-1761609600-1761695999@ktna.org
SUMMARY:Volunteers needed - Talkeetna Public Library
DESCRIPTION:The Talkeetna Public Library is looking for volunteers.  Volunteers are needed for the Reading Mentors programs on Tuesdays at 3:15 to 4:30pm\, chefs for the soon-to-start Stone Soup adult cooking group\, as well as volunteers to work in the library. These positions do require some paperwork with the borough. For more information you may call the Talkeetna Library 907-861-7645\, Monday through Saturday\, 11am to 6pm.
URL:https://ktna.org/events/volunteers-needed-talkeetna-public-library/
LOCATION:Talkeetna Public Library\, Talkeetna
CATEGORIES:Calendar,Classifieds
END:VEVENT
BEGIN:VEVENT
DTSTART;VALUE=DATE:20251023
DTEND;VALUE=DATE:20251024
DTSTAMP:20260423T125917
CREATED:20251020T213625Z
LAST-MODIFIED:20251021T195728Z
UID:10004882-1761177600-1761263999@ktna.org
SUMMARY:Reading mentors needed - Talkeetna Public Library
DESCRIPTION:Adult and teen mentors are needed for the Tuesday afternoon Reading Mentors program.  This program will be held every Tuesday except Nov 11th\, until November 18th.  Please register with the library if you wish to attend.  Talkeetna Library phone is 907-861-7645
URL:https://ktna.org/events/reading-mentors-needed-talkeetna-public-library/
CATEGORIES:Calendar
END:VEVENT
BEGIN:VEVENT
DTSTART;TZID=America/Anchorage:20251020T160000
DTEND;TZID=America/Anchorage:20251020T170000
DTSTAMP:20260423T125917
CREATED:20251014T194747Z
LAST-MODIFIED:20251014T194747Z
UID:10005710-1760976000-1760979600@ktna.org
SUMMARY:Toddler Time - Talkeetna Public Library
DESCRIPTION:A new program is starting at the Talkeetna Public Library; Toddler Time! Beginning on Monday\, October 20th from 4 to 5pm. This weekly program is for ages 1 to 3 years old\, but all are welcome. This will be a a time for parents\, guardians\, grandmas and pas to participate in fun activities with their toddlers. For more information\, you may call 907-861-7645.
URL:https://ktna.org/events/toddler-time-talkeetna-public-library/
LOCATION:Talkeetna Public Library\, Talkeetna
CATEGORIES:Announcements,Calendar
END:VEVENT
BEGIN:VEVENT
DTSTART;TZID=America/Anchorage:20251014T151500
DTEND;TZID=America/Anchorage:20251014T151500
DTSTAMP:20260423T125917
CREATED:20250916T192653Z
LAST-MODIFIED:20251014T023235Z
UID:10004736-1760454900-1760454900@ktna.org
SUMMARY:Reading Mentors - Talkeetna Public Library
DESCRIPTION:Talkeetna Public Library’s Reading Mentors program meets Tuesdays at 3:15pm. This program is for 1st through 3rd graders. Preregistration is required. Teen and adult mentor volunteers are still needed\, please contact the library to learn about volunteering at 907-861-7645.
URL:https://ktna.org/events/reading-mentors-talkeetna-public-library-2025-10-14/
LOCATION:Talkeetna Public Library\, Talkeetna
CATEGORIES:Announcements,Calendar
END:VEVENT
BEGIN:VEVENT
DTSTART;TZID=America/Anchorage:20251013T110000
DTEND;TZID=America/Anchorage:20251013T180000
DTSTAMP:20260423T125917
CREATED:20251013T195202Z
LAST-MODIFIED:20251013T195202Z
UID:10005702-1760353200-1760378400@ktna.org
SUMMARY:Talkeetna Library Open Today & more
DESCRIPTION:The Talkeetna Public Library is open as usual today (Monday)\, despite the Federal Holiday. Beginning today\, parents can opt in to receive emails when their child checks out library materials. In order to sign up\, the parent or guardian on record must be listed on the library card account as the parent or guardian and have a valid e-mail address on file. If you have questions or need more information\, please ask the librarian.
URL:https://ktna.org/events/talkeetna-library-open-today-more/
LOCATION:Talkeetna Public Library\, Talkeetna
CATEGORIES:Calendar
END:VEVENT
BEGIN:VEVENT
DTSTART;TZID=America/Anchorage:20251009T111500
DTEND;TZID=America/Anchorage:20251009T111500
DTSTAMP:20260423T125917
CREATED:20250811T202202Z
LAST-MODIFIED:20251009T191558Z
UID:10005597-1760008500-1760008500@ktna.org
SUMMARY:Storytime - Talkeetna Public Library
DESCRIPTION:Talkeetna Public Library hosts Storytime at 11:15am on Thursdays with a snack\, stories and a craft. All are welcome. For more information\, you may call Talkeetna Library at 907-861-7645.
URL:https://ktna.org/events/storytime-talkeetna-public-library-3-2025-08-21-2025-10-09/
LOCATION:Talkeetna Public Library\, Talkeetna
CATEGORIES:Calendar
END:VEVENT
BEGIN:VEVENT
DTSTART;TZID=America/Anchorage:20251005T170000
DTEND;TZID=America/Anchorage:20251005T170000
DTSTAMP:20260423T125917
CREATED:20250925T012144Z
LAST-MODIFIED:20250930T185919Z
UID:10005670-1759683600-1759683600@ktna.org
SUMMARY:Voter registration
DESCRIPTION:The Talkeetna Public Library is offering support to help people register to vote. The next election is on November 4th\, which means you must register by October 5th in order to have your vote count. Help is available at the Talkeetna Library during open hours\, 11am to 6pm\, Monday through Saturday.  Absentee in-person voting will be held at the library beginning October 20 through November 3rd.  For more information\, you may call 907-861-7645.
URL:https://ktna.org/events/voter-registration/
LOCATION:Talkeetna Public Library\, Talkeetna
CATEGORIES:Calendar
END:VEVENT
BEGIN:VEVENT
DTSTART;TZID=America/Anchorage:20250927T130000
DTEND;TZID=America/Anchorage:20250927T170000
DTSTAMP:20260423T125917
CREATED:20250924T005453Z
LAST-MODIFIED:20250924T005453Z
UID:10005668-1758978000-1758992400@ktna.org
SUMMARY:Your Talkeetna Public Library Card
DESCRIPTION:On Saturday\, September 27th\, the Talkeetna Public Library is hosting a drop-in event – Unleash the Power of Your Library Card. Talkeetna Library Staff will help you to access the special features that you can use at home that are included with your library card. You can drop in anytime between 1pm and 5pm.  For more information\, call 907-861-7645
URL:https://ktna.org/events/your-talkeetna-public-library-card/
LOCATION:Talkeetna Public Library\, Talkeetna
CATEGORIES:Announcements,Calendar
END:VEVENT
BEGIN:VEVENT
DTSTART;TZID=America/Anchorage:20250925T111500
DTEND;TZID=America/Anchorage:20250925T111500
DTSTAMP:20260423T125917
CREATED:20250811T202202Z
LAST-MODIFIED:20250922T233705Z
UID:10005596-1758798900-1758798900@ktna.org
SUMMARY:Storytime - Talkeetna Public Library
DESCRIPTION:Talkeetna Public Library hosts Storytime at 11:15am on Thursdays with a snack\, stories and a craft. The theme this week is Science Thursday with Miss Pamala and Mr. Michael. All are welcome. For more information\, you may call Talkeetna Library at 907-861-7645.
URL:https://ktna.org/events/storytime-talkeetna-public-library-3-2025-08-21-2025-09-25/
LOCATION:Talkeetna Public Library\, Talkeetna
CATEGORIES:Announcements,Calendar
END:VEVENT
BEGIN:VEVENT
DTSTART;TZID=America/Anchorage:20250918T111500
DTEND;TZID=America/Anchorage:20250918T111500
DTSTAMP:20260423T125917
CREATED:20250811T202202Z
LAST-MODIFIED:20250917T193625Z
UID:10005595-1758194100-1758194100@ktna.org
SUMMARY:Storytime - Talkeetna Public Library
DESCRIPTION:Talkeetna Public Library hosts Storytime at 11:15am on Thursdays with a snack\, stories and a craft. The theme this week is Lovely Birds. Everyone will also have the opportunity to make and add to their Bookworm. All ages are welcome. Make and Make craft bags will be available at the front entry for those unable to attend. For more information\, you may call Talkeetna Library at 907-861-7645.
URL:https://ktna.org/events/storytime-talkeetna-public-library-3-2025-08-21-2025-09-18/
LOCATION:Talkeetna Public Library\, Talkeetna
CATEGORIES:Announcements,Calendar
END:VEVENT
BEGIN:VEVENT
DTSTART;TZID=America/Anchorage:20250918T100000
DTEND;TZID=America/Anchorage:20250918T110000
DTSTAMP:20260423T125917
CREATED:20250811T193041Z
LAST-MODIFIED:20250918T181702Z
UID:10004535-1758189600-1758193200@ktna.org
SUMMARY:Strong Women Exercise Group - Talkeetna Public Library
DESCRIPTION:Strong Women exercise group meet at 10 am at the Talkeetna Public Library on Tuesdays and Thursdays. A Zoom option is available. This program is aimed at improving strength\, balance and flexibility for women over 40 years old. Newcomers are always welcome\, weights and instructions are provided. For more information\, you may call the library at 907-861-7645.
URL:https://ktna.org/events/strong-women-exercise-group-talkeetna-public-library-2025-09-18/
LOCATION:Talkeetna Public Library\, Talkeetna
CATEGORIES:Calendar
END:VEVENT
BEGIN:VEVENT
DTSTART;TZID=America/Anchorage:20250911T111500
DTEND;TZID=America/Anchorage:20250911T111500
DTSTAMP:20260423T125917
CREATED:20250811T202202Z
LAST-MODIFIED:20250902T201227Z
UID:10005594-1757589300-1757589300@ktna.org
SUMMARY:Storytime - Talkeetna Public Library
DESCRIPTION:Talkeetna Public Library hosts Storytime at 11:15am on Thursdays with a snack\, stories and a craft. The theme this week is Fall is on the Way. All are welcome. For more information\, you may call Talkeetna Library at 907-861-7645.
URL:https://ktna.org/events/storytime-talkeetna-public-library-3-2025-08-21-2025-09-11/
LOCATION:Talkeetna Public Library\, Talkeetna
CATEGORIES:Calendar
END:VEVENT
BEGIN:VEVENT
DTSTART;TZID=America/Anchorage:20250904T111500
DTEND;TZID=America/Anchorage:20250904T111500
DTSTAMP:20260423T125917
CREATED:20250811T202202Z
LAST-MODIFIED:20250902T201057Z
UID:10005593-1756984500-1756984500@ktna.org
SUMMARY:Storytime - Talkeetna Public Library
DESCRIPTION:Talkeetna Public Library hosts Storytime at 11:15am on Thursdays with a snack\, stories and a craft. The theme this week is I Love My Library. All are welcome. For more information\, you may call Talkeetna Library at 907-861-7645.
URL:https://ktna.org/events/storytime-talkeetna-public-library-3-2025-08-21-2025-09-04/
LOCATION:Talkeetna Public Library\, Talkeetna
CATEGORIES:Announcements,Calendar
END:VEVENT
BEGIN:VEVENT
DTSTART;TZID=America/Anchorage:20250902T130000
DTEND;TZID=America/Anchorage:20250902T130000
DTSTAMP:20260423T125917
CREATED:20250828T190357Z
LAST-MODIFIED:20250828T190357Z
UID:10005621-1756818000-1756818000@ktna.org
SUMMARY:Alzheimer’s and Dementia webinar - Talkeetna Public Library
DESCRIPTION:Talkeetna Public Library is showing a one hour Zoom webinar titled Caregiver 101: Understanding Alzheimer’s and Dementia on Tuesday\, September 2nd at 1pm. This webinar is presented by the Alzheimer’s Resources of Alaska. All are welcome. For more information\, you may call Talkeetna Library at 907-861-7645.
URL:https://ktna.org/events/alzheimers-and-dementia-webinar-talkeetna-public-library/
LOCATION:Talkeetna Public Library\, Talkeetna
CATEGORIES:Announcements,Calendar
END:VEVENT
BEGIN:VEVENT
DTSTART;TZID=America/Anchorage:20250828T111500
DTEND;TZID=America/Anchorage:20250828T111500
DTSTAMP:20260423T125917
CREATED:20250811T202202Z
LAST-MODIFIED:20250825T232150Z
UID:10005592-1756379700-1756379700@ktna.org
SUMMARY:Storytime - Talkeetna Public Library
DESCRIPTION:Talkeetna Public Library hosts Storytime at 11:15am on Thursdays with a snack\, stories and a craft. All are welcome. For those unable to attend\, there will be Take and Make supplies in the entryway. For more information\, you may call Talkeetna Library at 907-861-7645.
URL:https://ktna.org/events/storytime-talkeetna-public-library-3-2025-08-21-2025-08-28/
LOCATION:Talkeetna Public Library\, Talkeetna
CATEGORIES:Announcements,Calendar
END:VEVENT
BEGIN:VEVENT
DTSTART;TZID=America/Anchorage:20250821T111500
DTEND;TZID=America/Anchorage:20250821T111500
DTSTAMP:20260423T125917
CREATED:20250811T202202Z
LAST-MODIFIED:20260221T010203Z
UID:10005591-1755774900-1755774900@ktna.org
SUMMARY:Storytime - Talkeetna Public Library
DESCRIPTION:Talkeetna Public Library hosts Storytime at 11:15am on Thursdays with a snack\, stories and a craft. All are welcome. For more information\, you may call Talkeetna Library at 907-861-7645.
URL:https://ktna.org/events/storytime-talkeetna-public-library-3-2025-08-21/
LOCATION:Talkeetna Public Library\, Talkeetna
CATEGORIES:Calendar
END:VEVENT
BEGIN:VEVENT
DTSTART;TZID=America/Anchorage:20250814T111500
DTEND;TZID=America/Anchorage:20250814T111500
DTSTAMP:20260423T125917
CREATED:20250811T202202Z
LAST-MODIFIED:20250814T182117Z
UID:10004674-1755170100-1755170100@ktna.org
SUMMARY:Fall & Winter Programs - Talkeetna Public Library
DESCRIPTION:Talkeetna Public Library hosts various programs through the fall and winter. Storytime is at 11:15am on Thursdays with a snack\, stories and a craft\, beginning on August 14th. The theme this week is Off to School with a special prize for all attendees. \nMore library programs like Breakfast Book Club\, Teen and Tween book-to-movie\, Reading Mentors\, and Stone Soup cooking classes will begin in mid September and October. If you have a request or an idea for additional programs\, please contact the Talkeetna Library at 907-861-7645.
URL:https://ktna.org/events/storytime-talkeetna-public-library-3/
LOCATION:Talkeetna Public Library\, Talkeetna
CATEGORIES:Calendar
END:VEVENT
BEGIN:VEVENT
DTSTART;TZID=America/Anchorage:20250804T110000
DTEND;TZID=America/Anchorage:20250804T110000
DTSTAMP:20260423T125917
CREATED:20250708T194938Z
LAST-MODIFIED:20250804T205542Z
UID:10005334-1754305200-1754305200@ktna.org
SUMMARY:Talkeetna Library Literary Camp
DESCRIPTION:The Talkeetna Library Literary Camp scheduled for this week has been canceled. You may call the Talkeetna Library at 907-861-7645 with any questions.
URL:https://ktna.org/events/talkeetna-library-literary-camp/
LOCATION:Talkeetna Public Library\, Talkeetna
CATEGORIES:Announcements,Calendar
END:VEVENT
BEGIN:VEVENT
DTSTART;TZID=America/Anchorage:20250723T110000
DTEND;TZID=America/Anchorage:20250723T180000
DTSTAMP:20260423T125917
CREATED:20250708T203040Z
LAST-MODIFIED:20250723T013119Z
UID:10005337-1753268400-1753293600@ktna.org
SUMMARY:Talkeetna Public Library closure
DESCRIPTION:The Talkeetna Public Library is closed for staff training on Wednesday\, July 23rd. They are normally open Monday through Saturday from 11am until 6pm. Talkeetna Library’s Wi-Fi is always on and available to use.
URL:https://ktna.org/events/talkeetna-public-library-is-closed-today/
LOCATION:Talkeetna Public Library\, Talkeetna
CATEGORIES:Announcements,Calendar
END:VEVENT
END:VCALENDAR