BEGIN:VCALENDAR
VERSION:2.0
PRODID:-//KTNA 88.9 FM - ECPv6.15.20//NONSGML v1.0//EN
CALSCALE:GREGORIAN
METHOD:PUBLISH
X-WR-CALNAME:KTNA 88.9 FM
X-ORIGINAL-URL:https://ktna.org
X-WR-CALDESC:Events for KTNA 88.9 FM
REFRESH-INTERVAL;VALUE=DURATION:PT1H
X-Robots-Tag:noindex
X-PUBLISHED-TTL:PT1H
BEGIN:VTIMEZONE
TZID:America/Anchorage
BEGIN:DAYLIGHT
TZOFFSETFROM:-0900
TZOFFSETTO:-0800
TZNAME:AKDT
DTSTART:20230312T110000
END:DAYLIGHT
BEGIN:STANDARD
TZOFFSETFROM:-0800
TZOFFSETTO:-0900
TZNAME:AKST
DTSTART:20231105T100000
END:STANDARD
BEGIN:DAYLIGHT
TZOFFSETFROM:-0900
TZOFFSETTO:-0800
TZNAME:AKDT
DTSTART:20240310T110000
END:DAYLIGHT
BEGIN:STANDARD
TZOFFSETFROM:-0800
TZOFFSETTO:-0900
TZNAME:AKST
DTSTART:20241103T100000
END:STANDARD
BEGIN:DAYLIGHT
TZOFFSETFROM:-0900
TZOFFSETTO:-0800
TZNAME:AKDT
DTSTART:20250309T110000
END:DAYLIGHT
BEGIN:STANDARD
TZOFFSETFROM:-0800
TZOFFSETTO:-0900
TZNAME:AKST
DTSTART:20251102T100000
END:STANDARD
BEGIN:DAYLIGHT
TZOFFSETFROM:-0900
TZOFFSETTO:-0800
TZNAME:AKDT
DTSTART:20260308T110000
END:DAYLIGHT
BEGIN:STANDARD
TZOFFSETFROM:-0800
TZOFFSETTO:-0900
TZNAME:AKST
DTSTART:20261101T100000
END:STANDARD
BEGIN:DAYLIGHT
TZOFFSETFROM:-0900
TZOFFSETTO:-0800
TZNAME:AKDT
DTSTART:20270314T110000
END:DAYLIGHT
BEGIN:STANDARD
TZOFFSETFROM:-0800
TZOFFSETTO:-0900
TZNAME:AKST
DTSTART:20271107T100000
END:STANDARD
END:VTIMEZONE
BEGIN:VEVENT
DTSTART;TZID=America/Anchorage:20260414T120000
DTEND;TZID=America/Anchorage:20260414T160000
DTSTAMP:20260420T164440
CREATED:20260413T195309Z
LAST-MODIFIED:20260414T192610Z
UID:10005185-1776168000-1776182400@ktna.org
SUMMARY:Talkeetna Recycling
DESCRIPTION:Talkeetna Recycling is open on Tuesdays and Saturdays from 12:00 to 4:00 pm at the Talkeetna Transfer station. Cardboard recycling is available on Saturdays only. They are always looking for volunteers. To learn more\, call Cici at (907)355-8324 and visit their Facebook Page.
URL:https://ktna.org/events/talkeetna-recycling-3-4/
LOCATION:Talkeetna Transfer Station\, Mile\, 11.5 Talkeetna Spur Rd\, Talkeetna\, AK\, 99676\, United States
CATEGORIES:Calendar
END:VEVENT
BEGIN:VEVENT
DTSTART;TZID=America/Anchorage:20260323T163000
DTEND;TZID=America/Anchorage:20260323T163000
DTSTAMP:20260420T164440
CREATED:20260318T232447Z
LAST-MODIFIED:20260318T232447Z
UID:10008118-1774283400-1774283400@ktna.org
SUMMARY:Talkeetna Recycling Committee Meeting
DESCRIPTION:The next meeting of the Talkeetna Recycling Committee is on Monday\, March 23rd at 4:30PM via Zoom. Contact Cici at 907-355-8324 for more information.
URL:https://ktna.org/events/talkeetna-recycling-committee-meeting-9/
CATEGORIES:Announcements,Calendar
END:VEVENT
BEGIN:VEVENT
DTSTART;TZID=America/Anchorage:20260303T163000
DTEND;TZID=America/Anchorage:20260303T173000
DTSTAMP:20260420T164440
CREATED:20260302T050053Z
LAST-MODIFIED:20260302T050053Z
UID:10005971-1772555400-1772559000@ktna.org
SUMMARY:Talkeetna Recycling Committee Meeting
DESCRIPTION:The next meeting of the Talkeetna Recycling Committee will be held at 4:30PM on Tuesday\, March 3rd\, via Zoom. For those interested in attending the meeting or getting more information\, contact Cici at 907-355-8324 or email at recycling@talkeetnacouncil.org.
URL:https://ktna.org/events/talkeetna-recycling-committee-meeting-8/
CATEGORIES:Announcements,Calendar
END:VEVENT
BEGIN:VEVENT
DTSTART;TZID=America/Anchorage:20260303T120000
DTEND;TZID=America/Anchorage:20260303T160000
DTSTAMP:20260420T164440
CREATED:20260112T202836Z
LAST-MODIFIED:20260202T205238Z
UID:10005852-1772539200-1772553600@ktna.org
SUMMARY:Talkeetna Recycling
DESCRIPTION:Talkeetna Recycling is open on Tuesdays and Saturdays from 12:00 to 4:00 pm at the Talkeetna Transfer station. Cardboard recycling is available on Saturdays only. They are always looking for volunteers. To learn more\, call Cici at (907)355-8324 and visit their Facebook Page.
URL:https://ktna.org/events/talkeetna-recycling/2026-03-03/
LOCATION:Talkeetna Transfer Station\, Mile\, 11.5 Talkeetna Spur Rd\, Talkeetna\, AK\, 99676\, United States
CATEGORIES:Calendar
END:VEVENT
BEGIN:VEVENT
DTSTART;TZID=America/Anchorage:20260210T163000
DTEND;TZID=America/Anchorage:20260210T163000
DTSTAMP:20260420T164440
CREATED:20260205T205428Z
LAST-MODIFIED:20260207T002804Z
UID:10005894-1770741000-1770741000@ktna.org
SUMMARY:Talkeetna Recycling Committee meeting
DESCRIPTION:The Talkeetna Recycling Committee meet on Tuesday\, February 10th\, at 4:30pm via Zoom. Recyclers are welcome to join the committee and help plan for some upcoming events. For meeting information contact Cici at 907-355-8324.
URL:https://ktna.org/events/talkeetna-recycling-committee-meeting-7/
LOCATION:Zoom
CATEGORIES:Announcements,Calendar
END:VEVENT
BEGIN:VEVENT
DTSTART;TZID=America/Anchorage:20260122T163000
DTEND;TZID=America/Anchorage:20260122T173000
DTSTAMP:20260420T164440
CREATED:20260114T005454Z
LAST-MODIFIED:20260121T225622Z
UID:10005856-1769099400-1769103000@ktna.org
SUMMARY:Talkeetna Recycling Committee Meeting
DESCRIPTION:The Recycling Committee meeting has been rescheduled for Thursday\, January 22nd at 4:30pm via zoom. Contact Cici at 907-355-8324 for details.
URL:https://ktna.org/events/talkeetna-recycling-committee-meeting-6/
CATEGORIES:Announcements,Calendar
END:VEVENT
BEGIN:VEVENT
DTSTART;TZID=America/Anchorage:20251209T163000
DTEND;TZID=America/Anchorage:20251209T163000
DTSTAMP:20260420T164440
CREATED:20251202T195417Z
LAST-MODIFIED:20251202T195417Z
UID:10005774-1765297800-1765297800@ktna.org
SUMMARY:Talkeetna Recycling Committee meeting
DESCRIPTION:The Talkeetna Recycling Committee will hold its next meeting on Tuesday\, December 9th\, at 4:30PM\, via Zoom. Anyone interested in recycling is welcome to attend. For information about the agenda or the Zoom link\, contact Cici at 907-355-8324.
URL:https://ktna.org/events/talkeetna-recycling-committee-meeting-5/
LOCATION:Virtual
CATEGORIES:Announcements,Calendar
END:VEVENT
BEGIN:VEVENT
DTSTART;TZID=America/Anchorage:20250916T163000
DTEND;TZID=America/Anchorage:20250916T163000
DTSTAMP:20260420T164440
CREATED:20250904T180534Z
LAST-MODIFIED:20250915T164955Z
UID:10005650-1758040200-1758040200@ktna.org
SUMMARY:Talkeetna Recycling Committee meeting
DESCRIPTION:The next meeting of the Talkeetna Recycling Committee is on Tuesday\, September 16th\, at 4:30 PM. Anyone interested in working on current recycling projects and the development of new recycling ideas is welcome to attend. For information regarding the place of the meeting\, the zoom link\, or the agenda\, contact Cici Schoenberger at 907-355-8324.
URL:https://ktna.org/events/talkeetna-recycling-committee-meeting/
CATEGORIES:Announcements,Calendar
END:VEVENT
BEGIN:VEVENT
DTSTART;TZID=America/Anchorage:20250913T120000
DTEND;TZID=America/Anchorage:20250913T160000
DTSTAMP:20260420T164440
CREATED:20250910T173737Z
LAST-MODIFIED:20250910T173737Z
UID:10005653-1757764800-1757779200@ktna.org
SUMMARY:Bees at Talkeetna Recycling
DESCRIPTION:Talkeetna Recycling is on Tuesdays and Saturdays from 12 to 4pm. There has been a lot of bee activity at recycling recently. The recycling team warns you to be very careful when on the ramp. If you are allergic to bees\, please try to stay away until after a freeze.
URL:https://ktna.org/events/bees-at-talkeetna-recycling/
LOCATION:Talkeetna Transfer Site
CATEGORIES:Announcements,Calendar
END:VEVENT
BEGIN:VEVENT
DTSTART;TZID=America/Anchorage:20250719T110000
DTEND;TZID=America/Anchorage:20250719T150000
DTSTAMP:20260420T164440
CREATED:20250702T232042Z
LAST-MODIFIED:20250714T194334Z
UID:10005324-1752922800-1752937200@ktna.org
SUMMARY:EWaste & Miscellaneous Plastic Collection Day
DESCRIPTION:Talkeetna Recycling and Valley Recycling are hosting electronic waste and miscellaneous plastic collection at the Upper Susitna Community and Senior Center on Saturday\, July 19th\, from 11am until 3pm. \nAccepted electronic items include; radios\, TVs\, other small appliances\, cables\, wires\, and fluorescent bulbs. \n\nDo not bring large appliances\, smoke alarms\, scrap metal\, batteries\, ballasts\, medical equipment\, or anything containing liquids.\n\nAccepted plastics include; #1 plastics such as clamshells\, to-go cups and more\, plastic bottle caps\, and other miscellaneous plastics which are not normally accepted at Talkeetna Recycling. \n\nDo not bring #1 plastic bottles\, #2 plastic\, or #5 plastic. These items can be recycled normally on Tuesdays and Saturdays at Talkeetna Recycling.\n\nMore information at valleyrecyclingak.org.
URL:https://ktna.org/events/ewaste-and-miscellaneous-plastic-collection-day/
LOCATION:Upper Susitna Community and Senior Center
CATEGORIES:Announcements,Calendar
END:VEVENT
BEGIN:VEVENT
DTSTART;TZID=America/Anchorage:20250523T133000
DTEND;TZID=America/Anchorage:20250523T133000
DTSTAMP:20260420T164440
CREATED:20250522T030509Z
LAST-MODIFIED:20250522T030509Z
UID:10005277-1748007000-1748007000@ktna.org
SUMMARY:Cardboard processing training
DESCRIPTION:Talkeetna Recycling is holding a training for cardboard processing on Friday\, May 23rd at 1:30 at the baler building at the Transfer Site. Everyone is welcome to attend. Recycling is very much in need of additional volunteers for both regular recycling and cardboard processing. Any help would be very much appreciated.
URL:https://ktna.org/events/cardboard-processing-training/
LOCATION:Talkeetna Transfer Site
CATEGORIES:Announcements,Calendar
END:VEVENT
BEGIN:VEVENT
DTSTART;TZID=America/Anchorage:20250428T163000
DTEND;TZID=America/Anchorage:20250428T163000
DTSTAMP:20260420T164440
CREATED:20250422T164446Z
LAST-MODIFIED:20250422T164446Z
UID:10004987-1745857800-1745857800@ktna.org
SUMMARY:Recycling Committee Meeting
DESCRIPTION:The next meeting of the Talkeetna Recycling Committee will be held on Monday\, April 28th\, at 4:30 PM. For the agenda\, zoom link\, and in-person location\, please contact Cici at 907-355-8324.
URL:https://ktna.org/events/recycling-committee-meeting-2/
CATEGORIES:Announcements,Calendar
END:VEVENT
BEGIN:VEVENT
DTSTART;TZID=America/Anchorage:20250331T163000
DTEND;TZID=America/Anchorage:20250331T163000
DTSTAMP:20260420T164440
CREATED:20250318T014048Z
LAST-MODIFIED:20250329T023210Z
UID:10004894-1743438600-1743438600@ktna.org
SUMMARY:Recycling Committee Meeting
DESCRIPTION:The next meeting of the Talkeetna Recycling Committee will be held on Monday\, March 31st at 4:30 PM. All are welcome to attend. For information about the agenda\, place of the meeting\, or Zoom link\, please contact Cici Schoenberger at 907-355-8324.
URL:https://ktna.org/events/recycling-committee-meeting/
CATEGORIES:Announcements,Calendar
END:VEVENT
BEGIN:VEVENT
DTSTART;TZID=America/Anchorage:20250201T120000
DTEND;TZID=America/Anchorage:20250201T160000
DTSTAMP:20260420T164440
CREATED:20250131T202727Z
LAST-MODIFIED:20250201T033408Z
UID:10004676-1738411200-1738425600@ktna.org
SUMMARY:Talkeetna Recycling Notice
DESCRIPTION:Talkeetna Recycling is to not open if the temperature\, actual or windchill\, is below zero. Please check either on social media or with the Talkeetna Transfer Site as to whether it will be open this Saturday.  The goal is to keep both recyclers and volunteers safe and comfortable given the conditions.
URL:https://ktna.org/events/talkeetna-recycling-notice/
LOCATION:Talkeetna Transfer Station\, Mile\, 11.5 Talkeetna Spur Rd\, Talkeetna\, AK\, 99676\, United States
CATEGORIES:Announcements
END:VEVENT
BEGIN:VEVENT
DTSTART;TZID=America/Anchorage:20240430T163000
DTEND;TZID=America/Anchorage:20240430T180000
DTSTAMP:20260420T164440
CREATED:20240426T201506Z
LAST-MODIFIED:20241030T224727Z
UID:10003705-1714494600-1714500000@ktna.org
SUMMARY:Talkeetna Recycling Committee meeting
DESCRIPTION:The next meeting of the Talkeetna Recycling Committee is on Tuesday\, April 30th\, at 4:30 PM. All who are interested in working on recycling related projects are welcome to attend. For more information about the location or the agenda you may contact Cici at 907-355-8324.
URL:https://ktna.org/events/talkeetna-recycling-committee-meeting-3/
CATEGORIES:Calendar
END:VEVENT
END:VCALENDAR