BEGIN:VCALENDAR
VERSION:2.0
PRODID:-//KTNA 88.9 FM - ECPv6.15.20//NONSGML v1.0//EN
CALSCALE:GREGORIAN
METHOD:PUBLISH
X-WR-CALNAME:KTNA 88.9 FM
X-ORIGINAL-URL:https://ktna.org
X-WR-CALDESC:Events for KTNA 88.9 FM
REFRESH-INTERVAL;VALUE=DURATION:PT1H
X-Robots-Tag:noindex
X-PUBLISHED-TTL:PT1H
BEGIN:VTIMEZONE
TZID:America/Anchorage
BEGIN:DAYLIGHT
TZOFFSETFROM:-0900
TZOFFSETTO:-0800
TZNAME:AKDT
DTSTART:20240310T110000
END:DAYLIGHT
BEGIN:STANDARD
TZOFFSETFROM:-0800
TZOFFSETTO:-0900
TZNAME:AKST
DTSTART:20241103T100000
END:STANDARD
BEGIN:DAYLIGHT
TZOFFSETFROM:-0900
TZOFFSETTO:-0800
TZNAME:AKDT
DTSTART:20250309T110000
END:DAYLIGHT
BEGIN:STANDARD
TZOFFSETFROM:-0800
TZOFFSETTO:-0900
TZNAME:AKST
DTSTART:20251102T100000
END:STANDARD
BEGIN:DAYLIGHT
TZOFFSETFROM:-0900
TZOFFSETTO:-0800
TZNAME:AKDT
DTSTART:20260308T110000
END:DAYLIGHT
BEGIN:STANDARD
TZOFFSETFROM:-0800
TZOFFSETTO:-0900
TZNAME:AKST
DTSTART:20261101T100000
END:STANDARD
BEGIN:DAYLIGHT
TZOFFSETFROM:-0900
TZOFFSETTO:-0800
TZNAME:AKDT
DTSTART:20270314T110000
END:DAYLIGHT
BEGIN:STANDARD
TZOFFSETFROM:-0800
TZOFFSETTO:-0900
TZNAME:AKST
DTSTART:20271107T100000
END:STANDARD
END:VTIMEZONE
BEGIN:VEVENT
DTSTART;TZID=America/Anchorage:20260416T183000
DTEND;TZID=America/Anchorage:20260416T183000
DTSTAMP:20260423T024924
CREATED:20260316T181219Z
LAST-MODIFIED:20260401T192143Z
UID:10008575-1776364200-1776364200@ktna.org
SUMMARY:Trapper Creek Community Council Meeting
DESCRIPTION:The Trapper Creek Community Council meets the 3rd Thursday of every month at 6:30pm at the Trapper Creek Community Center. All are welcome to attend.
URL:https://ktna.org/events/trapper-creek-community-council-meeting-2/2026-04-16/
LOCATION:Trapper Creek Community Center
CATEGORIES:Calendar
END:VEVENT
BEGIN:VEVENT
DTSTART;TZID=America/Anchorage:20260122T183000
DTEND;TZID=America/Anchorage:20260122T183000
DTSTAMP:20260423T024924
CREATED:20260116T021516Z
LAST-MODIFIED:20260121T223717Z
UID:10005860-1769106600-1769106600@ktna.org
SUMMARY:Trapper Creek Community Council Meeting
DESCRIPTION:The Trapper Creek Community Council is meeting Thursday\, January 22nd at 6:30 pm.
URL:https://ktna.org/events/110633/
LOCATION:Trapper Creek Community Center
CATEGORIES:Announcements,Calendar
END:VEVENT
BEGIN:VEVENT
DTSTART;TZID=America/Anchorage:20250717T183000
DTEND;TZID=America/Anchorage:20250717T183000
DTSTAMP:20260423T024924
CREATED:20250417T001910Z
LAST-MODIFIED:20250716T225324Z
UID:10004962-1752777000-1752777000@ktna.org
SUMMARY:Trapper Creek Community Council Meeting
DESCRIPTION:The Trapper Creek Community Council meets the 3rd Thursday of every month at 6:30pm at the Trapper Creek Community Center. The next meeting is July 17th.  All are welcome to attend.
URL:https://ktna.org/events/trapper-creek-community-council-meeting-2025-07-17/
LOCATION:Trapper Creek Community Center
CATEGORIES:Announcements,Calendar
END:VEVENT
BEGIN:VEVENT
DTSTART;TZID=America/Anchorage:20250715T180000
DTEND;TZID=America/Anchorage:20250715T180000
DTSTAMP:20260423T024924
CREATED:20250714T192632Z
LAST-MODIFIED:20250716T003201Z
UID:10005350-1752602400-1752602400@ktna.org
SUMMARY:Trapper Creek Community Services Association
DESCRIPTION:The Trapper Creek Community Services Association is meeting Tuesday\, July 15 at 6:00 p.m. The meeting is at Trapper Creek Community Center located at mile 115.5 Parks Highway.
URL:https://ktna.org/events/trapper-creek-community-services-association/
LOCATION:Trapper Creek Community Center
CATEGORIES:Calendar
END:VEVENT
END:VCALENDAR