BEGIN:VCALENDAR
VERSION:2.0
PRODID:-//KTNA 88.9 FM - ECPv6.15.20//NONSGML v1.0//EN
CALSCALE:GREGORIAN
METHOD:PUBLISH
X-ORIGINAL-URL:https://ktna.org
X-WR-CALDESC:Events for KTNA 88.9 FM
REFRESH-INTERVAL;VALUE=DURATION:PT1H
X-Robots-Tag:noindex
X-PUBLISHED-TTL:PT1H
BEGIN:VTIMEZONE
TZID:America/Anchorage
BEGIN:DAYLIGHT
TZOFFSETFROM:-0900
TZOFFSETTO:-0800
TZNAME:AKDT
DTSTART:20240310T110000
END:DAYLIGHT
BEGIN:STANDARD
TZOFFSETFROM:-0800
TZOFFSETTO:-0900
TZNAME:AKST
DTSTART:20241103T100000
END:STANDARD
BEGIN:DAYLIGHT
TZOFFSETFROM:-0900
TZOFFSETTO:-0800
TZNAME:AKDT
DTSTART:20250309T110000
END:DAYLIGHT
BEGIN:STANDARD
TZOFFSETFROM:-0800
TZOFFSETTO:-0900
TZNAME:AKST
DTSTART:20251102T100000
END:STANDARD
BEGIN:DAYLIGHT
TZOFFSETFROM:-0900
TZOFFSETTO:-0800
TZNAME:AKDT
DTSTART:20260308T110000
END:DAYLIGHT
BEGIN:STANDARD
TZOFFSETFROM:-0800
TZOFFSETTO:-0900
TZNAME:AKST
DTSTART:20261101T100000
END:STANDARD
BEGIN:DAYLIGHT
TZOFFSETFROM:-0900
TZOFFSETTO:-0800
TZNAME:AKDT
DTSTART:20270314T110000
END:DAYLIGHT
BEGIN:STANDARD
TZOFFSETFROM:-0800
TZOFFSETTO:-0900
TZNAME:AKST
DTSTART:20271107T100000
END:STANDARD
END:VTIMEZONE
BEGIN:VEVENT
DTSTART;TZID=America/Anchorage:20260410T190000
DTEND;TZID=America/Anchorage:20260410T210000
DTSTAMP:20260421T081103
CREATED:20260408T191403Z
LAST-MODIFIED:20260409T230326Z
UID:10007290-1775847600-1775854800@ktna.org
SUMMARY:Bingo - Upper Susitna Seniors
DESCRIPTION:Bingo scheduled at the Upper Susitna Community and Senior Center for April 10th has been canceled. You may call (907)733-6200 for more information.
URL:https://ktna.org/events/bingo-upper-susitna-seniors-4/
LOCATION:Upper Susitna Community and Senior Center\, 16463 E. Helena Ave. / Mile 98.5 Parks Hwy.\, Sunshine\, Alaska\, 99676
CATEGORIES:Announcements,Calendar
END:VEVENT
BEGIN:VEVENT
DTSTART;TZID=America/Anchorage:20260404T100000
DTEND;TZID=America/Anchorage:20260404T113000
DTSTAMP:20260421T081103
CREATED:20260331T234538Z
LAST-MODIFIED:20260331T234538Z
UID:10008568-1775296800-1775302200@ktna.org
SUMMARY:Easter Egg Hunt and festivities - Upper Susitna Seniors
DESCRIPTION:The Upper Susitna Seniors are hosting an Easter egg hunt with egg dying\, games and a cake walk on Saturday\, April 4th from 10-11:30am at the Senior Center. All are welcome. Kids should bring a basket or bag for the hunt.
URL:https://ktna.org/events/easter-egg-hunt-and-festivities-upper-susitna-seniors/
LOCATION:Upper Susitna Community and Senior Center
CATEGORIES:Announcements,Calendar
END:VEVENT
BEGIN:VEVENT
DTSTART;TZID=America/Anchorage:20260320T180000
DTEND;TZID=America/Anchorage:20260320T180000
DTSTAMP:20260421T081103
CREATED:20260311T171256Z
LAST-MODIFIED:20260317T194033Z
UID:10007420-1774029600-1774029600@ktna.org
SUMMARY:Spaghetti Dinner - Upper Susitna Seniors
DESCRIPTION:The Upper Susitna Seniors are hosting a Spaghetti Dinner Fundraiser at the Upper Susitna Community and Senior Center on Friday\, March 20th. All are welcome to purchase a dinner of spaghetti\, salad and garlic bread for $10. There will also be a split the pot and a silent auction. All proceeds go towards the Upper Susitna Community and Senior Center and helping to cover the cost of a new septic system for the building. For more information you may call (907)733-6200.
URL:https://ktna.org/events/spaghetti-dinner-upper-susitna-seniors/
LOCATION:Upper Susitna Community and Senior Center\, 16463 E. Helena Ave. / Mile 98.5 Parks Hwy.\, Sunshine\, Alaska\, 99676
CATEGORIES:Announcements,Calendar
END:VEVENT
BEGIN:VEVENT
DTSTART;TZID=America/Anchorage:20260116T190000
DTEND;TZID=America/Anchorage:20260116T190000
DTSTAMP:20260421T081103
CREATED:20260115T204818Z
LAST-MODIFIED:20260116T210647Z
UID:10005859-1768590000-1768590000@ktna.org
SUMMARY:Bingo Canceled - Upper Susitna Community and Senior Center
DESCRIPTION:Due to the weather\, Bingo at the Upper Susitna Community and Senior Center is canceled on Friday\, January 16th. For more information you may call them at (907)733-6200.
URL:https://ktna.org/events/bingo-canceled-upper-susitna-community-and-senior-center/
LOCATION:Upper Susitna Community and Senior Center\, 16463 E. Helena Ave. / Mile 98.5 Parks Hwy.\, Sunshine\, Alaska\, 99676
CATEGORIES:Calendar
END:VEVENT
BEGIN:VEVENT
DTSTART;TZID=America/Anchorage:20251220T100000
DTEND;TZID=America/Anchorage:20251220T113000
DTSTAMP:20260421T081103
CREATED:20251205T210135Z
LAST-MODIFIED:20251215T195050Z
UID:10004959-1766224800-1766230200@ktna.org
SUMMARY:Breakfast with Santa - Upper Susitna Seniors
DESCRIPTION:Upper Susitna Seniors host Breakfast with Santa at the Upper Susitna Community and Senior Center on Saturday\, December 20th from 10:00 to 11:30am. All are welcome to enjoy breakfast\, Santa will be there with gifts for kids. You may call (907)733-6200 for more information.
URL:https://ktna.org/events/breakfast-with-santa-upper-susitna-seniors/
LOCATION:Upper Susitna Community and Senior Center\, 16463 E. Helena Ave. / Mile 98.5 Parks Hwy.\, Sunshine\, Alaska\, 99676
CATEGORIES:Announcements,Calendar
END:VEVENT
BEGIN:VEVENT
DTSTART;TZID=America/Anchorage:20251208T180000
DTEND;TZID=America/Anchorage:20251208T180000
DTSTAMP:20260421T081103
CREATED:20251202T231911Z
LAST-MODIFIED:20251203T201711Z
UID:10005780-1765216800-1765216800@ktna.org
SUMMARY:Depression & Anxiety Recovery Program - Upper Susitna Community and Senior Center
DESCRIPTION:The Upper Susitna Seniors hosts three introductory sessions for an upcoming Depression & Anxiety Recovery Program at the Upper Susitna Community and Senior Center. Each introductory session is about one hour long\, those interested can choose to attend one of the following dates: \n\nSaturday\, December 6th at 4pm\nSunday\, December 7th at 2pm\nMonday\, December 8th at 6pm\n\nThe Depression & Anxiety Recovery Program begins in January\, pre-registration will be available for those who feel this program is a good fit for them. For additional information or questions you may call Mariana at 907-203-4032. Learn more about the program at nedleyhealth.com.
URL:https://ktna.org/events/depression-anxiety-recovery-program-upper-susitna-community-and-senior-center-2025-12-07/2025-12-08/
LOCATION:Upper Susitna Community and Senior Center\, 16463 E. Helena Ave. / Mile 98.5 Parks Hwy.\, Sunshine\, Alaska\, 99676
CATEGORIES:Calendar
END:VEVENT
BEGIN:VEVENT
DTSTART;TZID=America/Anchorage:20251206T160000
DTEND;TZID=America/Anchorage:20251206T160000
DTSTAMP:20260421T081103
CREATED:20251202T231911Z
LAST-MODIFIED:20251204T005822Z
UID:10005778-1765036800-1765036800@ktna.org
SUMMARY:Depression & Anxiety Recovery Program - Upper Susitna Community and Senior Center
DESCRIPTION:The Upper Susitna Seniors hosts three introductory sessions for an upcoming Depression & Anxiety Recovery Program at the Upper Susitna Community and Senior Center. Each introductory session is about one hour long\, those interested can choose to attend one of the following dates: \n\nSaturday\, December 6th at 4pm\nSunday\, December 7th at 2pm\nMonday\, December 8th at 6pm\n\nThe Depression & Anxiety Recovery Program begins in January\, pre-registration will be available for those who feel this program is a good fit for them. For additional information or questions you may call Mariana at 907-203-4032. Learn more about the program at nedleyhealth.com.
URL:https://ktna.org/events/depression-anxiety-recovery-program-upper-susitna-community-and-senior-center/
LOCATION:Upper Susitna Community and Senior Center\, 16463 E. Helena Ave. / Mile 98.5 Parks Hwy.\, Sunshine\, Alaska\, 99676
CATEGORIES:Announcements,Calendar
END:VEVENT
BEGIN:VEVENT
DTSTART;TZID=America/Anchorage:20251108T100000
DTEND;TZID=America/Anchorage:20251108T160000
DTSTAMP:20260421T081103
CREATED:20251105T214152Z
LAST-MODIFIED:20251105T214152Z
UID:10005731-1762596000-1762617600@ktna.org
SUMMARY:Holiday Bazaar - Upper Susitna Seniors
DESCRIPTION:Upper Susitna Seniors Inc. is hosting a Holiday Bazaar at the Center on Saturday\, November 8th from 10am to 4pm. There will be local artisans selling their goods and  homemade soup for sale. The Homemakers will be selling raffle tickets for their annual quilt raffle to raise money for high school student scholarships.
URL:https://ktna.org/events/holiday-bazaar-upper-susitna-seniors/
LOCATION:Upper Susitna Community and Senior Center
CATEGORIES:Announcements,Calendar
END:VEVENT
END:VCALENDAR