BEGIN:VCALENDAR
VERSION:2.0
PRODID:-//KTNA 88.9 FM - ECPv6.15.20//NONSGML v1.0//EN
CALSCALE:GREGORIAN
METHOD:PUBLISH
X-WR-CALNAME:KTNA 88.9 FM
X-ORIGINAL-URL:https://ktna.org
X-WR-CALDESC:Events for KTNA 88.9 FM
REFRESH-INTERVAL;VALUE=DURATION:PT1H
X-Robots-Tag:noindex
X-PUBLISHED-TTL:PT1H
BEGIN:VTIMEZONE
TZID:America/Anchorage
BEGIN:DAYLIGHT
TZOFFSETFROM:-0900
TZOFFSETTO:-0800
TZNAME:AKDT
DTSTART:20240310T110000
END:DAYLIGHT
BEGIN:STANDARD
TZOFFSETFROM:-0800
TZOFFSETTO:-0900
TZNAME:AKST
DTSTART:20241103T100000
END:STANDARD
BEGIN:DAYLIGHT
TZOFFSETFROM:-0900
TZOFFSETTO:-0800
TZNAME:AKDT
DTSTART:20250309T110000
END:DAYLIGHT
BEGIN:STANDARD
TZOFFSETFROM:-0800
TZOFFSETTO:-0900
TZNAME:AKST
DTSTART:20251102T100000
END:STANDARD
BEGIN:DAYLIGHT
TZOFFSETFROM:-0900
TZOFFSETTO:-0800
TZNAME:AKDT
DTSTART:20260308T110000
END:DAYLIGHT
BEGIN:STANDARD
TZOFFSETFROM:-0800
TZOFFSETTO:-0900
TZNAME:AKST
DTSTART:20261101T100000
END:STANDARD
END:VTIMEZONE
BEGIN:VEVENT
DTSTART;TZID=America/Anchorage:20251220T190000
DTEND;TZID=America/Anchorage:20251220T190000
DTSTAMP:20260419T065734
CREATED:20251203T200343Z
LAST-MODIFIED:20251211T202939Z
UID:10005784-1766257200-1766257200@ktna.org
SUMMARY:Holiday in Whoville Interactive Dramatic Reading - Denali Arts Council
DESCRIPTION:Denali Arts Council hosts Holiday in Whoville’s Interactive Dramatic Reading of the Grinch Stories at the Sheldon Community Arts Hangar on Friday and Saturday\, December 19th and 20th. Attendees are welcome to come dressed in their Whoville best. They are also welcome to bring an ornament to add to the tree\, or arrive early to make one – craft supplies will be available. This is an all ages show and fun for the whole family. Doors open at 6:30pm\, the performance begins at 7pm. Tickets available at denaliartscouncil.org.
URL:https://ktna.org/events/holiday-in-whoville-interactive-dramatic-reading-denali-arts-council/2025-12-20/
LOCATION:Sheldon Community Arts Hangar
CATEGORIES:Announcements,Calendar
ORGANIZER;CN="Denali Arts Council":MAILTO:https://denaliartscouncil.org/contact-us/
END:VEVENT
BEGIN:VEVENT
DTSTART;TZID=America/Anchorage:20251216T200000
DTEND;TZID=America/Anchorage:20251216T200000
DTSTAMP:20260419T065734
CREATED:20251212T205344Z
LAST-MODIFIED:20251212T205344Z
UID:10005788-1765915200-1765915200@ktna.org
SUMMARY:B Movie Bingo - Denali Arts Council
DESCRIPTION:Denali Arts Council is hosting another round of B Movie Bingo\, replete with prizes on Tuesday\, December 16th. The doors open at 7:30pm and movie and bingo start at 8.
URL:https://ktna.org/events/b-movie-bingo-denali-arts-council-4/
LOCATION:Sheldon Community Arts Hangar
CATEGORIES:Announcements,Calendar
END:VEVENT
BEGIN:VEVENT
DTSTART;TZID=America/Anchorage:20251215T183000
DTEND;TZID=America/Anchorage:20251215T183000
DTSTAMP:20260419T065734
CREATED:20251212T210141Z
LAST-MODIFIED:20251212T210141Z
UID:10005789-1765823400-1765823400@ktna.org
SUMMARY:Film Event - SalmonState
DESCRIPTION:The nonprofit organization SalmonState is hosting a screening of the film Ocean with David Attenborough on Monday\, December 15th at 6:30pm at the Sheldon Community Arts Hangar. The film dives into the beauty of our ocean ecosystems and the dangers of bottom trawling. There will be a short program\, followed by a film screening\, a Q&A session\, and door prizes. Follow the link to the Facebook Event Page in the announcement on ktna.org to learn more.
URL:https://ktna.org/events/film-event-salmonstate/
LOCATION:Sheldon Community Arts Hangar
CATEGORIES:Announcements,Calendar
END:VEVENT
BEGIN:VEVENT
DTSTART;VALUE=DATE:20251215
DTEND;VALUE=DATE:20251216
DTSTAMP:20260419T065734
CREATED:20251117T204356Z
LAST-MODIFIED:20251202T010655Z
UID:10004938-1765756800-1765843199@ktna.org
SUMMARY:Album Cover Art Recreation Contest
DESCRIPTION:KTNA is now accepting submissions for the upcoming Album Cover Art Recreation Contest. To participate\, choose an album cover and use your imagination and creativity to recreate it. Any art style is accepted – you could dress up and take a picture\, draw it\, or photoshop it. Submit your recreation to supportKTNA@ktna.org by December 15th. The Album Cover Art Show will hang at the Sheldon Community Arts Hangar for the month of January\, voting is on January 17th during KTNA’s Annual Celebration. Find details & submission requirements at KTNA.org. We invite you to stop by the radio station to peruse our extensive album collection for ideas!
URL:https://ktna.org/events/album-cover-art-recreation-contest/
LOCATION:KTNA\, 13764 E. Second Street\, Talkeetna\, 99676\, United States
CATEGORIES:Calendar
ORGANIZER;CN="KTNA":MAILTO:info@ktna.org
END:VEVENT
BEGIN:VEVENT
DTSTART;TZID=America/Anchorage:20251214T150000
DTEND;TZID=America/Anchorage:20251214T150000
DTSTAMP:20260419T065734
CREATED:20251203T195255Z
LAST-MODIFIED:20251212T001603Z
UID:10005782-1765724400-1765724400@ktna.org
SUMMARY:Laughing All the Way to the Brink matinee performance - Denali Arts Council
DESCRIPTION:Denali Arts Council hosts a Matinee of the performance\, Laughing All the Way to the Brink\, at the Sheldon Community Arts Hangar on Sunday\, December 14th. This theatrical event is part of the Climate Theater Festival and will feature seven short plays by playwrights from around the world. While climate change is very serious\, most of these plays are very not. Doors open at 2:30\, and the performance is at 3pm. Donations are welcome\, proceeds raised will go to the Susitna River Coalition. Learn more at denaliartscouncil.org.
URL:https://ktna.org/events/109692/
LOCATION:Sheldon Community Arts Hangar
CATEGORIES:Announcements,Calendar
ORGANIZER;CN="Denali Arts Council":MAILTO:https://denaliartscouncil.org/contact-us/
END:VEVENT
BEGIN:VEVENT
DTSTART;TZID=America/Anchorage:20251213T160000
DTEND;TZID=America/Anchorage:20251213T180000
DTSTAMP:20260419T065734
CREATED:20251107T202251Z
LAST-MODIFIED:20251208T210001Z
UID:10005739-1765641600-1765648800@ktna.org
SUMMARY:Quilt Show - Denali Arts Council
DESCRIPTION:Denali Arts Council hosts their annual Quilt Show at the Sheldon Community Arts Hangar on Saturday\, December 13th from 4 to 6pm. If you are interested in submitting a quilt\, the deadline is Wednesday\, December 10th. Learn more at denaliartscouncil.org.
URL:https://ktna.org/events/quilt-show-denali-arts-council/
LOCATION:Sheldon Community Arts Hangar
CATEGORIES:Announcements,Calendar
ORGANIZER;CN="Denali Arts Council":MAILTO:https://denaliartscouncil.org/contact-us/
END:VEVENT
BEGIN:VEVENT
DTSTART;VALUE=DATE:20251210
DTEND;VALUE=DATE:20251211
DTSTAMP:20260419T065734
CREATED:20251106T205055Z
LAST-MODIFIED:20251206T002712Z
UID:10005738-1765324800-1765411199@ktna.org
SUMMARY:Quilts Needed for Quilt Show
DESCRIPTION:Denali Arts Council is accepting quilt submissions for their annual Quilt Show at the Sheldon Community Arts Hangar. Quilt Submissions must be entered and hung by Wednesday\, December 10th. Learn more at denaliartscouncil.org or call (907)733-7929.
URL:https://ktna.org/events/quilts-needed-for-quilt-show/
LOCATION:Sheldon Community Arts Hangar
CATEGORIES:Calendar
ORGANIZER;CN="Denali Arts Council":MAILTO:https://denaliartscouncil.org/contact-us/
END:VEVENT
BEGIN:VEVENT
DTSTART;TZID=America/Anchorage:20251207T170000
DTEND;TZID=America/Anchorage:20251207T170000
DTSTAMP:20260419T065734
CREATED:20251203T194150Z
LAST-MODIFIED:20251203T194150Z
UID:10005781-1765126800-1765126800@ktna.org
SUMMARY:Holiday in Whoville Casting Call - Denali Arts Council
DESCRIPTION:Denali Arts Council hosts an open casting call and read through for the Holiday in Whoville’s theatrical reading of The Grinch at the Sheldon Community Arts Hangar on Sunday\, December 7th at 5pm.
URL:https://ktna.org/events/holiday-in-whoville-casting-call-denali-arts-council/
LOCATION:Sheldon Community Arts Hangar
CATEGORIES:Calendar,Classifieds
ORGANIZER;CN="Denali Arts Council":MAILTO:https://denaliartscouncil.org/contact-us/
END:VEVENT
BEGIN:VEVENT
DTSTART;TZID=America/Anchorage:20251130T100000
DTEND;TZID=America/Anchorage:20251130T170000
DTSTAMP:20260419T065734
CREATED:20251106T202932Z
LAST-MODIFIED:20251120T194345Z
UID:10005736-1764496800-1764522000@ktna.org
SUMMARY:Holiday Market - Denali Arts Council
DESCRIPTION:The Denali Arts Council Holiday Market is at the Sheldon Community Arts Hangar on Saturday and Sunday\, November 29th and 30th from 10am until 5pm. There will be locally made art\, crafts and goods for sale. Soups and festive beverages will be available for purchase. Learn more at denaliartscouncil.org.
URL:https://ktna.org/events/holiday-market-denali-arts-council/2025-11-30/
LOCATION:Sheldon Community Arts Hangar
CATEGORIES:Announcements,Calendar
ORGANIZER;CN="Denali Arts Council":MAILTO:https://denaliartscouncil.org/contact-us/
END:VEVENT
BEGIN:VEVENT
DTSTART;VALUE=DATE:20251128
DTEND;VALUE=DATE:20251129
DTSTAMP:20260419T065734
CREATED:20251106T204255Z
LAST-MODIFIED:20251111T213806Z
UID:10005737-1764288000-1764374399@ktna.org
SUMMARY:Vendors for Holiday Market - Denali Arts Council
DESCRIPTION:There are still vending spaces open for the upcoming Holiday Market at the Sheldon Community Arts Hangar on November 29th and 30th. They are seeking local vendors to feature homemade art\, crafts and goods for both indoor and outdoor tables. You may register at denaliartscouncil.org.
URL:https://ktna.org/events/vendors-for-holiday-market-november-29-30/
LOCATION:Sheldon Community Arts Hangar
CATEGORIES:Calendar
ORGANIZER;CN="Denali Arts Council":MAILTO:https://denaliartscouncil.org/contact-us/
END:VEVENT
BEGIN:VEVENT
DTSTART;TZID=America/Anchorage:20251125T200000
DTEND;TZID=America/Anchorage:20251125T200000
DTSTAMP:20260419T065734
CREATED:20251124T195540Z
LAST-MODIFIED:20251124T195540Z
UID:10005765-1764100800-1764100800@ktna.org
SUMMARY:B Movie Bingo - Denali Arts Council
DESCRIPTION:Denali Arts Council presents another round of B Movie Bingo on Tuesday\, November 25th at the Sheldon Community Arts Hangar. Doors open at 7:30\, the movie starts at 8pm. You may call (907)230-8662 for more information.
URL:https://ktna.org/events/b-movie-bingo-denali-arts-council-3/
LOCATION:Sheldon Community Arts Hangar
CATEGORIES:Announcements,Calendar
ORGANIZER;CN="Denali Arts Council":MAILTO:https://denaliartscouncil.org/contact-us/
END:VEVENT
BEGIN:VEVENT
DTSTART;TZID=America/Anchorage:20251122T190000
DTEND;TZID=America/Anchorage:20251122T190000
DTSTAMP:20260419T065734
CREATED:20251106T202632Z
LAST-MODIFIED:20251119T195408Z
UID:10005734-1763838000-1763838000@ktna.org
SUMMARY:Parlor in the Round - Denali Arts Council
DESCRIPTION:Denali Arts Council hosts Parlor in the Round at the Sheldon Community Arts Hangar on Saturday\, November 22nd. Parlor feels like Dinner Theater\, sounds like a concert and looks like improv comedy. Four songwriters will be featured on stage\, sharing songs and stories as they draw inspiration from one another. Toronto artist Barbra Lica\, Blackwater Railroad’s Braden Rollins and Talkeetna’s very own Steve Durr will be featured. Doors open at 6:30pm and the show starts at 7pm. More information and tickets at denaliartscouncil.org.
URL:https://ktna.org/events/parlor-in-the-round-denali-arts-council/
LOCATION:Sheldon Community Arts Hangar
CATEGORIES:Announcements,Calendar
ORGANIZER;CN="Denali Arts Council":MAILTO:https://denaliartscouncil.org/contact-us/
END:VEVENT
BEGIN:VEVENT
DTSTART;TZID=America/Anchorage:20251115T190000
DTEND;TZID=America/Anchorage:20251115T190000
DTSTAMP:20260419T065734
CREATED:20251106T200429Z
LAST-MODIFIED:20251112T221431Z
UID:10005733-1763233200-1763233200@ktna.org
SUMMARY:John Roberts y Pan Blanco concert - Denali Arts Council
DESCRIPTION:Denali Arts Council presents John Roberts y Pan Blanco at the Sheldon Community Arts Hangar on Saturday\, November 15th. With vocals in Spanish\, English and Portuguese\, this family friendly group melds high-energy funk\, African and Latin grooves with instrumental solos\, aimed at sharing musical and cultural diversity with the audience. Doors open at 6:30pm\, and the music starts at 7pm. Find tickets and information at denaliartscouncil.org.
URL:https://ktna.org/events/john-roberts-y-pan-blanco-concert-denali-arts-council/
LOCATION:Sheldon Community Arts Hangar
CATEGORIES:Announcements,Calendar
ORGANIZER;CN="Denali Arts Council":MAILTO:https://denaliartscouncil.org/contact-us/
END:VEVENT
BEGIN:VEVENT
DTSTART;TZID=America/Anchorage:20251107T160000
DTEND;TZID=America/Anchorage:20251107T170000
DTSTAMP:20260419T065734
CREATED:20251106T014923Z
LAST-MODIFIED:20251106T014923Z
UID:10005732-1762531200-1762534800@ktna.org
SUMMARY:Talkeetna Ice Festival Committee Meeting
DESCRIPTION:The Talkeetna Ice Festival Committee is meeting at the Sheldon Community Arts Hangar Friday\, November 7th\, at 4pm. Community members interested in participating in the Festival are welcome to come.
URL:https://ktna.org/events/talkeetna-ice-festival-committee-meeting/
LOCATION:Sheldon Community Arts Hangar
CATEGORIES:Announcements,Calendar
ORGANIZER;CN="Denali Arts Council":MAILTO:https://denaliartscouncil.org/contact-us/
END:VEVENT
BEGIN:VEVENT
DTSTART;TZID=America/Anchorage:20251106T170000
DTEND;TZID=America/Anchorage:20251106T193000
DTSTAMP:20260419T065734
CREATED:20251028T200744Z
LAST-MODIFIED:20251031T193053Z
UID:10005725-1762448400-1762457400@ktna.org
SUMMARY:Denali Nordic Ski Club Annual Meeting and Board Member Election
DESCRIPTION:The Denali Nordic Ski Club is holding its annual membership and election meeting on Thursday\, November 6th from 5 to 7:30 pm at the Sheldon Community Arts Hanger. They are kicking off the ski season with food\, drinks\, and updates on what’s ahead this year. There will be a board member election\, membership renewal and information on upcoming volunteer opportunities. All are welcome.  Attendees can bring gear for an opportunity to buy/sell/swap ski gear. Learn more at denalinordicskiclub.org\, their Facebook page or email Christina at denalinordicskiclub@gmail.com.
URL:https://ktna.org/events/denali-nordic-ski-club-annual-meeting-and-board-member-election/
LOCATION:Sheldon Community Arts Hangar
CATEGORIES:Announcements,Calendar
END:VEVENT
BEGIN:VEVENT
DTSTART;TZID=America/Anchorage:20251031T200000
DTEND;TZID=America/Anchorage:20251031T200000
DTSTAMP:20260419T065734
CREATED:20251029T175127Z
LAST-MODIFIED:20251029T175339Z
UID:10005727-1761940800-1761940800@ktna.org
SUMMARY:Blackwater Railroad concert - Denali Arts Council
DESCRIPTION:Denali Arts Council hosts a Halloween concert with Blackwater Railroad at the Sheldon Community Arts Hangar on Friday\, October 31st. This show is for all ages. There will also be a Costume Contest. Doors open at 7pm and the music starts at 8pm. Learn more and find tickets at denaliartscouncil.org.
URL:https://ktna.org/events/blackwater-railroad-concert-denali-arts-council/
LOCATION:Sheldon Community Arts Hangar
CATEGORIES:Announcements,Calendar
ORGANIZER;CN="Denali Arts Council":MAILTO:https://denaliartscouncil.org/contact-us/
END:VEVENT
BEGIN:VEVENT
DTSTART;TZID=America/Anchorage:20251028T200000
DTEND;TZID=America/Anchorage:20251028T200000
DTSTAMP:20260419T065734
CREATED:20251024T224611Z
LAST-MODIFIED:20251025T023730Z
UID:10005722-1761681600-1761681600@ktna.org
SUMMARY:B Movie Bingo - Denali Arts Council
DESCRIPTION:B Movie Bingo is back at the Sheldon Community Arts Hangar on Tuesday\, October 28th. Movie watchers can participate in movie-related bingo for a chance to win prizes. Next weeks movie is a classic Halloween B movie and is adult themed. The movie starts at 8pm. Call 907-230-8662 for more details.
URL:https://ktna.org/events/b-movie-bingo-denali-arts-council-2/
LOCATION:Sheldon Community Arts Hangar
CATEGORIES:Announcements,Calendar
END:VEVENT
BEGIN:VEVENT
DTSTART;VALUE=DATE:20251027
DTEND;VALUE=DATE:20251028
DTSTAMP:20260419T065734
CREATED:20251024T225040Z
LAST-MODIFIED:20251025T023837Z
UID:10005723-1761523200-1761609599@ktna.org
SUMMARY:Reminder for Tiny Art show artists
DESCRIPTION:The community Tiny Art show at the Sheldon Community Arts Hangar has ended\, and your art is ready for pick up. Call 907-733-7929 or feel free to come pick up at your leisure.
URL:https://ktna.org/events/reminder-for-tiny-art-show-artists/
LOCATION:Sheldon Community Arts Hangar
CATEGORIES:Calendar,Classifieds
END:VEVENT
BEGIN:VEVENT
DTSTART;TZID=America/Anchorage:20251011T173000
DTEND;TZID=America/Anchorage:20251011T210000
DTSTAMP:20260419T065734
CREATED:20251007T203638Z
LAST-MODIFIED:20251007T203638Z
UID:10005697-1760203800-1760216400@ktna.org
SUMMARY:Take Back the Town Party - Denali Arts Council
DESCRIPTION:Saturday\, October 11th is Denali Arts Council’s Take Back the Town party and annual meeting. This year’s event is an autumn themed masquerade ball. The membership meeting\, dinner\, and elections start at 5:30pm. Attendees can vote on board members and renew their memberships. Following the meeting\, the doors open to the public for the Denali Cooks and Friends at 7pm.
URL:https://ktna.org/events/take-back-the-town-party-denali-arts-council/
LOCATION:Sheldon Community Arts Hangar
CATEGORIES:Announcements,Calendar
END:VEVENT
BEGIN:VEVENT
DTSTART;TZID=America/Anchorage:20251010T190000
DTEND;TZID=America/Anchorage:20251010T200000
DTSTAMP:20260419T065734
CREATED:20250915T202325Z
LAST-MODIFIED:20251007T204016Z
UID:10004730-1760122800-1760126400@ktna.org
SUMMARY:Heart Like a Mountain\, Book Reading & Signing - Denali Arts Council
DESCRIPTION:Denali Arts Council hosts Suraj Holzwarth\, presenting her new book\, Heart Like a Mountain on Friday\, October 10th at the Sheldon Community Arts Hangar\, from 7 to 8pm. In 1979 at the age of 19\, Suraj became the youngest woman to summit Denali. In her memoir\, she shares a spirited account of the 30-day expedition which began in the Peters Hills\, leading through some of Alaska’s most remote wilderness before reaching Denali’s Base Camp. Saraj will read from her book\, present a slide show and will be available for book signings.
URL:https://ktna.org/events/heart-like-a-mountain-book-reading-signing-denali-arts-council/
LOCATION:Sheldon Community Arts Hangar
CATEGORIES:Announcements,Calendar
ORGANIZER;CN="Denali Arts Council":MAILTO:https://denaliartscouncil.org/contact-us/
END:VEVENT
BEGIN:VEVENT
DTSTART;TZID=America/Anchorage:20251010T150000
DTEND;TZID=America/Anchorage:20251010T190000
DTSTAMP:20260419T065734
CREATED:20250915T201238Z
LAST-MODIFIED:20251009T195306Z
UID:10004728-1760108400-1760122800@ktna.org
SUMMARY:Miles Broomsfield Art Opening - Denali Arts Council
DESCRIPTION:The Miles Broomsfield art show on October 10th at the Sheldon Community Arts Hangar has been canceled.
URL:https://ktna.org/events/miles-broomsfield-art-opening-denali-arts-council/
LOCATION:Sheldon Community Arts Hangar
CATEGORIES:Announcements,Calendar
ORGANIZER;CN="Denali Arts Council":MAILTO:https://denaliartscouncil.org/contact-us/
END:VEVENT
BEGIN:VEVENT
DTSTART;TZID=America/Anchorage:20251005T130000
DTEND;TZID=America/Anchorage:20251005T160000
DTSTAMP:20260419T065734
CREATED:20250915T200951Z
LAST-MODIFIED:20250930T190028Z
UID:10004725-1759669200-1759680000@ktna.org
SUMMARY:Mask Making Workshop - Denali Arts Council
DESCRIPTION:Denali Arts Council is hosting a mask making workshop at the Sheldon Community Arts Hangar on Sunday\, October 5th from 1pm to 4pm. All supplies will be provided. Learn more at denaliartscouncil.org.
URL:https://ktna.org/events/mask-making-workshop-denali-arts-council-2/
LOCATION:Sheldon Community Arts Hangar
CATEGORIES:Announcements,Calendar
ORGANIZER;CN="Denali Arts Council":MAILTO:https://denaliartscouncil.org/contact-us/
END:VEVENT
BEGIN:VEVENT
DTSTART;TZID=America/Anchorage:20251004T190000
DTEND;TZID=America/Anchorage:20251004T190000
DTSTAMP:20260419T065734
CREATED:20250930T201824Z
LAST-MODIFIED:20250930T201824Z
UID:10005692-1759604400-1759604400@ktna.org
SUMMARY:Arctic Entries - Denali Arts Council
DESCRIPTION:On Saturday\, October 4th\, Denali Arts Council hosts Arctic Entries at the Sheldon Community Arts Hangar. Local storytellers will tell their true stories of small town secrets: Stories of Ghosts\, Gatherings\, and Good Times. The doors at 6:30pm\, and the show at 7pm.
URL:https://ktna.org/events/arctic-entries-denali-arts-council-2/
LOCATION:Sheldon Community Arts Hangar
CATEGORIES:Announcements,Calendar
END:VEVENT
BEGIN:VEVENT
DTSTART;TZID=America/Anchorage:20251003T193000
DTEND;TZID=America/Anchorage:20251003T223000
DTSTAMP:20260419T065734
CREATED:20250926T212947Z
LAST-MODIFIED:20250926T212947Z
UID:10005673-1759519800-1759530600@ktna.org
SUMMARY:Community Dance Party - Jessica Stevens Community Foundation
DESCRIPTION:The Jessica Stevens Community Foundation is hosting a community dance party on Friday\, October 3rd. All are invited to a concert featuring the ska band Nervis Rex at the Sheldon Community Arts Hangar. The doors open at 7:15 and the music starts at 7:30pm.
URL:https://ktna.org/events/community-dance-party-jessica-stevens-community-foundation/
LOCATION:Sheldon Community Arts Hangar
CATEGORIES:Announcements,Calendar
ORGANIZER;CN="Jessica Stevens Community Foundation":MAILTO:jessicastevens@alaskacf.org
END:VEVENT
BEGIN:VEVENT
DTSTART;TZID=America/Anchorage:20251001T190000
DTEND;TZID=America/Anchorage:20251001T190000
DTSTAMP:20260419T065734
CREATED:20250915T200743Z
LAST-MODIFIED:20250929T183832Z
UID:10004724-1759345200-1759345200@ktna.org
SUMMARY:Alex Zerbe the Zaniac - Denali Arts Council
DESCRIPTION:As a part of the Denali Arts Council’s Performing Arts Season\, they host a family-friendly action-comedy with Alex Zerbe the Zaniac\, on Wednesday\, October 1st at the Sheldon Community Arts Hangar. This show stars a hacky sack world champion who can beatbox\, juggle\, dance\, sing\, and perform magic. Doors open at 6:30pm and the show starts at 7. Tickets available at denaliartscouncil.org.
URL:https://ktna.org/events/alex-zerbe-the-zaniac-denali-arts-council/
LOCATION:Sheldon Community Arts Hangar
CATEGORIES:Announcements,Calendar
ORGANIZER;CN="Denali Arts Council":MAILTO:https://denaliartscouncil.org/contact-us/
END:VEVENT
BEGIN:VEVENT
DTSTART;TZID=America/Anchorage:20250920T190000
DTEND;TZID=America/Anchorage:20250920T190000
DTSTAMP:20260419T065734
CREATED:20250903T192836Z
LAST-MODIFIED:20250915T164025Z
UID:10005648-1758394800-1758394800@ktna.org
SUMMARY:Concert with Last Train - Denali Arts Council
DESCRIPTION:Denali Arts Council hosts a concert with Last Train at the Sheldon Community Arts Hangar on Saturday\, September 20th. Last Train has been shaped by the musical journey of its members\, with influences ranging from roots rock\, pop\, and country to punk. Doors open at 6pm and the music starts at 7pm. More information and tickets available at denaliartscouncil.org.
URL:https://ktna.org/events/concert-with-last-train-denali-arts-council/
LOCATION:Sheldon Community Arts Hangar
CATEGORIES:Announcements,Calendar
ORGANIZER;CN="Denali Arts Council":MAILTO:https://denaliartscouncil.org/contact-us/
END:VEVENT
BEGIN:VEVENT
DTSTART;TZID=America/Anchorage:20250919T193000
DTEND;TZID=America/Anchorage:20250919T193000
DTSTAMP:20260419T065734
CREATED:20250903T192455Z
LAST-MODIFIED:20250917T205034Z
UID:10005647-1758310200-1758310200@ktna.org
SUMMARY:Emerging Alaskan Voices - Denali Arts Council
DESCRIPTION:On Friday\, September 19th\, Denali Arts Council is presenting Emerging Alaskan Voices. Six talented writers will share their work\, from poetry to prose. Some are current University of Alaska creative writing students\, others are published authors and former students now doing interesting things with their lives. This is a free event\, donations are welcome. Doors open at 7pm and the reading starts at 7:30pm.
URL:https://ktna.org/events/emerging-alaskan-voices-denali-arts-council/
LOCATION:Sheldon Community Arts Hangar
CATEGORIES:Announcements,Calendar
ORGANIZER;CN="Denali Arts Council":MAILTO:https://denaliartscouncil.org/contact-us/
END:VEVENT
BEGIN:VEVENT
DTSTART;VALUE=DATE:20250918
DTEND;VALUE=DATE:20250919
DTSTAMP:20260419T065734
CREATED:20250912T195800Z
LAST-MODIFIED:20250912T195800Z
UID:10005658-1758153600-1758239999@ktna.org
SUMMARY:Seeking Storytellers for Arctic Entries
DESCRIPTION:Denali Arts Council is seeking 7 storytellers to tell 7-minute stories for the next Arctic Entries on October 4th. The theme is Small Town Secrets: Stories of Ghosts\, Gatherings\, and Good Times. Professional story coaches will be available to help you polish your story in the weeks leading up to the show. If interested\, you may contact Michelle@denaliartscouncil.org or call (907)733-7929.
URL:https://ktna.org/events/seeking-storytellers-for-arctic-entries/
LOCATION:Sheldon Community Arts Hangar
CATEGORIES:Classifieds
ORGANIZER;CN="Denali Arts Council":MAILTO:https://denaliartscouncil.org/contact-us/
END:VEVENT
BEGIN:VEVENT
DTSTART;TZID=America/Anchorage:20250914T020000
DTEND;TZID=America/Anchorage:20250914T170000
DTSTAMP:20260419T065734
CREATED:20250911T191632Z
LAST-MODIFIED:20250911T191632Z
UID:10005655-1757815200-1757869200@ktna.org
SUMMARY:Sip 'n' Swap\, Not Shop - Denali Arts Council
DESCRIPTION:Denali Arts Council hosts Sip ‘n’ Swap\, Not Shop\, a clothing\, books\, and reusable items swap\, at the Sheldon Community Arts Hangar on Sunday\, September 14th from 2 to 5pm. All are welcome to bring freshly laundered clothing\, books and usable items in great condition to swap with something new to you. Beverages will be available for purchase\, please bring a snack to share.
URL:https://ktna.org/events/sip-n-swap-not-shop-denali-arts-council/
LOCATION:Sheldon Community Arts Hangar
CATEGORIES:Announcements,Calendar
ORGANIZER;CN="Denali Arts Council":MAILTO:https://denaliartscouncil.org/contact-us/
END:VEVENT
BEGIN:VEVENT
DTSTART;TZID=America/Anchorage:20250913T090000
DTEND;TZID=America/Anchorage:20250913T090000
DTSTAMP:20260419T065734
CREATED:20250620T004708Z
LAST-MODIFIED:20250912T192056Z
UID:10004397-1757754000-1757754000@ktna.org
SUMMARY:Talkeetna Trail Race - TKE PTA
DESCRIPTION:Talkeetna Elementary PTA hosts the Talkeetna Trail Race on Saturday\, September 13th. A 25-k race\, traversing the trails of Talkeetna\, begins at 10:30am\, and A 5-k stroller and kid friendly race begins at 12pm. The races begin at Flying Squirrel Bakery & Cafe and end with an after party at the Sheldon Community Arts Hangar. Online registration is open through September 12th. Bib pickup and day of registration begins at 9am on Saturday\, September 13th. Race and registration details can be found on the Talkeetna Trail Race Facebook page.
URL:https://ktna.org/events/talkeetna-trail-race-2/
LOCATION:Sheldon Community Arts Hangar
CATEGORIES:Announcements,Calendar
ORGANIZER;CN="Talkeetna Elementary PTA":MAILTO:pta.talkeetna@gmail.com
END:VEVENT
END:VCALENDAR