BEGIN:VCALENDAR
VERSION:2.0
PRODID:-//KTNA 88.9 FM - ECPv6.15.20//NONSGML v1.0//EN
CALSCALE:GREGORIAN
METHOD:PUBLISH
X-ORIGINAL-URL:https://ktna.org
X-WR-CALDESC:Events for KTNA 88.9 FM
REFRESH-INTERVAL;VALUE=DURATION:PT1H
X-Robots-Tag:noindex
X-PUBLISHED-TTL:PT1H
BEGIN:VTIMEZONE
TZID:America/Anchorage
BEGIN:DAYLIGHT
TZOFFSETFROM:-0900
TZOFFSETTO:-0800
TZNAME:AKDT
DTSTART:20240310T110000
END:DAYLIGHT
BEGIN:STANDARD
TZOFFSETFROM:-0800
TZOFFSETTO:-0900
TZNAME:AKST
DTSTART:20241103T100000
END:STANDARD
BEGIN:DAYLIGHT
TZOFFSETFROM:-0900
TZOFFSETTO:-0800
TZNAME:AKDT
DTSTART:20250309T110000
END:DAYLIGHT
BEGIN:STANDARD
TZOFFSETFROM:-0800
TZOFFSETTO:-0900
TZNAME:AKST
DTSTART:20251102T100000
END:STANDARD
BEGIN:DAYLIGHT
TZOFFSETFROM:-0900
TZOFFSETTO:-0800
TZNAME:AKDT
DTSTART:20260308T110000
END:DAYLIGHT
BEGIN:STANDARD
TZOFFSETFROM:-0800
TZOFFSETTO:-0900
TZNAME:AKST
DTSTART:20261101T100000
END:STANDARD
END:VTIMEZONE
BEGIN:VEVENT
DTSTART;TZID=America/Anchorage:20250713T140000
DTEND;TZID=America/Anchorage:20250713T140000
DTSTAMP:20260423T064124
CREATED:20250708T194521Z
LAST-MODIFIED:20250708T194521Z
UID:10005333-1752415200-1752415200@ktna.org
SUMMARY:Roustabout Show Green Light Circus - Denali Arts Council
DESCRIPTION:Denali Arts Council hosts the Green Light Circus Roustabout Show on Sunday\, July 13th\, at 2pm. Performed by the highly trained and talented instructors of the Green Light Circus. These artists bring their skills to the stage with aerial silks\, juggling\, unicycles\, double lyra\, Cyr wheel\, and more. This is a family friendly show packed with jaw-dropping stunts and circus fun for all ages. This event is free. Donations are welcome. Learn more at denaliartscouncil.org.
URL:https://ktna.org/events/roustabout-show-green-light-circus-denali-arts-council/
LOCATION:Sheldon Community Arts Hangar
CATEGORIES:Calendar
ORGANIZER;CN="Denali Arts Council":MAILTO:https://denaliartscouncil.org/contact-us/
END:VEVENT
BEGIN:VEVENT
DTSTART;TZID=America/Anchorage:20250712T120000
DTEND;TZID=America/Anchorage:20250712T160000
DTSTAMP:20260423T064124
CREATED:20250708T194016Z
LAST-MODIFIED:20250708T194016Z
UID:10005332-1752321600-1752336000@ktna.org
SUMMARY:Green Light Circus Fairway Carnival - Denali Arts Council
DESCRIPTION:As part of the Green light Circus festivities\, there will be a Fairway Carnival on Saturday\, July 12th outside the Sheldon Community Arts Hangar from 12 to 4pm. This is a family friendly event. There will be face painting\, balloon animals\, carnival games\, magic shows\, a dunk tank and more. Learn more at denaliartscouncil.org.
URL:https://ktna.org/events/green-light-circus-fairway-carnival-denali-arts-council/
LOCATION:Sheldon Community Arts Hangar
CATEGORIES:Calendar
ORGANIZER;CN="Denali Arts Council":MAILTO:https://denaliartscouncil.org/contact-us/
END:VEVENT
BEGIN:VEVENT
DTSTART;TZID=America/Anchorage:20250705T190000
DTEND;TZID=America/Anchorage:20250705T190000
DTSTAMP:20260423T064124
CREATED:20250630T213414Z
LAST-MODIFIED:20250703T220312Z
UID:10005323-1751742000-1751742000@ktna.org
SUMMARY:Jazz Concert - Denali Arts Council
DESCRIPTION:Denali Arts Council hosts a Jazz Concert with Maestro Rocco John Iacovone (“E-ya-ka-vone-ay”) at the Sheldon Community Arts Hangar. Rocco’s Jazz Workshop attendees present their final performance with special musical guests\, Joel Mosier and Steve Durr. Additionally\, led by Denise Iacovone\, painters from the Making the Audible Visible workshop will be on stage painting during the performance. Doors open at 6:30pm and the music starts at 7.
URL:https://ktna.org/events/jazz-concert-denali-arts-council/
LOCATION:Sheldon Community Arts Hangar
CATEGORIES:Announcements,Calendar
ORGANIZER;CN="Denali Arts Council":MAILTO:https://denaliartscouncil.org/contact-us/
END:VEVENT
BEGIN:VEVENT
DTSTART;TZID=America/Anchorage:20250705T180000
DTEND;TZID=America/Anchorage:20250705T203000
DTSTAMP:20260423T064124
CREATED:20250619T001100Z
LAST-MODIFIED:20250703T220057Z
UID:10004377-1751738400-1751747400@ktna.org
SUMMARY:“Making the Audible Visible” Painting Class - Denali Arts Council
DESCRIPTION:Denali Arts Council is offering a two-day improvisational “Live Art” painting workshop with Denise Iacovone (“E-ya-ka-vone-ay”).  The “Making the Audible Visible” Painting Class focuses on improvisational art and runs in conjunction with the Talkeetna Jazz Workshop. The first meeting takes place during the jazz workshop dress rehearsal on Thursday July 3rd from 4:30-7:30pm. The second meeting is at the final concert on Saturday July 5th from 6 to 8:30pm. You can register online at denaliartscouncil.org.  If you have questions\, you can call or text Sandy at 907-355-3052.
URL:https://ktna.org/events/making-the-audible-visible-painting-class-denali-arts-council/2025-07-05/
LOCATION:Sheldon Community Arts Hangar
CATEGORIES:Calendar
ORGANIZER;CN="Denali Arts Council":MAILTO:https://denaliartscouncil.org/contact-us/
END:VEVENT
BEGIN:VEVENT
DTSTART;TZID=America/Anchorage:20250703T170000
DTEND;TZID=America/Anchorage:20250703T190000
DTSTAMP:20260423T064124
CREATED:20250617T201642Z
LAST-MODIFIED:20250623T233333Z
UID:10004316-1751562000-1751569200@ktna.org
SUMMARY:Jazz Workshop - Denali Arts Council
DESCRIPTION:Denali Arts Council is hosting a Jazz Workshop with Maestro Rocco John Iacovone at the Sheldon Community Arts Hangar. This is an opportunity for anyone who loves playing music to learn to listen\, respond\, and collaborate with other jazz players. This two week workshop will meet June 23\, 24\, 26\, 30\, July 2 and 3\, from 5-7pm. There will be a performance on Saturday\, July 5 at 7:00pm. Registration is available on denaliartscouncil.org. If you have questions\, call or text Sandy at 907-355-3052.
URL:https://ktna.org/events/jazz-workshop-denali-arts-council-2/2025-07-03/
LOCATION:Sheldon Community Arts Hangar
CATEGORIES:Calendar
END:VEVENT
BEGIN:VEVENT
DTSTART;TZID=America/Anchorage:20250628T190000
DTEND;TZID=America/Anchorage:20250628T190000
DTSTAMP:20260423T064124
CREATED:20250625T190730Z
LAST-MODIFIED:20250625T193307Z
UID:10004400-1751137200-1751137200@ktna.org
SUMMARY:Broadway in TKA - Kaitlin Lawrence - Denali Arts Council
DESCRIPTION:At the Sheldon Community Arts Hangar on Saturday\, June 28th\, Denali Arts Council will host a night of music with professional actress and theater director Kaitlin Lawrence\, as she takes the stage with a setlist full of crowd favorites and a splash of Broadway flair! From beloved show tunes to Bonnie Raitt\, and original songs\, Kaitlin’s performance promises something for everyone. With powerhouse vocals and a sharp sense of humor\, she’ll not only dazzle with her musical talent but keep you laughing all night long. This is a free show\, donations are welcome! Doors open at 6:30pm\, show starts at 7pm.
URL:https://ktna.org/events/broadway-in-tka-kaitlin-lawrence-denali-arts-council/
LOCATION:Sheldon Community Arts Hangar
CATEGORIES:Announcements,Calendar
ORGANIZER;CN="Denali Arts Council":MAILTO:https://denaliartscouncil.org/contact-us/
END:VEVENT
BEGIN:VEVENT
DTSTART;TZID=America/Anchorage:20250607T190000
DTEND;TZID=America/Anchorage:20250607T190000
DTSTAMP:20260423T064124
CREATED:20250522T192747Z
LAST-MODIFIED:20250530T001914Z
UID:10005278-1749322800-1749322800@ktna.org
SUMMARY:Denali Rescue Volunteers Event
DESCRIPTION:There is a fundraising event for Denali Rescue Volunteers at the Sheldon Community Arts Hangar on Saturday\, June 7th at 7pm. Roger Robinson presents Denali South Buttress Climbs\, as a tribute to Denali’s volunteer rescue legacy. Talkeetna’s Roger Robinson will recount his 1975 climb of Denali’s remote South Buttress—a journey that launched his 45-year career in the Alaska Range. The talk includes rare photos and audio from the original 1954 ascent and rescue and Denali’s first helicopter evacuation. There will be door prizes and donations are welcome at the door.
URL:https://ktna.org/events/denali-rescue-volunteers-event/
LOCATION:Sheldon Community Arts Hangar
CATEGORIES:Announcements,Calendar
END:VEVENT
BEGIN:VEVENT
DTSTART;TZID=America/Anchorage:20250531T170000
DTEND;TZID=America/Anchorage:20250531T170000
DTSTAMP:20260423T064124
CREATED:20250521T232021Z
LAST-MODIFIED:20250526T212026Z
UID:10005276-1748710800-1748710800@ktna.org
SUMMARY:Don Sheldon Memorial Reception
DESCRIPTION:The public is invited to a Don Sheldon Memorial Reception and Statue Reveal at the Sheldon Community Arts Hangar on Saturday\, May 31st to honor the life and flying of Talkeetna’s pioneer bush pilot\, Don Sheldon. Attendees are welcome to share stories of Don at 5:00pm. There is a community potluck at 6:00pm followed by live polka music from Alaska’s Main Squeeze.
URL:https://ktna.org/events/don-sheldon-memorial-reception/
LOCATION:Sheldon Community Arts Hangar
CATEGORIES:Announcements,Calendar
END:VEVENT
BEGIN:VEVENT
DTSTART;TZID=America/Anchorage:20250525T120000
DTEND;TZID=America/Anchorage:20250525T180000
DTSTAMP:20260423T064124
CREATED:20250320T185316Z
LAST-MODIFIED:20250515T221148Z
UID:10003904-1748174400-1748196000@ktna.org
SUMMARY:Talkeetna Art Festival
DESCRIPTION:Denali Arts Council hosts the 4th annual Talkeetna Art Festival at the Sheldon Community Arts Hangar and Talkeetna Historical Society Museum on Saturday and Sunday\, May 24th and 25th\, beginning at 12pm. There will be over 50 art vendors with exhibitions\, demonstrations and workshops as well as live music and aerialist performances. Learn more at denaliartscouncil.org.
URL:https://ktna.org/events/talkeetna-art-festival-denali-arts-council/2025-05-25/
LOCATION:Sheldon Community Arts Hangar
CATEGORIES:Announcements,Calendar
ORGANIZER;CN="Denali Arts Council":MAILTO:https://denaliartscouncil.org/contact-us/
END:VEVENT
BEGIN:VEVENT
DTSTART;TZID=America/Anchorage:20250517T190000
DTEND;TZID=America/Anchorage:20250517T190000
DTSTAMP:20260423T064124
CREATED:20250505T194352Z
LAST-MODIFIED:20250516T212045Z
UID:10003976-1747508400-1747508400@ktna.org
SUMMARY:Fly Fishing Film Tour - Denali Arts Council
DESCRIPTION:Denali Arts Council hosts this year’s Fly Fishing Film Tour at the Sheldon Community Arts Hangar on Saturday\, May 17th. This lineup of films captures the spirit of adventure and perseverance in the world of fly fishing. Doors open at 6:30pm and the film starts at 7pm. More information and tickets online at denaliartscouncil.org.
URL:https://ktna.org/events/fly-fishing-film-tour-denali-arts-council/
LOCATION:Sheldon Community Arts Hangar
CATEGORIES:Announcements,Calendar
ORGANIZER;CN="Denali Arts Council":MAILTO:https://denaliartscouncil.org/contact-us/
END:VEVENT
BEGIN:VEVENT
DTSTART;TZID=America/Anchorage:20250511T160000
DTEND;TZID=America/Anchorage:20250511T160000
DTSTAMP:20260423T064124
CREATED:20250423T190605Z
LAST-MODIFIED:20250505T194018Z
UID:10004995-1746979200-1746979200@ktna.org
SUMMARY:Mother's Day Concert - Denali Arts Council
DESCRIPTION:Denali Arts Council’s Music Academy presents a Mother’s Day Concert with the Rhythm and Red Shoe Ensemble\,  Desperate Measures and the Community Choir on Sunday\, May 11th at the Sheldon Community Arts Hangar. Doors open at 3:30pm\, and the concert begins at 4pm.
URL:https://ktna.org/events/mothers-day-concert-denali-arts-council/
LOCATION:Sheldon Community Arts Hangar
CATEGORIES:Announcements,Calendar
ORGANIZER;CN="Denali Arts Council":MAILTO:https://denaliartscouncil.org/contact-us/
END:VEVENT
BEGIN:VEVENT
DTSTART;TZID=America/Anchorage:20250510T190000
DTEND;TZID=America/Anchorage:20250510T190000
DTSTAMP:20260423T064124
CREATED:20250505T193709Z
LAST-MODIFIED:20250505T193709Z
UID:10003975-1746903600-1746903600@ktna.org
SUMMARY:Wasteland Hop Concert - Denali Arts Counci
DESCRIPTION:Wasteland Hop will be perform at the Sheldon Community Arts Hangar on Saturday\, May 10th. Out of Fort Collins\, Colorado\, Wasteland Hop plays a soulful and unique blend of folk\, rock\, and hip-hop. This is an all ages show. Doors open at 6:30pm and the music starts at 7pm. Tickets available at denaliartscouncil.org.
URL:https://ktna.org/events/wasteland-hop-concert-denali-arts-counci/
LOCATION:Sheldon Community Arts Hangar
CATEGORIES:Announcements,Calendar
ORGANIZER;CN="Denali Arts Council":MAILTO:https://denaliartscouncil.org/contact-us/
END:VEVENT
BEGIN:VEVENT
DTSTART;TZID=America/Anchorage:20250503T150000
DTEND;TZID=America/Anchorage:20250503T180000
DTSTAMP:20260423T064124
CREATED:20250423T191142Z
LAST-MODIFIED:20250428T182102Z
UID:10004997-1746284400-1746295200@ktna.org
SUMMARY:Steve Durr Art Show and Booksigning - Denali Arts Council
DESCRIPTION:Denali Arts Council hosts Steve Durr’s art opening and book signing at the Sheldon Community Arts Hangar on Saturday\, May 3rd from 3 to 6pm. At 4pm\, Steve will read selected portions from his book; Ptarmigan Song. All are welcome.
URL:https://ktna.org/events/steve-durr-art-show-and-booksigning-denali-arts-council/
LOCATION:Sheldon Community Arts Hangar
CATEGORIES:Announcements,Calendar
ORGANIZER;CN="Denali Arts Council":MAILTO:https://denaliartscouncil.org/contact-us/
END:VEVENT
BEGIN:VEVENT
DTSTART;TZID=America/Anchorage:20250501T190000
DTEND;TZID=America/Anchorage:20250501T190000
DTSTAMP:20260423T064124
CREATED:20250421T225652Z
LAST-MODIFIED:20250501T193303Z
UID:10004985-1746126000-1746126000@ktna.org
SUMMARY:Comedian Jessica Michelle Singleton - Denali Arts Council
DESCRIPTION:Denali Arts Council hosts Alaska’s own comedian Jessica Michelle Singleton at the Sheldon Community Arts Hangar on Thursday\, May 1st.  Jessica is the breakout star of Iliza’s Locals on Hulu\, a comedy special series produced by Iliza Shlesinger. Doors open at 6:30pm and jokes start at 7pm. Tickets available at denaliartscouncil.org
URL:https://ktna.org/events/104802/
LOCATION:Sheldon Community Arts Hangar
CATEGORIES:Announcements,Calendar
ORGANIZER;CN="Denali Arts Council":MAILTO:https://denaliartscouncil.org/contact-us/
END:VEVENT
BEGIN:VEVENT
DTSTART;TZID=America/Anchorage:20250426T190000
DTEND;TZID=America/Anchorage:20250426T190000
DTSTAMP:20260423T064124
CREATED:20250418T232250Z
LAST-MODIFIED:20250425T192154Z
UID:10004976-1745694000-1745694000@ktna.org
SUMMARY:Dudes and Divas' Doo Wop show
DESCRIPTION:On Friday and Saturday\, April 25th and 26th\, the Sheldon Community Arts Hangar will once again become the 1950s nightclub\, ‘The Copa Denali’ for the Dudes and Divas’ Doo Wop show. There will be balcony seating upstairs and limited tables available downstairs. The doors open at 6:30 and the show starts at 7pm. Tickets available at www.denaliartscouncil.org.
URL:https://ktna.org/events/dudes-and-divas-doo-wop-show-2/
LOCATION:Sheldon Community Arts Hangar
CATEGORIES:Announcements,Calendar
ORGANIZER;CN="Denali Arts Council":MAILTO:https://denaliartscouncil.org/contact-us/
END:VEVENT
BEGIN:VEVENT
DTSTART;TZID=America/Anchorage:20250425T190000
DTEND;TZID=America/Anchorage:20250425T190000
DTSTAMP:20260423T064124
CREATED:20250417T200413Z
LAST-MODIFIED:20250425T192118Z
UID:10004975-1745607600-1745607600@ktna.org
SUMMARY:Dudes and Divas' Doo Wop show
DESCRIPTION:On Friday and Saturday\, April 25th and 26th\, the Sheldon Community Arts Hangar will once again become the 1950s nightclub\, ‘The Copa Denali’ for the Dudes and Divas’ Doo Wop show. There will be balcony seating upstairs and limited tables available downstairs. The doors open at 6:30 and the show starts at 7pm. Tickets available at www.denaliartscouncil.org.
URL:https://ktna.org/events/dudes-and-divas-doo-wop-show/
LOCATION:Sheldon Community Arts Hangar
CATEGORIES:Calendar
ORGANIZER;CN="Denali Arts Council":MAILTO:https://denaliartscouncil.org/contact-us/
END:VEVENT
BEGIN:VEVENT
DTSTART;TZID=America/Anchorage:20250419T103000
DTEND;TZID=America/Anchorage:20250419T113000
DTSTAMP:20260423T064124
CREATED:20250414T154308Z
LAST-MODIFIED:20250416T173940Z
UID:10003930-1745058600-1745062200@ktna.org
SUMMARY:Lightwire Theater Puppeteering & Storytelling Workshop - Denali Arts Council
DESCRIPTION:Denali Arts Council and Friends of the Talkeetna Library host Lightwire Theater\, presenting a puppeteering and storytelling workshop at the Sheldon Community Arts Hangar on Saturday\, April 19th from 10:30 to 11:30am. They will first show off their puppets\, demonstrate how they work and answer questions. They will then lead families into creating their own puppets using everyday household items. Open to all ages. More information at denaliartscouncil.org.
URL:https://ktna.org/events/lightwire-theater-storytelling-and-puppetry-workshop-denali-arts-council/
LOCATION:Sheldon Community Arts Hangar
CATEGORIES:Announcements,Calendar
ORGANIZER;CN="Denali Arts Council":MAILTO:https://denaliartscouncil.org/contact-us/
END:VEVENT
BEGIN:VEVENT
DTSTART;TZID=America/Anchorage:20250418T190000
DTEND;TZID=America/Anchorage:20250418T210000
DTSTAMP:20260423T064124
CREATED:20250402T185629Z
LAST-MODIFIED:20250418T145922Z
UID:10004950-1745002800-1745010000@ktna.org
SUMMARY:The KTNA Game Show!
DESCRIPTION:Talkeetna Community Radio hosts The KTNA Game Show on Friday\, April 18th at the Sheldon Community Arts Hangar. This is an evening of public radio inspired games from Wait! Wait! Don’t Tell Me! followed by Musical Quizzes and Local Trivia. Doors open at 6:30pm and the games begin at 7. We hope to see you there!
URL:https://ktna.org/events/the-ktna-game-show/
LOCATION:Sheldon Community Arts Hangar
CATEGORIES:Announcements,Calendar
ORGANIZER;CN="KTNA":MAILTO:info@ktna.org
END:VEVENT
BEGIN:VEVENT
DTSTART;VALUE=DATE:20250418
DTEND;VALUE=DATE:20250419
DTSTAMP:20260423T064124
CREATED:20250401T002521Z
LAST-MODIFIED:20250404T233519Z
UID:10004947-1744934400-1745020799@ktna.org
SUMMARY:April Art Show-  Denali Arts Council
DESCRIPTION:Denali Arts Council presents the art of Layla Micheli for the month of April at the Sheldon Community Arts Hangar. Layla’s art is acrylic art pour on the theme of mindfulness\, mediation\, and relaxation.
URL:https://ktna.org/events/april-art-show-the-month-of-april/
LOCATION:Sheldon Community Arts Hangar
CATEGORIES:Calendar
ORGANIZER;CN="Denali Arts Council":MAILTO:https://denaliartscouncil.org/contact-us/
END:VEVENT
BEGIN:VEVENT
DTSTART;TZID=America/Anchorage:20250417T180000
DTEND;TZID=America/Anchorage:20250417T180000
DTSTAMP:20260423T064124
CREATED:20250328T225537Z
LAST-MODIFIED:20250410T195345Z
UID:10004944-1744912800-1744912800@ktna.org
SUMMARY:Susitna River Coalition's Winter Speaker Event
DESCRIPTION:The Susitna River Coalition’s final Winter Speaker Event of the season will be in person on Thursday\, April 17th at 6PM at the Sheldon Community Arts Hangar. The event will cover the history of gold mining in Cache Creek and ongoing efforts to restore salmon habitat in the area. Speakers include Watershed Restoration Engineer Corinne Marzullo and Susitna River Coalition board member and gold miner Howard Carbone. For more information\, see the Facebook Event Page.
URL:https://ktna.org/events/susitna-river-coalitions-winter-speaker-event/
LOCATION:Sheldon Community Arts Hangar
CATEGORIES:Announcements,Calendar
END:VEVENT
BEGIN:VEVENT
DTSTART;TZID=America/Anchorage:20250410T190000
DTEND;TZID=America/Anchorage:20250410T190000
DTSTAMP:20260423T064124
CREATED:20250320T184902Z
LAST-MODIFIED:20250408T194805Z
UID:10003901-1744311600-1744311600@ktna.org
SUMMARY:The Risan Project\, Films & Concert - Denali Arts Council
DESCRIPTION:Denali Arts Council hosts The Risan Project at the Sheldon Community Arts Hangar on Thursday\, April 10th. The evening begins with a screening of Northward\, a short documentary on Todd Anders Johnson’s band\, Salem\, touring and backcountry snowboarding in Alaska. This is followed by the expedition-based climate change documentary Cresta Alta\, chronicling a journey to Alaska\, Iceland\, Chile and Peru to document glaciological research expeditions and sustainability. Followed by a discussion and Q&A. The night concludes with a live concert by Salem\, blending alt-rock\, world\, hip-hop\, jazz\, and neo-soul. Doors open at 6:30pm and the shows begin at 7. More information and tickets at denaliartscouncil.org.
URL:https://ktna.org/events/the-risan-project-films-concert-denali-arts-council/
LOCATION:Sheldon Community Arts Hangar
CATEGORIES:Announcements,Calendar
ORGANIZER;CN="Denali Arts Council":MAILTO:https://denaliartscouncil.org/contact-us/
END:VEVENT
BEGIN:VEVENT
DTSTART;TZID=America/Anchorage:20250405T190000
DTEND;TZID=America/Anchorage:20250405T190000
DTSTAMP:20260423T064124
CREATED:20250228T192115Z
LAST-MODIFIED:20250404T233104Z
UID:10003876-1743879600-1743879600@ktna.org
SUMMARY:Arctic Entries - Denali Arts Council
DESCRIPTION:Denali Arts Council hosts Arctic Entries on Saturday\, April 5th at the Sheldon Community Arts Hangar. Seven storytellers tell their story on the theme of All in the Family: Stories of Taking Root\, Branching Out\, and Breaking Free. The musical guest is Jimmy Sandy. Doors open at 6:30pm and stories start at 7pm. Tickets available at denaliartscouncil.org.
URL:https://ktna.org/events/arctic-entries-denali-arts-council/
LOCATION:Sheldon Community Arts Hangar
CATEGORIES:Announcements,Calendar
ORGANIZER;CN="Denali Arts Council":MAILTO:https://denaliartscouncil.org/contact-us/
END:VEVENT
BEGIN:VEVENT
DTSTART;TZID=America/Anchorage:20250404T203000
DTEND;TZID=America/Anchorage:20250404T203000
DTSTAMP:20260423T064124
CREATED:20250320T182741Z
LAST-MODIFIED:20250404T191208Z
UID:10003899-1743798600-1743798600@ktna.org
SUMMARY:Alaska B4UDIE Comedy Tour - Denali Arts Council
DESCRIPTION:Denali Arts Council hosts a second show with the Alaska B4UDIE Comedy Tour on Friday\, April 4th at the Sheldon Community Arts Hangar. With comedian Mary Santora. Doors open at 8:30pm\, and the jokes start at 9. Learn more about the comedians and find tickets at denaliartscouncil.org.
URL:https://ktna.org/events/alaska-b4udie-comedy-tour-denali-arts-council-2/
LOCATION:Sheldon Community Arts Hangar
CATEGORIES:Announcements,Calendar
ORGANIZER;CN="Denali Arts Council":MAILTO:https://denaliartscouncil.org/contact-us/
END:VEVENT
BEGIN:VEVENT
DTSTART;TZID=America/Anchorage:20250403T183000
DTEND;TZID=America/Anchorage:20250403T183000
DTSTAMP:20260423T064124
CREATED:20250319T225718Z
LAST-MODIFIED:20250331T200605Z
UID:10003897-1743705000-1743705000@ktna.org
SUMMARY:Alaska B4UDIE Comedy Tour - Denali Arts Council
DESCRIPTION:Denali Arts Council hosts the Alaska B4UDIE Comedy Tour on Thursday\, April 3rd at the Sheldon Community Arts Hangar. With comedians Alex Morris\, Alfred Konuwa\, Lou Pharis\, and Jessie James Best. Doors open at 6:30pm\, and the jokes start at 7. Learn more about the comedians and find tickets at denaliartscouncil.org.
URL:https://ktna.org/events/alaska-b4udie-comedy-tour-denali-arts-council/
LOCATION:Sheldon Community Arts Hangar
CATEGORIES:Announcements,Calendar
ORGANIZER;CN="Denali Arts Council":MAILTO:https://denaliartscouncil.org/contact-us/
END:VEVENT
BEGIN:VEVENT
DTSTART;VALUE=DATE:20250401
DTEND;VALUE=DATE:20250402
DTSTAMP:20260423T064124
CREATED:20250402T192114Z
LAST-MODIFIED:20250402T192114Z
UID:10004953-1743465600-1743551999@ktna.org
SUMMARY:Acrylic Art Pour - April Art Show - Denali Arts Council
DESCRIPTION:For the month of April\, Layla Micheli will have her acrylic art pour on display at the Sheldon Community Arts Hangar. Layla’s art is a therapeutic display on how mindfulness\, mediation\, and relaxation can be created through art despite a stressful and busy life.
URL:https://ktna.org/events/acrylic-art-pour-april-art-show-denali-arts-council-2/
LOCATION:Sheldon Community Arts Hangar
CATEGORIES:Calendar
ORGANIZER;CN="Denali Arts Council":MAILTO:https://denaliartscouncil.org/contact-us/
END:VEVENT
BEGIN:VEVENT
DTSTART;TZID=America/Anchorage:20250330T140000
DTEND;TZID=America/Anchorage:20250330T140000
DTSTAMP:20260423T064124
CREATED:20250310T201429Z
LAST-MODIFIED:20250313T011401Z
UID:10004875-1743343200-1743343200@ktna.org
SUMMARY:Made for the Stage Performance - Denali Arts Council
DESCRIPTION:Denali Arts Council’s after school theater program\, Made for the Stage\, presents their fantasy production\, Quest – One Play to Rule them All. There will be three performances at the Sheldon Community Arts Hangar. On Friday and Saturday\, March 28th and 29th\, doors open at 6:30pm and the performance begins at 7pm. A Sunday Matinee is on March 30th\, doors open at 1:30 pm and the performance is at 2pm.
URL:https://ktna.org/events/made-for-the-stage-performance-denali-arts-council-2/
LOCATION:Sheldon Community Arts Hangar
CATEGORIES:Calendar
ORGANIZER;CN="Denali Arts Council":MAILTO:https://denaliartscouncil.org/contact-us/
END:VEVENT
BEGIN:VEVENT
DTSTART;TZID=America/Anchorage:20250329T190000
DTEND;TZID=America/Anchorage:20250329T190000
DTSTAMP:20260423T064124
CREATED:20250310T201305Z
LAST-MODIFIED:20250327T181832Z
UID:10004874-1743274800-1743274800@ktna.org
SUMMARY:Made for the Stage Performance - Denali Arts Council
DESCRIPTION:Denali Arts Council’s after school theater program\, Made for the Stage\, presents their fantasy production\, Quest – One Play to Rule them All. There will be three performances at the Sheldon Community Arts Hangar: \n\nFriday\, March 28th will be a soft opening/dress rehearsal. The community is welcome to watch as the kids work through final details of the show. Doors open at 6:30\, the show begins at 7pm.\nOn Saturday\, March 29th\, doors open at 6:30pm and the performance begins at 7pm.\nA Sunday Matinee is on March 30th\, doors open at 1:30 pm and the performance is at 2pm.\n\nMore information and tickets at denaliartscouncil.org.
URL:https://ktna.org/events/made-for-the-stage-performance-denali-arts-council/2025-03-29/
LOCATION:Sheldon Community Arts Hangar
CATEGORIES:Announcements,Calendar
ORGANIZER;CN="Denali Arts Council":MAILTO:https://denaliartscouncil.org/contact-us/
END:VEVENT
BEGIN:VEVENT
DTSTART;TZID=America/Anchorage:20250325T190000
DTEND;TZID=America/Anchorage:20250325T190000
DTSTAMP:20260423T064124
CREATED:20250321T184630Z
LAST-MODIFIED:20250321T184630Z
UID:10003908-1742929200-1742929200@ktna.org
SUMMARY:Denali Arts Council Volunteer Meeting
DESCRIPTION:Denali Arts Council will host a Volunteer Meeting on Tuesday\, March 25th at 7pm at the Sheldon Community Arts Hangar. This meeting is for all current volunteers and those interested in becoming volunteers. All are welcome.
URL:https://ktna.org/events/denali-arts-council-volunteer-meeting/
LOCATION:Sheldon Community Arts Hangar
CATEGORIES:Announcements,Calendar
ORGANIZER;CN="Denali Arts Council":MAILTO:https://denaliartscouncil.org/contact-us/
END:VEVENT
BEGIN:VEVENT
DTSTART;TZID=America/Anchorage:20250323T150000
DTEND;TZID=America/Anchorage:20250323T150000
DTSTAMP:20260423T064124
CREATED:20250310T202459Z
LAST-MODIFIED:20250317T222532Z
UID:10004876-1742742000-1742742000@ktna.org
SUMMARY:Unit Souzou Workshop - Denali Arts Council
DESCRIPTION:Unit Souzou hosts a workshop with an interactive drumming demonstration followed by a questions and answers session at the Sheldon Community Arts Hangar on Sunday\, March 23rd\, beginning at 3pm. For more information you may call Michelle at (907) 733-7929.
URL:https://ktna.org/events/unit-souzou-workshop-denali-arts-council/
LOCATION:Sheldon Community Arts Hangar
CATEGORIES:Calendar
ORGANIZER;CN="Denali Arts Council":MAILTO:https://denaliartscouncil.org/contact-us/
END:VEVENT
BEGIN:VEVENT
DTSTART;TZID=America/Anchorage:20250322T190000
DTEND;TZID=America/Anchorage:20250322T190000
DTSTAMP:20260423T064124
CREATED:20250309T193911Z
LAST-MODIFIED:20250317T222357Z
UID:10004808-1742670000-1742670000@ktna.org
SUMMARY:Unit Souzou - Denali Arts Council
DESCRIPTION:On Saturday\, March 22nd\, Denali Arts Council presents Unit Souzou with their production “Constant State of Otherness”. Through rhythm and movement\, Unit Souzou uses the ancient Japanese art of taiko\, dance\, song\, and personal stories to explore human identity and longing to belong and be part of something bigger. The show starts at 7pm at the Sheldon Community Arts Hangar. More information and tickets available on denaliartscouncil.org.
URL:https://ktna.org/events/unit-souzou-denali-arts-council/
LOCATION:Sheldon Community Arts Hangar
CATEGORIES:Announcements,Calendar
END:VEVENT
END:VCALENDAR