BEGIN:VCALENDAR
VERSION:2.0
PRODID:-//KTNA 88.9 FM - ECPv6.15.20//NONSGML v1.0//EN
CALSCALE:GREGORIAN
METHOD:PUBLISH
X-WR-CALNAME:KTNA 88.9 FM
X-ORIGINAL-URL:https://ktna.org
X-WR-CALDESC:Events for KTNA 88.9 FM
REFRESH-INTERVAL;VALUE=DURATION:PT1H
X-Robots-Tag:noindex
X-PUBLISHED-TTL:PT1H
BEGIN:VTIMEZONE
TZID:America/Anchorage
BEGIN:DAYLIGHT
TZOFFSETFROM:-0900
TZOFFSETTO:-0800
TZNAME:AKDT
DTSTART:20240310T110000
END:DAYLIGHT
BEGIN:STANDARD
TZOFFSETFROM:-0800
TZOFFSETTO:-0900
TZNAME:AKST
DTSTART:20241103T100000
END:STANDARD
BEGIN:DAYLIGHT
TZOFFSETFROM:-0900
TZOFFSETTO:-0800
TZNAME:AKDT
DTSTART:20250309T110000
END:DAYLIGHT
BEGIN:STANDARD
TZOFFSETFROM:-0800
TZOFFSETTO:-0900
TZNAME:AKST
DTSTART:20251102T100000
END:STANDARD
BEGIN:DAYLIGHT
TZOFFSETFROM:-0900
TZOFFSETTO:-0800
TZNAME:AKDT
DTSTART:20260308T110000
END:DAYLIGHT
BEGIN:STANDARD
TZOFFSETFROM:-0800
TZOFFSETTO:-0900
TZNAME:AKST
DTSTART:20261101T100000
END:STANDARD
END:VTIMEZONE
BEGIN:VEVENT
DTSTART;TZID=America/Anchorage:20250410T190000
DTEND;TZID=America/Anchorage:20250410T190000
DTSTAMP:20260424T081051
CREATED:20250320T184902Z
LAST-MODIFIED:20250408T194805Z
UID:10003901-1744311600-1744311600@ktna.org
SUMMARY:The Risan Project\, Films & Concert - Denali Arts Council
DESCRIPTION:Denali Arts Council hosts The Risan Project at the Sheldon Community Arts Hangar on Thursday\, April 10th. The evening begins with a screening of Northward\, a short documentary on Todd Anders Johnson’s band\, Salem\, touring and backcountry snowboarding in Alaska. This is followed by the expedition-based climate change documentary Cresta Alta\, chronicling a journey to Alaska\, Iceland\, Chile and Peru to document glaciological research expeditions and sustainability. Followed by a discussion and Q&A. The night concludes with a live concert by Salem\, blending alt-rock\, world\, hip-hop\, jazz\, and neo-soul. Doors open at 6:30pm and the shows begin at 7. More information and tickets at denaliartscouncil.org.
URL:https://ktna.org/events/the-risan-project-films-concert-denali-arts-council/
LOCATION:Sheldon Community Arts Hangar
CATEGORIES:Announcements,Calendar
ORGANIZER;CN="Denali Arts Council":MAILTO:https://denaliartscouncil.org/contact-us/
END:VEVENT
BEGIN:VEVENT
DTSTART;TZID=America/Anchorage:20250405T190000
DTEND;TZID=America/Anchorage:20250405T190000
DTSTAMP:20260424T081051
CREATED:20250228T192115Z
LAST-MODIFIED:20250404T233104Z
UID:10003876-1743879600-1743879600@ktna.org
SUMMARY:Arctic Entries - Denali Arts Council
DESCRIPTION:Denali Arts Council hosts Arctic Entries on Saturday\, April 5th at the Sheldon Community Arts Hangar. Seven storytellers tell their story on the theme of All in the Family: Stories of Taking Root\, Branching Out\, and Breaking Free. The musical guest is Jimmy Sandy. Doors open at 6:30pm and stories start at 7pm. Tickets available at denaliartscouncil.org.
URL:https://ktna.org/events/arctic-entries-denali-arts-council/
LOCATION:Sheldon Community Arts Hangar
CATEGORIES:Announcements,Calendar
ORGANIZER;CN="Denali Arts Council":MAILTO:https://denaliartscouncil.org/contact-us/
END:VEVENT
BEGIN:VEVENT
DTSTART;TZID=America/Anchorage:20250404T203000
DTEND;TZID=America/Anchorage:20250404T203000
DTSTAMP:20260424T081051
CREATED:20250320T182741Z
LAST-MODIFIED:20250404T191208Z
UID:10003899-1743798600-1743798600@ktna.org
SUMMARY:Alaska B4UDIE Comedy Tour - Denali Arts Council
DESCRIPTION:Denali Arts Council hosts a second show with the Alaska B4UDIE Comedy Tour on Friday\, April 4th at the Sheldon Community Arts Hangar. With comedian Mary Santora. Doors open at 8:30pm\, and the jokes start at 9. Learn more about the comedians and find tickets at denaliartscouncil.org.
URL:https://ktna.org/events/alaska-b4udie-comedy-tour-denali-arts-council-2/
LOCATION:Sheldon Community Arts Hangar
CATEGORIES:Announcements,Calendar
ORGANIZER;CN="Denali Arts Council":MAILTO:https://denaliartscouncil.org/contact-us/
END:VEVENT
BEGIN:VEVENT
DTSTART;TZID=America/Anchorage:20250403T183000
DTEND;TZID=America/Anchorage:20250403T183000
DTSTAMP:20260424T081051
CREATED:20250319T225718Z
LAST-MODIFIED:20250331T200605Z
UID:10003897-1743705000-1743705000@ktna.org
SUMMARY:Alaska B4UDIE Comedy Tour - Denali Arts Council
DESCRIPTION:Denali Arts Council hosts the Alaska B4UDIE Comedy Tour on Thursday\, April 3rd at the Sheldon Community Arts Hangar. With comedians Alex Morris\, Alfred Konuwa\, Lou Pharis\, and Jessie James Best. Doors open at 6:30pm\, and the jokes start at 7. Learn more about the comedians and find tickets at denaliartscouncil.org.
URL:https://ktna.org/events/alaska-b4udie-comedy-tour-denali-arts-council/
LOCATION:Sheldon Community Arts Hangar
CATEGORIES:Announcements,Calendar
ORGANIZER;CN="Denali Arts Council":MAILTO:https://denaliartscouncil.org/contact-us/
END:VEVENT
BEGIN:VEVENT
DTSTART;VALUE=DATE:20250401
DTEND;VALUE=DATE:20250402
DTSTAMP:20260424T081051
CREATED:20250402T192114Z
LAST-MODIFIED:20250402T192114Z
UID:10004953-1743465600-1743551999@ktna.org
SUMMARY:Acrylic Art Pour - April Art Show - Denali Arts Council
DESCRIPTION:For the month of April\, Layla Micheli will have her acrylic art pour on display at the Sheldon Community Arts Hangar. Layla’s art is a therapeutic display on how mindfulness\, mediation\, and relaxation can be created through art despite a stressful and busy life.
URL:https://ktna.org/events/acrylic-art-pour-april-art-show-denali-arts-council-2/
LOCATION:Sheldon Community Arts Hangar
CATEGORIES:Calendar
ORGANIZER;CN="Denali Arts Council":MAILTO:https://denaliartscouncil.org/contact-us/
END:VEVENT
BEGIN:VEVENT
DTSTART;TZID=America/Anchorage:20250330T140000
DTEND;TZID=America/Anchorage:20250330T140000
DTSTAMP:20260424T081051
CREATED:20250310T201429Z
LAST-MODIFIED:20250313T011401Z
UID:10004875-1743343200-1743343200@ktna.org
SUMMARY:Made for the Stage Performance - Denali Arts Council
DESCRIPTION:Denali Arts Council’s after school theater program\, Made for the Stage\, presents their fantasy production\, Quest – One Play to Rule them All. There will be three performances at the Sheldon Community Arts Hangar. On Friday and Saturday\, March 28th and 29th\, doors open at 6:30pm and the performance begins at 7pm. A Sunday Matinee is on March 30th\, doors open at 1:30 pm and the performance is at 2pm.
URL:https://ktna.org/events/made-for-the-stage-performance-denali-arts-council-2/
LOCATION:Sheldon Community Arts Hangar
CATEGORIES:Calendar
ORGANIZER;CN="Denali Arts Council":MAILTO:https://denaliartscouncil.org/contact-us/
END:VEVENT
BEGIN:VEVENT
DTSTART;TZID=America/Anchorage:20250329T190000
DTEND;TZID=America/Anchorage:20250329T190000
DTSTAMP:20260424T081051
CREATED:20250310T201305Z
LAST-MODIFIED:20250327T181832Z
UID:10004874-1743274800-1743274800@ktna.org
SUMMARY:Made for the Stage Performance - Denali Arts Council
DESCRIPTION:Denali Arts Council’s after school theater program\, Made for the Stage\, presents their fantasy production\, Quest – One Play to Rule them All. There will be three performances at the Sheldon Community Arts Hangar: \n\nFriday\, March 28th will be a soft opening/dress rehearsal. The community is welcome to watch as the kids work through final details of the show. Doors open at 6:30\, the show begins at 7pm.\nOn Saturday\, March 29th\, doors open at 6:30pm and the performance begins at 7pm.\nA Sunday Matinee is on March 30th\, doors open at 1:30 pm and the performance is at 2pm.\n\nMore information and tickets at denaliartscouncil.org.
URL:https://ktna.org/events/made-for-the-stage-performance-denali-arts-council/2025-03-29/
LOCATION:Sheldon Community Arts Hangar
CATEGORIES:Announcements,Calendar
ORGANIZER;CN="Denali Arts Council":MAILTO:https://denaliartscouncil.org/contact-us/
END:VEVENT
BEGIN:VEVENT
DTSTART;TZID=America/Anchorage:20250325T190000
DTEND;TZID=America/Anchorage:20250325T190000
DTSTAMP:20260424T081051
CREATED:20250321T184630Z
LAST-MODIFIED:20250321T184630Z
UID:10003908-1742929200-1742929200@ktna.org
SUMMARY:Denali Arts Council Volunteer Meeting
DESCRIPTION:Denali Arts Council will host a Volunteer Meeting on Tuesday\, March 25th at 7pm at the Sheldon Community Arts Hangar. This meeting is for all current volunteers and those interested in becoming volunteers. All are welcome.
URL:https://ktna.org/events/denali-arts-council-volunteer-meeting/
LOCATION:Sheldon Community Arts Hangar
CATEGORIES:Announcements,Calendar
ORGANIZER;CN="Denali Arts Council":MAILTO:https://denaliartscouncil.org/contact-us/
END:VEVENT
BEGIN:VEVENT
DTSTART;TZID=America/Anchorage:20250323T150000
DTEND;TZID=America/Anchorage:20250323T150000
DTSTAMP:20260424T081051
CREATED:20250310T202459Z
LAST-MODIFIED:20250317T222532Z
UID:10004876-1742742000-1742742000@ktna.org
SUMMARY:Unit Souzou Workshop - Denali Arts Council
DESCRIPTION:Unit Souzou hosts a workshop with an interactive drumming demonstration followed by a questions and answers session at the Sheldon Community Arts Hangar on Sunday\, March 23rd\, beginning at 3pm. For more information you may call Michelle at (907) 733-7929.
URL:https://ktna.org/events/unit-souzou-workshop-denali-arts-council/
LOCATION:Sheldon Community Arts Hangar
CATEGORIES:Calendar
ORGANIZER;CN="Denali Arts Council":MAILTO:https://denaliartscouncil.org/contact-us/
END:VEVENT
BEGIN:VEVENT
DTSTART;TZID=America/Anchorage:20250322T190000
DTEND;TZID=America/Anchorage:20250322T190000
DTSTAMP:20260424T081051
CREATED:20250309T193911Z
LAST-MODIFIED:20250317T222357Z
UID:10004808-1742670000-1742670000@ktna.org
SUMMARY:Unit Souzou - Denali Arts Council
DESCRIPTION:On Saturday\, March 22nd\, Denali Arts Council presents Unit Souzou with their production “Constant State of Otherness”. Through rhythm and movement\, Unit Souzou uses the ancient Japanese art of taiko\, dance\, song\, and personal stories to explore human identity and longing to belong and be part of something bigger. The show starts at 7pm at the Sheldon Community Arts Hangar. More information and tickets available on denaliartscouncil.org.
URL:https://ktna.org/events/unit-souzou-denali-arts-council/
LOCATION:Sheldon Community Arts Hangar
CATEGORIES:Announcements,Calendar
END:VEVENT
BEGIN:VEVENT
DTSTART;VALUE=DATE:20250321
DTEND;VALUE=DATE:20250322
DTSTAMP:20260424T081051
CREATED:20250228T192418Z
LAST-MODIFIED:20250317T222142Z
UID:10003878-1742515200-1742601599@ktna.org
SUMMARY:Seeking Storytellers - Denali Arts Council
DESCRIPTION:Denali Arts Council is looking for storytellers for their upcoming Arctic Entries on Saturday\, April 5th at the Sheldon Community Arts Hangar. The theme is All in the Family: Stories of Taking Root\, Branching Out\, and Breaking Free. If you are interested please contact Michelle at michelle@denaliartscouncil.org or call 907-733-7929. \n\n\n\n\n\n\n\n\n\n 
URL:https://ktna.org/events/seeking-storytellers/
LOCATION:Sheldon Community Arts Hangar
CATEGORIES:Classifieds
ORGANIZER;CN="Denali Arts Council":MAILTO:https://denaliartscouncil.org/contact-us/
END:VEVENT
BEGIN:VEVENT
DTSTART;TZID=America/Anchorage:20250318T210000
DTEND;TZID=America/Anchorage:20250318T210000
DTSTAMP:20260424T081051
CREATED:20250309T193246Z
LAST-MODIFIED:20250313T195746Z
UID:10004807-1742331600-1742331600@ktna.org
SUMMARY:B Movie Bingo - Denali Arts Council
DESCRIPTION:Denali Arts Council hosts B Movie Bingo on Tuesday\, March 18th at the Sheldon Community Arts Hangar. Doors open at 8:30pm\, the movie starts at 9pm.
URL:https://ktna.org/events/b-movie-bingo-denali-arts-council/
LOCATION:Sheldon Community Arts Hangar
CATEGORIES:Announcements,Calendar
END:VEVENT
BEGIN:VEVENT
DTSTART;TZID=America/Anchorage:20250314T190000
DTEND;TZID=America/Anchorage:20250314T190000
DTSTAMP:20260424T081051
CREATED:20250226T201938Z
LAST-MODIFIED:20250311T193249Z
UID:10003874-1741978800-1741978800@ktna.org
SUMMARY:Michael Kirkpatrick performance - Denali Arts Council
DESCRIPTION:Michael Kirkpatrick performs at the Sheldon Community Arts Hangar on Friday\, March 14th. Michael blends elements of acoustic fingerstyle and folk rock. Doors open at 6:30pm\, music starts at 7pm. For more information and tickets you may visit denaliartscouncil.org or call (907) 733-7929.
URL:https://ktna.org/events/michael-kirkpatrick-performance-denali-arts-council/
LOCATION:Sheldon Community Arts Hangar
CATEGORIES:Announcements,Calendar
ORGANIZER;CN="Denali Arts Council":MAILTO:https://denaliartscouncil.org/contact-us/
END:VEVENT
BEGIN:VEVENT
DTSTART;TZID=America/Anchorage:20250308T200000
DTEND;TZID=America/Anchorage:20250308T200000
DTSTAMP:20260424T081051
CREATED:20250226T201645Z
LAST-MODIFIED:20250228T221811Z
UID:10003872-1741464000-1741464000@ktna.org
SUMMARY:Roland Roberts Band concert - Denali Arts Council
DESCRIPTION:The Roland Roberts Band will be performing at the Sheldon Community Arts Hangar on Saturday\, March 8th. This is an all ages show featuring parts of folk\, Americana\, and country music. Doors open at 7\, and the music starts at 8pm. For more information and tickets you may visit denaliartscouncil.org or call (907) 733-7929.
URL:https://ktna.org/events/roland-roberts-band-concert-denali-arts-council/
LOCATION:Sheldon Community Arts Hangar
CATEGORIES:Announcements,Calendar
ORGANIZER;CN="Denali Arts Council":MAILTO:https://denaliartscouncil.org/contact-us/
END:VEVENT
BEGIN:VEVENT
DTSTART;TZID=America/Anchorage:20250307T193000
DTEND;TZID=America/Anchorage:20250307T210000
DTSTAMP:20260424T081051
CREATED:20250226T200136Z
LAST-MODIFIED:20250305T221615Z
UID:10004745-1741375800-1741381200@ktna.org
SUMMARY:Showing of The Last King - Denali Nordic Ski Club
DESCRIPTION:Denali Nordic Ski Club presents the film\, The Last King\, at the Sheldon Community Arts Hangar on Friday March 7th. This R-rated film begins at 7:30pm\, after Oosik Registration. This film screening is a folk tale set in 1206 Norway\, about ski champions who protect a child with a royal following.
URL:https://ktna.org/events/showing-of-the-last-king-denali-nordic-ski-club/
LOCATION:Sheldon Community Arts Hangar
CATEGORIES:Announcements,Calendar
END:VEVENT
BEGIN:VEVENT
DTSTART;TZID=America/Anchorage:20250302T183000
DTEND;TZID=America/Anchorage:20250302T210000
DTSTAMP:20260424T081051
CREATED:20250225T213903Z
LAST-MODIFIED:20250226T232619Z
UID:10004744-1740940200-1740949200@ktna.org
SUMMARY:Matt Heckler NORTH Concert - Denali Arts Council
DESCRIPTION:Denali Arts Council hosts a concert with Matt Heckler on Sunday\, March 2nd at the Sheldon Community Arts Hangar. Matt is a multi-instrumentalist known for his raw\, soulful take on Appalachian and early bluegrass music\, with influences from Eastern Europe and Ireland. He has toured with bands like Devil Makes Three\, Lost Dog Street Band\, and Flogging Molly. Doors open at 6:30\, and the show starts at 7pm. More information at denaliartscouncil.org
URL:https://ktna.org/events/matt-heckler-north-concert-denali-arts-council/
LOCATION:Sheldon Community Arts Hangar
CATEGORIES:Announcements,Calendar
ORGANIZER;CN="Denali Arts Council":MAILTO:https://denaliartscouncil.org/contact-us/
END:VEVENT
BEGIN:VEVENT
DTSTART;TZID=America/Anchorage:20250301T180000
DTEND;TZID=America/Anchorage:20250301T180000
DTSTAMP:20260424T081051
CREATED:20250219T202835Z
LAST-MODIFIED:20250228T221439Z
UID:10004731-1740852000-1740852000@ktna.org
SUMMARY:Krew Feud - Talkeetna Skatepark Committee
DESCRIPTION:The Talkeetna Skatepark Committee presents: Krew Feud\, a family-friendly live game show fundraiser in the style of Family Feud.  The event is Saturday\, March 1st at 6pm at the Sheldon Community Arts Hangar. There is a suggested donation. All raised funds to go towards the construction of the Talkeetna Skatepark.
URL:https://ktna.org/events/krew-feud-talkeetna-skatepark-committee/
LOCATION:Sheldon Community Arts Hangar
CATEGORIES:Announcements,Calendar
END:VEVENT
BEGIN:VEVENT
DTSTART;TZID=America/Anchorage:20250222T160000
DTEND;TZID=America/Anchorage:20250222T190000
DTSTAMP:20260424T081051
CREATED:20250204T210901Z
LAST-MODIFIED:20250212T215350Z
UID:10003852-1740240000-1740250800@ktna.org
SUMMARY:Raising Spirits - Denali Arts Council
DESCRIPTION:Denali Arts Council’s fundraising event\, Raising Spirits\, is Saturday\, February 22nd from 4 to 7pm. There will be artisanal foods and craft cocktails from Alaskan distilleries\, music\, an art auction and an aerialist. 100% of funds raised benefit the Denali Arts Council including the Emmila A Denny Scholarship Fund\, the Sheldon Community Arts Hangar\, and summer youth programming. This event is for 21 years and older\, and tickets are available at denaliartscouncil.org.
URL:https://ktna.org/events/raising-spirits-denali-arts-council/
LOCATION:Sheldon Community Arts Hangar
CATEGORIES:Announcements,Calendar
ORGANIZER;CN="Denali Arts Council":MAILTO:https://denaliartscouncil.org/contact-us/
END:VEVENT
BEGIN:VEVENT
DTSTART;TZID=America/Anchorage:20250215T200000
DTEND;TZID=America/Anchorage:20250215T220000
DTSTAMP:20260424T081051
CREATED:20250204T210342Z
LAST-MODIFIED:20250210T201652Z
UID:10003850-1739649600-1739656800@ktna.org
SUMMARY:Blackwater Railroad Company - Denali Arts Council
DESCRIPTION:As part of the Talkeetna Bonspiel\, Blackwater Railroad Company will be performing at the Sheldon Community Arts Hangar on Saturday\, February 15th. Doors open at 7pm and music starts at 8pm. Tickets available at denaliartscouncil.org.
URL:https://ktna.org/events/blackwater-railroad-company-denali-arts-council/
LOCATION:Sheldon Community Arts Hangar
CATEGORIES:Announcements,Calendar
ORGANIZER;CN="Denali Arts Council":MAILTO:https://denaliartscouncil.org/contact-us/
END:VEVENT
BEGIN:VEVENT
DTSTART;TZID=America/Anchorage:20250213T190000
DTEND;TZID=America/Anchorage:20250213T220000
DTSTAMP:20260424T081051
CREATED:20250204T205333Z
LAST-MODIFIED:20250206T205347Z
UID:10003848-1739473200-1739484000@ktna.org
SUMMARY:Fleetmac Wood Leather & Lace Disco - Denali Arts Council
DESCRIPTION:Denali Arts Council presents Fleetmac Wood Leather & Lace Disco party at the Sheldon Community Arts Hangar on Thursday\, February 13th. This rave and AV show reworks the classic-rock sound of Fleetwood Mac into a spectrum of electronic genres. This is a 21 and older dance party. Doors at 6:30pm and the show starts at 7pm. Tickets and information available at denaliartscouncil.org.
URL:https://ktna.org/events/102599/
LOCATION:Sheldon Community Arts Hangar
CATEGORIES:Announcements,Calendar
ORGANIZER;CN="Denali Arts Council":MAILTO:https://denaliartscouncil.org/contact-us/
END:VEVENT
BEGIN:VEVENT
DTSTART;TZID=America/Anchorage:20250209T150000
DTEND;TZID=America/Anchorage:20250209T190000
DTSTAMP:20260424T081051
CREATED:20250204T205042Z
LAST-MODIFIED:20250204T205042Z
UID:10003847-1739113200-1739127600@ktna.org
SUMMARY:Fiber February Art Show - Denali Arts Council
DESCRIPTION:Denali Arts Council hosts the Fiber February Art Show on Sunday\, February 9th from 3 to 7pm at the Sheldon Community Arts Hangar. There will also be spinning demonstrations and sheep on display. Fiber February features the fascinating world of fiber art. There will be opportunities to peruse weaving\, hooking\, felting and more by signing up for Fiber Workshops\, held later this month. More information at denaliartscouncil.org.
URL:https://ktna.org/events/fiber-february-art-show-denali-arts-council/
LOCATION:Sheldon Community Arts Hangar
CATEGORIES:Announcements,Calendar
ORGANIZER;CN="Denali Arts Council":MAILTO:https://denaliartscouncil.org/contact-us/
END:VEVENT
BEGIN:VEVENT
DTSTART;TZID=America/Anchorage:20250208T183000
DTEND;TZID=America/Anchorage:20250208T210000
DTSTAMP:20260424T081051
CREATED:20250204T203734Z
LAST-MODIFIED:20250204T203734Z
UID:10003845-1739039400-1739048400@ktna.org
SUMMARY:Complexities of Love variety show - Denali Arts Council
DESCRIPTION:Denali Arts Council celebrates love in all its forms at Talkeetna’s annual variety show; Complexities of Love on Saturday\, February 8th. This is the final showing of this family friendly show. Doors open at 6:30pm and the show starts at 7pm. Tickets and information at denaliartscouncil.org.
URL:https://ktna.org/events/complexities-of-love-variety-show-denali-arts-council-2/
LOCATION:Sheldon Community Arts Hangar
CATEGORIES:Calendar
ORGANIZER;CN="Denali Arts Council":MAILTO:https://denaliartscouncil.org/contact-us/
END:VEVENT
BEGIN:VEVENT
DTSTART;TZID=America/Anchorage:20250207T183000
DTEND;TZID=America/Anchorage:20250207T210000
DTSTAMP:20260424T081051
CREATED:20250204T203504Z
LAST-MODIFIED:20250204T203504Z
UID:10004701-1738953000-1738962000@ktna.org
SUMMARY:Complexities of Love variety show - Denali Arts Council
DESCRIPTION:Denali Arts Council celebrates love in all its forms at Talkeetna’s annual variety show; Complexities of Love on Friday and Saturday\, February 7th and 8th. This is a family friendly show. Doors open at 6:30pm and the show starts at 7pm. Tickets and information at denaliartscouncil.org.
URL:https://ktna.org/events/complexities-of-love-variety-show-denali-arts-council/
LOCATION:Sheldon Community Arts Hangar
CATEGORIES:Announcements,Calendar
ORGANIZER;CN="Denali Arts Council":MAILTO:https://denaliartscouncil.org/contact-us/
END:VEVENT
BEGIN:VEVENT
DTSTART;VALUE=DATE:20250204
DTEND;VALUE=DATE:20250205
DTSTAMP:20260424T081051
CREATED:20250204T201056Z
LAST-MODIFIED:20250204T201456Z
UID:10004699-1738627200-1738713599@ktna.org
SUMMARY:Taco Tuesday canceled today
DESCRIPTION:Taco Tuesday and Jam Night at the Sheldon Community Arts Hangar is canceled today\, Tuesday\, February 4th.
URL:https://ktna.org/events/102580/
LOCATION:Sheldon Community Arts Hangar
CATEGORIES:Announcements
ORGANIZER;CN="Denali Arts Council":MAILTO:https://denaliartscouncil.org/contact-us/
END:VEVENT
BEGIN:VEVENT
DTSTART;TZID=America/Anchorage:20250201T183000
DTEND;TZID=America/Anchorage:20250201T203000
DTSTAMP:20260424T081051
CREATED:20250131T193128Z
LAST-MODIFIED:20250131T193418Z
UID:10004673-1738434600-1738441800@ktna.org
SUMMARY:Frostbitten Documentary - Denali Arts Council
DESCRIPTION:The world premier of Frostbitten\, a 45 minute documentary by David Hannah is at the Sheldon Community Arts Hangar on Saturday\, February 1st. Frostbitten follows climber Nigel Vardy as he returns to Alaska 25 years after getting stuck on Denali\, to thank the locals who saved his life. The film screening will be followed by a Q and A with David and Nigel. Doors open at 6:30pm\, the film starts at 7pm.
URL:https://ktna.org/events/frostbitten-documentary-denali-arts-council/
LOCATION:Sheldon Community Arts Hangar
CATEGORIES:Announcements,Calendar
ORGANIZER;CN="Denali Arts Council":MAILTO:https://denaliartscouncil.org/contact-us/
END:VEVENT
BEGIN:VEVENT
DTSTART;VALUE=DATE:20250201
DTEND;VALUE=DATE:20250202
DTSTAMP:20260424T081051
CREATED:20250131T201934Z
LAST-MODIFIED:20250131T203614Z
UID:10004675-1738368000-1738454399@ktna.org
SUMMARY:Talkeetna Ice Festival
DESCRIPTION:Here’s what’s coming up for the Talkeetna Ice Festival on Saturday\, February 1st: \n\nIce sculpture viewing and voting at the Talkeetna Village Park from 12 to 5pm. There will be hot beverages\, kid activities\, and an ice carving demonstration.\nA Chili Cook Off with tasting and voting is from 1 to 5pm at the Sheldon Community Arts Hangar. The winner will be announced at 5pm\, in the Village Park.\nKick Sled Races for ages 3 to 93 are from 1 to 2 pm on Main Street. Kick Sleds of various sizes will be provided or bring your own. Don’t worry if you’ve never been on a kick sled before – if you can walk you can kick sled! Call Holly at 907-355-4903 with any questions.\nA Tandem Ski Race\, put on by the Talkeetna Chamber of Commerce is from 2 to 3pm on Main Street.\nThe Dog Keg Pull Race\, put on by Denali Education Center is from 3 to 4pm on Main Street. Winners will be announced at 5 pm in the Village Park.
URL:https://ktna.org/events/talkeetna-ice-festival/
LOCATION:Talkeetna Village Park\, 99676
CATEGORIES:Announcements,Calendar
ORGANIZER;CN="Denali Arts Council":MAILTO:https://denaliartscouncil.org/contact-us/
END:VEVENT
BEGIN:VEVENT
DTSTART;TZID=America/Anchorage:20250131T190000
DTEND;TZID=America/Anchorage:20250131T190000
DTSTAMP:20260424T081051
CREATED:20250131T005314Z
LAST-MODIFIED:20250131T005314Z
UID:10004671-1738350000-1738350000@ktna.org
SUMMARY:Myles from Dublin Concert
DESCRIPTION:Denali Arts Council presents Myles from Dublin. This trio features John Walsh\, Pat Broaders\, and Jannell Canerday. This lovely concert of traditional Irish music and song will be by candle light. This beautiful event is free to the community at the Sheldon Community Arts Hangar at 7pm. Donations are welcome.
URL:https://ktna.org/events/myles-from-dublin-concert/
LOCATION:Sheldon Community Arts Hangar
CATEGORIES:Announcements,Calendar
ORGANIZER;CN="Denali Arts Council":MAILTO:https://denaliartscouncil.org/contact-us/
END:VEVENT
BEGIN:VEVENT
DTSTART;TZID=America/Anchorage:20250130T190000
DTEND;TZID=America/Anchorage:20250130T190000
DTSTAMP:20260424T081051
CREATED:20250129T020304Z
LAST-MODIFIED:20250129T020304Z
UID:10003840-1738263600-1738263600@ktna.org
SUMMARY:Talkeetna Jeopardy
DESCRIPTION:The Talkeetna Historical Society is hosting the annual Talkeetna Jeopardy game on Thursday\, January 30th\, at the Sheldon Community Arts Hangar. Doors open at 6:30 and the show starts at 7:00pm. Ticket proceeds support the museum. Team participants are still needed. Please contact the museum at 907-733-2487 or message them on social media if you are interested.
URL:https://ktna.org/events/talkeetna-jeopardy-3/
LOCATION:Sheldon Community Arts Hangar
CATEGORIES:Announcements,Calendar
ORGANIZER;CN="Talkeetna Historical Society":MAILTO:info@talkeetnahistoricalsociety.org
END:VEVENT
BEGIN:VEVENT
DTSTART;TZID=America/Anchorage:20250126T190000
DTEND;TZID=America/Anchorage:20250126T210000
DTSTAMP:20260424T081051
CREATED:20240814T212529Z
LAST-MODIFIED:20250120T231328Z
UID:10003869-1737918000-1737925200@ktna.org
SUMMARY:International Guitar Night Concert
DESCRIPTION:The Denali Arts Council hosts International Guitar Night\, the world’s premier touring guitar festival. For each tour\, founder Brian Gore brings together a new cast of guitar luminaries for special evenings of solos\, duets\, and quartets that highlight the dexterity and diversity within the world of acoustic guitar. For this year’s lineup and to purchase tickets go to denaliartscouncil.org.  The show is Sunday\, January 26th at the Sheldon Community Arts Hangar at 7pm.
URL:https://ktna.org/events/international-guitar-night-concert-sheldon-community-arts-hangar/
LOCATION:Sheldon Community Arts Hangar
CATEGORIES:Announcements,Calendar
ORGANIZER;CN="Denali Arts Council":MAILTO:https://denaliartscouncil.org/contact-us/
END:VEVENT
BEGIN:VEVENT
DTSTART;TZID=America/Anchorage:20250125T190000
DTEND;TZID=America/Anchorage:20250125T190000
DTSTAMP:20260424T081051
CREATED:20250124T004209Z
LAST-MODIFIED:20250124T004209Z
UID:10004513-1737831600-1737831600@ktna.org
SUMMARY:Backcountry Film Festival
DESCRIPTION:The Backcountry Film Festival hosted by the Denali Arts Council is at the Sheldon Community Arts Hangar on Saturday\, January 25th beginning at 7pm.
URL:https://ktna.org/events/backcountry-film-festival-4/
LOCATION:Sheldon Community Arts Hangar
CATEGORIES:Announcements,Calendar
ORGANIZER;CN="Denali Arts Council":MAILTO:https://denaliartscouncil.org/contact-us/
END:VEVENT
END:VCALENDAR