BEGIN:VCALENDAR
VERSION:2.0
PRODID:-//KTNA 88.9 FM - ECPv6.15.20//NONSGML v1.0//EN
CALSCALE:GREGORIAN
METHOD:PUBLISH
X-WR-CALNAME:KTNA 88.9 FM
X-ORIGINAL-URL:https://ktna.org
X-WR-CALDESC:Events for KTNA 88.9 FM
REFRESH-INTERVAL;VALUE=DURATION:PT1H
X-Robots-Tag:noindex
X-PUBLISHED-TTL:PT1H
BEGIN:VTIMEZONE
TZID:America/Anchorage
BEGIN:DAYLIGHT
TZOFFSETFROM:-0900
TZOFFSETTO:-0800
TZNAME:AKDT
DTSTART:20230312T110000
END:DAYLIGHT
BEGIN:STANDARD
TZOFFSETFROM:-0800
TZOFFSETTO:-0900
TZNAME:AKST
DTSTART:20231105T100000
END:STANDARD
BEGIN:DAYLIGHT
TZOFFSETFROM:-0900
TZOFFSETTO:-0800
TZNAME:AKDT
DTSTART:20240310T110000
END:DAYLIGHT
BEGIN:STANDARD
TZOFFSETFROM:-0800
TZOFFSETTO:-0900
TZNAME:AKST
DTSTART:20241103T100000
END:STANDARD
BEGIN:DAYLIGHT
TZOFFSETFROM:-0900
TZOFFSETTO:-0800
TZNAME:AKDT
DTSTART:20250309T110000
END:DAYLIGHT
BEGIN:STANDARD
TZOFFSETFROM:-0800
TZOFFSETTO:-0900
TZNAME:AKST
DTSTART:20251102T100000
END:STANDARD
BEGIN:DAYLIGHT
TZOFFSETFROM:-0900
TZOFFSETTO:-0800
TZNAME:AKDT
DTSTART:20260308T110000
END:DAYLIGHT
BEGIN:STANDARD
TZOFFSETFROM:-0800
TZOFFSETTO:-0900
TZNAME:AKST
DTSTART:20261101T100000
END:STANDARD
END:VTIMEZONE
BEGIN:VEVENT
DTSTART;TZID=America/Anchorage:20250209T150000
DTEND;TZID=America/Anchorage:20250209T190000
DTSTAMP:20260425T161318
CREATED:20250204T205042Z
LAST-MODIFIED:20250204T205042Z
UID:10003847-1739113200-1739127600@ktna.org
SUMMARY:Fiber February Art Show - Denali Arts Council
DESCRIPTION:Denali Arts Council hosts the Fiber February Art Show on Sunday\, February 9th from 3 to 7pm at the Sheldon Community Arts Hangar. There will also be spinning demonstrations and sheep on display. Fiber February features the fascinating world of fiber art. There will be opportunities to peruse weaving\, hooking\, felting and more by signing up for Fiber Workshops\, held later this month. More information at denaliartscouncil.org.
URL:https://ktna.org/events/fiber-february-art-show-denali-arts-council/
LOCATION:Sheldon Community Arts Hangar
CATEGORIES:Announcements,Calendar
ORGANIZER;CN="Denali Arts Council":MAILTO:https://denaliartscouncil.org/contact-us/
END:VEVENT
BEGIN:VEVENT
DTSTART;TZID=America/Anchorage:20250208T183000
DTEND;TZID=America/Anchorage:20250208T210000
DTSTAMP:20260425T161318
CREATED:20250204T203734Z
LAST-MODIFIED:20250204T203734Z
UID:10003845-1739039400-1739048400@ktna.org
SUMMARY:Complexities of Love variety show - Denali Arts Council
DESCRIPTION:Denali Arts Council celebrates love in all its forms at Talkeetna’s annual variety show; Complexities of Love on Saturday\, February 8th. This is the final showing of this family friendly show. Doors open at 6:30pm and the show starts at 7pm. Tickets and information at denaliartscouncil.org.
URL:https://ktna.org/events/complexities-of-love-variety-show-denali-arts-council-2/
LOCATION:Sheldon Community Arts Hangar
CATEGORIES:Calendar
ORGANIZER;CN="Denali Arts Council":MAILTO:https://denaliartscouncil.org/contact-us/
END:VEVENT
BEGIN:VEVENT
DTSTART;TZID=America/Anchorage:20250207T183000
DTEND;TZID=America/Anchorage:20250207T210000
DTSTAMP:20260425T161318
CREATED:20250204T203504Z
LAST-MODIFIED:20250204T203504Z
UID:10004701-1738953000-1738962000@ktna.org
SUMMARY:Complexities of Love variety show - Denali Arts Council
DESCRIPTION:Denali Arts Council celebrates love in all its forms at Talkeetna’s annual variety show; Complexities of Love on Friday and Saturday\, February 7th and 8th. This is a family friendly show. Doors open at 6:30pm and the show starts at 7pm. Tickets and information at denaliartscouncil.org.
URL:https://ktna.org/events/complexities-of-love-variety-show-denali-arts-council/
LOCATION:Sheldon Community Arts Hangar
CATEGORIES:Announcements,Calendar
ORGANIZER;CN="Denali Arts Council":MAILTO:https://denaliartscouncil.org/contact-us/
END:VEVENT
BEGIN:VEVENT
DTSTART;VALUE=DATE:20250204
DTEND;VALUE=DATE:20250205
DTSTAMP:20260425T161318
CREATED:20250204T201056Z
LAST-MODIFIED:20250204T201456Z
UID:10004699-1738627200-1738713599@ktna.org
SUMMARY:Taco Tuesday canceled today
DESCRIPTION:Taco Tuesday and Jam Night at the Sheldon Community Arts Hangar is canceled today\, Tuesday\, February 4th.
URL:https://ktna.org/events/102580/
LOCATION:Sheldon Community Arts Hangar
CATEGORIES:Announcements
ORGANIZER;CN="Denali Arts Council":MAILTO:https://denaliartscouncil.org/contact-us/
END:VEVENT
BEGIN:VEVENT
DTSTART;TZID=America/Anchorage:20250201T183000
DTEND;TZID=America/Anchorage:20250201T203000
DTSTAMP:20260425T161318
CREATED:20250131T193128Z
LAST-MODIFIED:20250131T193418Z
UID:10004673-1738434600-1738441800@ktna.org
SUMMARY:Frostbitten Documentary - Denali Arts Council
DESCRIPTION:The world premier of Frostbitten\, a 45 minute documentary by David Hannah is at the Sheldon Community Arts Hangar on Saturday\, February 1st. Frostbitten follows climber Nigel Vardy as he returns to Alaska 25 years after getting stuck on Denali\, to thank the locals who saved his life. The film screening will be followed by a Q and A with David and Nigel. Doors open at 6:30pm\, the film starts at 7pm.
URL:https://ktna.org/events/frostbitten-documentary-denali-arts-council/
LOCATION:Sheldon Community Arts Hangar
CATEGORIES:Announcements,Calendar
ORGANIZER;CN="Denali Arts Council":MAILTO:https://denaliartscouncil.org/contact-us/
END:VEVENT
BEGIN:VEVENT
DTSTART;VALUE=DATE:20250201
DTEND;VALUE=DATE:20250202
DTSTAMP:20260425T161318
CREATED:20250131T201934Z
LAST-MODIFIED:20250131T203614Z
UID:10004675-1738368000-1738454399@ktna.org
SUMMARY:Talkeetna Ice Festival
DESCRIPTION:Here’s what’s coming up for the Talkeetna Ice Festival on Saturday\, February 1st: \n\nIce sculpture viewing and voting at the Talkeetna Village Park from 12 to 5pm. There will be hot beverages\, kid activities\, and an ice carving demonstration.\nA Chili Cook Off with tasting and voting is from 1 to 5pm at the Sheldon Community Arts Hangar. The winner will be announced at 5pm\, in the Village Park.\nKick Sled Races for ages 3 to 93 are from 1 to 2 pm on Main Street. Kick Sleds of various sizes will be provided or bring your own. Don’t worry if you’ve never been on a kick sled before – if you can walk you can kick sled! Call Holly at 907-355-4903 with any questions.\nA Tandem Ski Race\, put on by the Talkeetna Chamber of Commerce is from 2 to 3pm on Main Street.\nThe Dog Keg Pull Race\, put on by Denali Education Center is from 3 to 4pm on Main Street. Winners will be announced at 5 pm in the Village Park.
URL:https://ktna.org/events/talkeetna-ice-festival/
LOCATION:Talkeetna Village Park\, 99676
CATEGORIES:Announcements,Calendar
ORGANIZER;CN="Denali Arts Council":MAILTO:https://denaliartscouncil.org/contact-us/
END:VEVENT
BEGIN:VEVENT
DTSTART;TZID=America/Anchorage:20250131T190000
DTEND;TZID=America/Anchorage:20250131T190000
DTSTAMP:20260425T161318
CREATED:20250131T005314Z
LAST-MODIFIED:20250131T005314Z
UID:10004671-1738350000-1738350000@ktna.org
SUMMARY:Myles from Dublin Concert
DESCRIPTION:Denali Arts Council presents Myles from Dublin. This trio features John Walsh\, Pat Broaders\, and Jannell Canerday. This lovely concert of traditional Irish music and song will be by candle light. This beautiful event is free to the community at the Sheldon Community Arts Hangar at 7pm. Donations are welcome.
URL:https://ktna.org/events/myles-from-dublin-concert/
LOCATION:Sheldon Community Arts Hangar
CATEGORIES:Announcements,Calendar
ORGANIZER;CN="Denali Arts Council":MAILTO:https://denaliartscouncil.org/contact-us/
END:VEVENT
BEGIN:VEVENT
DTSTART;TZID=America/Anchorage:20250130T190000
DTEND;TZID=America/Anchorage:20250130T190000
DTSTAMP:20260425T161318
CREATED:20250129T020304Z
LAST-MODIFIED:20250129T020304Z
UID:10003840-1738263600-1738263600@ktna.org
SUMMARY:Talkeetna Jeopardy
DESCRIPTION:The Talkeetna Historical Society is hosting the annual Talkeetna Jeopardy game on Thursday\, January 30th\, at the Sheldon Community Arts Hangar. Doors open at 6:30 and the show starts at 7:00pm. Ticket proceeds support the museum. Team participants are still needed. Please contact the museum at 907-733-2487 or message them on social media if you are interested.
URL:https://ktna.org/events/talkeetna-jeopardy-3/
LOCATION:Sheldon Community Arts Hangar
CATEGORIES:Announcements,Calendar
ORGANIZER;CN="Talkeetna Historical Society":MAILTO:info@talkeetnahistoricalsociety.org
END:VEVENT
BEGIN:VEVENT
DTSTART;TZID=America/Anchorage:20250126T190000
DTEND;TZID=America/Anchorage:20250126T210000
DTSTAMP:20260425T161318
CREATED:20240814T212529Z
LAST-MODIFIED:20250120T231328Z
UID:10003869-1737918000-1737925200@ktna.org
SUMMARY:International Guitar Night Concert
DESCRIPTION:The Denali Arts Council hosts International Guitar Night\, the world’s premier touring guitar festival. For each tour\, founder Brian Gore brings together a new cast of guitar luminaries for special evenings of solos\, duets\, and quartets that highlight the dexterity and diversity within the world of acoustic guitar. For this year’s lineup and to purchase tickets go to denaliartscouncil.org.  The show is Sunday\, January 26th at the Sheldon Community Arts Hangar at 7pm.
URL:https://ktna.org/events/international-guitar-night-concert-sheldon-community-arts-hangar/
LOCATION:Sheldon Community Arts Hangar
CATEGORIES:Announcements,Calendar
ORGANIZER;CN="Denali Arts Council":MAILTO:https://denaliartscouncil.org/contact-us/
END:VEVENT
BEGIN:VEVENT
DTSTART;TZID=America/Anchorage:20250125T190000
DTEND;TZID=America/Anchorage:20250125T190000
DTSTAMP:20260425T161318
CREATED:20250124T004209Z
LAST-MODIFIED:20250124T004209Z
UID:10004513-1737831600-1737831600@ktna.org
SUMMARY:Backcountry Film Festival
DESCRIPTION:The Backcountry Film Festival hosted by the Denali Arts Council is at the Sheldon Community Arts Hangar on Saturday\, January 25th beginning at 7pm.
URL:https://ktna.org/events/backcountry-film-festival-4/
LOCATION:Sheldon Community Arts Hangar
CATEGORIES:Announcements,Calendar
ORGANIZER;CN="Denali Arts Council":MAILTO:https://denaliartscouncil.org/contact-us/
END:VEVENT
BEGIN:VEVENT
DTSTART;TZID=America/Anchorage:20250122T190000
DTEND;TZID=America/Anchorage:20250122T190000
DTSTAMP:20260425T161318
CREATED:20250108T014903Z
LAST-MODIFIED:20250120T230422Z
UID:10004033-1737572400-1737572400@ktna.org
SUMMARY:Shakedown Strings in concert
DESCRIPTION:Denali Arts Council is hosting the following events at the Sheldon Community Arts Hangar: \n\nShakedown Strings\, a jam band from Kansas City\, Missouri will perform a benefit concert for DAC on Wednesday\, January 22nd. Doors at 6:30pm\, music at 7pm.\n\nFor more information about upcoming events and tickets you may visit denaliartscouncil.org or call (907)733-7929.or call (907)733-7929.
URL:https://ktna.org/events/shakedown-strings-in-concert/
LOCATION:Sheldon Community Arts Hangar
CATEGORIES:Announcements,Calendar
END:VEVENT
BEGIN:VEVENT
DTSTART;TZID=America/Anchorage:20241221T190000
DTEND;TZID=America/Anchorage:20241221T190000
DTSTAMP:20260425T161318
CREATED:20241217T000423Z
LAST-MODIFIED:20241217T000423Z
UID:10003775-1734807600-1734807600@ktna.org
SUMMARY:Denali Arts Council - Holiday in Whoville Show
DESCRIPTION:Holiday in Whoville is Friday and Saturday\, December 20th and 21st at the Sheldon Community Arts Hangar. This interactive dramatic reading of the Grinch stories is family friendly. Doors open at 6:30pm and the show is at 7pm. Bring an ornament to decorate a Whoville tree\, or make one when you come.
URL:https://ktna.org/events/denali-arts-council-holiday-in-whoville-show/2024-12-21/
LOCATION:Sheldon Community Arts Hangar
CATEGORIES:Announcements,Calendar
END:VEVENT
BEGIN:VEVENT
DTSTART;TZID=America/Anchorage:20241220T150000
DTEND;TZID=America/Anchorage:20241220T170000
DTSTAMP:20260425T161318
CREATED:20241113T214427Z
LAST-MODIFIED:20241113T214427Z
UID:10003969-1734706800-1734714000@ktna.org
SUMMARY:Holiday in Whoville Reading - Denali Arts Council
DESCRIPTION:
URL:https://ktna.org/events/holiday-in-whoville-reading-denali-arts-council/
LOCATION:Sheldon Community Arts Hangar
ORGANIZER;CN="Denali Arts Council":MAILTO:https://denaliartscouncil.org/contact-us/
END:VEVENT
BEGIN:VEVENT
DTSTART;TZID=America/Anchorage:20241220T080000
DTEND;TZID=America/Anchorage:20241221T170000
DTSTAMP:20260425T161318
CREATED:20241113T214922Z
LAST-MODIFIED:20241113T215410Z
UID:10003971-1734681600-1734800400@ktna.org
SUMMARY:Holiday in Whoville readings
DESCRIPTION:Stay tuned for performance times on Friday and Saturday. Learn more at DAC’s Facebook Page.
URL:https://ktna.org/events/holiday-in-whoville-readings/
LOCATION:Sheldon Community Arts Hangar
ORGANIZER;CN="Denali Arts Council":MAILTO:https://denaliartscouncil.org/contact-us/
END:VEVENT
BEGIN:VEVENT
DTSTART;TZID=America/Anchorage:20241217T203000
DTEND;TZID=America/Anchorage:20241217T223000
DTSTAMP:20260425T161318
CREATED:20240924T193418Z
LAST-MODIFIED:20241030T224608Z
UID:10003921-1734467400-1734474600@ktna.org
SUMMARY:B Movie BINGO - Every 3rd Tuesday - DAC
DESCRIPTION:B Movie BINGO \nPlay bingo to movie clichés. Doors open at 8:30\, movie starts at 9:00pm. Every third Tuesday\, beginning October 15th. \nThis event will be for attendees aged 21 and over.
URL:https://ktna.org/events/b-movie-bingo-every-3rd-tuesday-dac-3/
LOCATION:Sheldon Community Arts Hangar
CATEGORIES:Calendar
ORGANIZER;CN="Denali Arts Council":MAILTO:https://denaliartscouncil.org/contact-us/
END:VEVENT
BEGIN:VEVENT
DTSTART;TZID=America/Anchorage:20241214T190000
DTEND;TZID=America/Anchorage:20241214T190000
DTSTAMP:20260425T161318
CREATED:20241213T012248Z
LAST-MODIFIED:20241213T211314Z
UID:10003767-1734202800-1734202800@ktna.org
SUMMARY:Denali Arts Council - Parlor in the Round
DESCRIPTION:Denali Arts Council is hosting Parlor in the Round\, the songwriter showcase with an improv twist\, on Saturday\, December 14th. This years musical guests are pop/folk singer Matt the Electrician out of Austin Texas\, Juneau based singer songwriter Marian Call\, and local Ben Heller. The show starts at 7pm at the Sheldon Community Arts Hangar.
URL:https://ktna.org/events/palor-in-the-round/
LOCATION:Sheldon Community Arts Hangar
CATEGORIES:Announcements,Calendar
END:VEVENT
BEGIN:VEVENT
DTSTART;TZID=America/Anchorage:20241214T160000
DTEND;TZID=America/Anchorage:20241214T180000
DTSTAMP:20260425T161318
CREATED:20241213T012921Z
LAST-MODIFIED:20241213T012921Z
UID:10003768-1734192000-1734199200@ktna.org
SUMMARY:Quilt Show
DESCRIPTION:The annual Denali Arts Council Quilt Show is on Saturday\, December 14th from 4 to 6pm at the Sheldon Community Arts Hangar. The show displays quilts from a variety of local artists.
URL:https://ktna.org/events/quilt-show/
LOCATION:Sheldon Community Arts Hangar
CATEGORIES:Announcements,Calendar
END:VEVENT
BEGIN:VEVENT
DTSTART;TZID=America/Anchorage:20241119T203000
DTEND;TZID=America/Anchorage:20241119T223000
DTSTAMP:20260425T161318
CREATED:20240924T193351Z
LAST-MODIFIED:20241030T224608Z
UID:10003920-1732048200-1732055400@ktna.org
SUMMARY:B Movie BINGO - Every 3rd Tuesday - DAC
DESCRIPTION:B Movie BINGO \nPlay bingo to movie clichés. Doors open at 8:30\, movie starts at 9:00pm. Every third Tuesday\, beginning October 15th. \nThis event will be for attendees aged 21 and over.
URL:https://ktna.org/events/b-movie-bingo-every-3rd-tuesday-dac-2/
LOCATION:Sheldon Community Arts Hangar
CATEGORIES:Calendar
ORGANIZER;CN="Denali Arts Council":MAILTO:https://denaliartscouncil.org/contact-us/
END:VEVENT
BEGIN:VEVENT
DTSTART;TZID=America/Anchorage:20241119T170000
DTEND;TZID=America/Anchorage:20241119T210000
DTSTAMP:20260425T161318
CREATED:20241115T004659Z
LAST-MODIFIED:20241115T004659Z
UID:10003982-1732035600-1732050000@ktna.org
SUMMARY:DAC Taco Tuesdays
DESCRIPTION:Denali Arts Council hosts Taco Tuesdays starting on Tuesday\, November 19th. This build your own taco bar will be from 5pm to 9pm each week.
URL:https://ktna.org/events/dac-taco-tuesdays/
LOCATION:Sheldon Community Arts Hangar
CATEGORIES:Calendar
END:VEVENT
BEGIN:VEVENT
DTSTART;TZID=America/Anchorage:20241115T190000
DTEND;TZID=America/Anchorage:20241115T190000
DTSTAMP:20260425T161318
CREATED:20241114T005704Z
LAST-MODIFIED:20241114T005704Z
UID:10003977-1731697200-1731697200@ktna.org
SUMMARY:DAC Music Show
DESCRIPTION:Denali Arts Council is hosting the following events at the Sheldon Community Arts Hangar: \n\nOn Friday\, November 15th\, Pete Kartsounes and the Alicia Viani Trio perform. Doors open at 6:30 and the show starts at 7pm.
URL:https://ktna.org/events/dac-music-show/
LOCATION:Sheldon Community Arts Hangar
CATEGORIES:Calendar
END:VEVENT
BEGIN:VEVENT
DTSTART;TZID=America/Anchorage:20241109T130000
DTEND;TZID=America/Anchorage:20241109T170000
DTSTAMP:20260425T161318
CREATED:20241104T214858Z
LAST-MODIFIED:20241104T215442Z
UID:10003963-1731157200-1731171600@ktna.org
SUMMARY:Fall Swap\, Sip and Jam at the Sheldon Community Arts Hangar
DESCRIPTION:Saturday\, November 9th\, there will be a Fall Swap\, Sip and Jam at the Sheldon Community Arts Hangar from 1pm to 5pm. There will be adult and kids clothing\, books and toys. Live music will be provided by Benjamin Woods and Sahara Brentor. \nClean items in good condition may be dropped off by Friday\, November 8th. Contact organizer Kristi Becker at 907-319-9852 to learn more or to schedule a drop off of items.
URL:https://ktna.org/events/fall-swap-sip-and-jam-at-the-sheldon-community-arts-hangar/
LOCATION:Sheldon Community Arts Hangar
END:VEVENT
BEGIN:VEVENT
DTSTART;TZID=America/Anchorage:20241031T190000
DTEND;TZID=America/Anchorage:20241031T210000
DTSTAMP:20260425T161318
CREATED:20240926T202133Z
LAST-MODIFIED:20241030T224609Z
UID:10003933-1730401200-1730408400@ktna.org
SUMMARY:Blackwater Railroad - Concert DAC
DESCRIPTION:Blackwater Railroad will be performing at Sheldon Community Arts Hangar\, doors open at 7\, music starts at 7:30pm. Youth are welcome with a guardian. Costumes are encouraged. Tickets available at denaliartscouncil.org.
URL:https://ktna.org/events/blackwater-railroad-concert-dac/
LOCATION:Sheldon Community Arts Hangar
CATEGORIES:Calendar
ORGANIZER;CN="Denali Arts Council":MAILTO:https://denaliartscouncil.org/contact-us/
END:VEVENT
BEGIN:VEVENT
DTSTART;TZID=America/Anchorage:20241026T183000
DTEND;TZID=America/Anchorage:20241026T210000
DTSTAMP:20260425T161318
CREATED:20240924T192258Z
LAST-MODIFIED:20241030T224609Z
UID:10003916-1729967400-1729976400@ktna.org
SUMMARY:Arctic Entries After Dark - Sheldon Community Arts Hangar
DESCRIPTION:Arctic Entries returns to the Sheldon Community Arts Hangar for a local spicy show. \nSeven local story tellers will share tales of naughtiness\, scandal\, and forbidden temptations. Whether it’s a hint of frisky fun or a brush with the law\, they will make the audience blush\, gasp\, and wonder if they should even be listening! \nThis round of Arctic Entries will be for attendees aged 21 and over. Doors open at 6:30\, stories begin at 7pm.
URL:https://ktna.org/events/arctic-entries-after-dark-sheldon-community-arts-hangar/
LOCATION:Sheldon Community Arts Hangar
CATEGORIES:Calendar
ORGANIZER;CN="Denali Arts Council":MAILTO:https://denaliartscouncil.org/contact-us/
END:VEVENT
BEGIN:VEVENT
DTSTART;TZID=America/Anchorage:20241019T180000
DTEND;TZID=America/Anchorage:20241019T210000
DTSTAMP:20260425T161318
CREATED:20240924T190434Z
LAST-MODIFIED:20241030T224610Z
UID:10003913-1729360800-1729371600@ktna.org
SUMMARY:Take Back the Town Party - Annual DAC Member Meeting & Board Election
DESCRIPTION:Denali Art’s Council’s annual membership meeting\, board elections and Take Back the Town party is on Saturday\, October 19th. This year it will be a masquerade ball\, guests are encouraged to dress up. \nThis is a great time to renew your membership or become a member. There will be finger foods/tapas; followed by the Take Back The Town Masquerade Ball at 7 pm. Everyone is welcome. \nMore information at DAC’s Facebook Page.
URL:https://ktna.org/events/take-back-the-town-dac/
LOCATION:Sheldon Community Arts Hangar
CATEGORIES:Calendar
ORGANIZER;CN="Denali Arts Council":MAILTO:https://denaliartscouncil.org/contact-us/
END:VEVENT
BEGIN:VEVENT
DTSTART;TZID=America/Anchorage:20241015T203000
DTEND;TZID=America/Anchorage:20241015T223000
DTSTAMP:20260425T161318
CREATED:20240924T193321Z
LAST-MODIFIED:20241030T224611Z
UID:10003919-1729024200-1729031400@ktna.org
SUMMARY:B Movie BINGO - Every 3rd Tuesday - DAC
DESCRIPTION:B Movie BINGO \nPlay bingo to movie clichés. Doors open at 8:30\, movie starts at 9:00pm. Every third Tuesday\, beginning October 15th. \nThis event will be for attendees aged 21 and over.
URL:https://ktna.org/events/b-movie-bingo-every-3rd-tuesday-dac/
LOCATION:Sheldon Community Arts Hangar
CATEGORIES:Calendar
ORGANIZER;CN="Denali Arts Council":MAILTO:https://denaliartscouncil.org/contact-us/
END:VEVENT
BEGIN:VEVENT
DTSTART;TZID=America/Anchorage:20241013T150000
DTEND;TZID=America/Anchorage:20241013T180000
DTSTAMP:20260425T161318
CREATED:20240924T192640Z
LAST-MODIFIED:20241030T224612Z
UID:10003918-1728831600-1728842400@ktna.org
SUMMARY:Art Workshop - DAC
DESCRIPTION:October Art Workshop Series with Irish artist\, Dervla O’Flahtery. Her work generally explores ideas of space and place in relation to myth\, the unknown and the self. She will be offering two classes in the series. Abstract Space Workshop on Sunday\, October 6th and Charcoal Making Techniques and Figure Drawing on Sunday\, October 13th. Both workshops will be at the Sheldon Community Arts Hangar from 3pm to 6pm.
URL:https://ktna.org/events/art-workshop-dac-2/
LOCATION:Sheldon Community Arts Hangar
CATEGORIES:Calendar
ORGANIZER;CN="Denali Arts Council":MAILTO:https://denaliartscouncil.org/contact-us/
END:VEVENT
BEGIN:VEVENT
DTSTART;TZID=America/Anchorage:20241012T130000
DTEND;TZID=America/Anchorage:20241012T160000
DTSTAMP:20260425T161318
CREATED:20240924T190844Z
LAST-MODIFIED:20241030T224612Z
UID:10003915-1728738000-1728748800@ktna.org
SUMMARY:Mask Making Workshop - Denali Arts Council
DESCRIPTION:This year’s Take Back the Town Party\, on October 19th\, will be a masquerade ball. \nA mask making workshop will be held on Saturday\, October 12th between 1 and 4 pm to create a mask to go with your fancy (or not so fancy) outfit you plan to wear to the masquerade ball. \nDenali Arts Council will supply blank masks and many decorative things like non-toxic glitter paints\, pearls\, rhinestones\, feathers\, decorative borders… but you may also bring your own ideas and supplies: maybe some felt\, fabric\, ribbons\, pressed leaves\, colorful paper\, beads… \nThis is a free event with free art supplies\, but Denali Arts Council welcomes your donations.
URL:https://ktna.org/events/mask-making-workshop-denali-arts-council/
LOCATION:Sheldon Community Arts Hangar
CATEGORIES:Calendar
ORGANIZER;CN="Denali Arts Council":MAILTO:https://denaliartscouncil.org/contact-us/
END:VEVENT
BEGIN:VEVENT
DTSTART;TZID=America/Anchorage:20241006T140000
DTEND;TZID=America/Anchorage:20241006T170000
DTSTAMP:20260425T161318
CREATED:20240924T192603Z
LAST-MODIFIED:20241030T224614Z
UID:10003917-1728223200-1728234000@ktna.org
SUMMARY:Art Workshop - DAC
DESCRIPTION:October Art Workshop Series with Irish artist\, Dervla O’Flahtery. Her work generally explores ideas of space and place in relation to myth\, the unknown and the self. She will be offering two classes in the series. Abstract Space Workshop on Sunday\, October 6th and Charcoal Making Techniques and Figure Drawing on Sunday\, October 13th. Both workshops will be at the Sheldon Community Arts Hangar from 2pm to 5pm.
URL:https://ktna.org/events/art-workshop-dac/
LOCATION:Sheldon Community Arts Hangar
CATEGORIES:Calendar
ORGANIZER;CN="Denali Arts Council":MAILTO:https://denaliartscouncil.org/contact-us/
END:VEVENT
BEGIN:VEVENT
DTSTART;TZID=America/Anchorage:20241005T183000
DTEND;TZID=America/Anchorage:20241005T210000
DTSTAMP:20260425T161319
CREATED:20240924T184017Z
LAST-MODIFIED:20241030T224614Z
UID:10003720-1728153000-1728162000@ktna.org
SUMMARY:An Evening of One Act Plays - Denali Drama
DESCRIPTION:Denali Arts Council is hosting the following events at the Sheldon Community Arts Hangar: \n\nDenali Drama presents An Evening of One Act Plays for two weekends; September 27th\, & 28th and October 4th & 5th. There will be four performances which include a spoof of Hamlet and a locally written play. Doors open at 6:30 and the shows start at 7pm.\n\nFor more information about the shows and to purchase tickets for shows\, you may visit denaliartscouncil.org or call (907) 733-7929.
URL:https://ktna.org/events/an-evening-of-one-act-plays-denali-drama-4/
LOCATION:Sheldon Community Arts Hangar
CATEGORIES:Calendar
END:VEVENT
BEGIN:VEVENT
DTSTART;TZID=America/Anchorage:20241004T183000
DTEND;TZID=America/Anchorage:20241004T210000
DTSTAMP:20260425T161319
CREATED:20240924T183829Z
LAST-MODIFIED:20241030T224614Z
UID:10003719-1728066600-1728075600@ktna.org
SUMMARY:An Evening of One Act Plays - Denali Drama
DESCRIPTION:Denali Arts Council is hosting the following events at the Sheldon Community Arts Hangar: \n\nDenali Drama presents An Evening of One Act Plays for two weekends; September 27th\, & 28th and October 4th & 5th. There will be four performances which include a spoof of Hamlet and a locally written play. Doors open at 6:30 and the shows start at 7pm.\n\nFor more information about the shows and to purchase tickets for shows\, you may visit denaliartscouncil.org or call (907) 733-7929.
URL:https://ktna.org/events/an-evening-of-one-act-plays-denali-drama-3/
LOCATION:Sheldon Community Arts Hangar
CATEGORIES:Calendar
END:VEVENT
END:VCALENDAR