BEGIN:VCALENDAR
VERSION:2.0
PRODID:-//KTNA 88.9 FM - ECPv6.15.20//NONSGML v1.0//EN
CALSCALE:GREGORIAN
METHOD:PUBLISH
X-WR-CALNAME:KTNA 88.9 FM
X-ORIGINAL-URL:https://ktna.org
X-WR-CALDESC:Events for KTNA 88.9 FM
REFRESH-INTERVAL;VALUE=DURATION:PT1H
X-Robots-Tag:noindex
X-PUBLISHED-TTL:PT1H
BEGIN:VTIMEZONE
TZID:America/Anchorage
BEGIN:DAYLIGHT
TZOFFSETFROM:-0900
TZOFFSETTO:-0800
TZNAME:AKDT
DTSTART:20230312T110000
END:DAYLIGHT
BEGIN:STANDARD
TZOFFSETFROM:-0800
TZOFFSETTO:-0900
TZNAME:AKST
DTSTART:20231105T100000
END:STANDARD
BEGIN:DAYLIGHT
TZOFFSETFROM:-0900
TZOFFSETTO:-0800
TZNAME:AKDT
DTSTART:20240310T110000
END:DAYLIGHT
BEGIN:STANDARD
TZOFFSETFROM:-0800
TZOFFSETTO:-0900
TZNAME:AKST
DTSTART:20241103T100000
END:STANDARD
BEGIN:DAYLIGHT
TZOFFSETFROM:-0900
TZOFFSETTO:-0800
TZNAME:AKDT
DTSTART:20250309T110000
END:DAYLIGHT
BEGIN:STANDARD
TZOFFSETFROM:-0800
TZOFFSETTO:-0900
TZNAME:AKST
DTSTART:20251102T100000
END:STANDARD
END:VTIMEZONE
BEGIN:VEVENT
DTSTART;TZID=America/Anchorage:20240823T170000
DTEND;TZID=America/Anchorage:20240823T190000
DTSTAMP:20260419T172553
CREATED:20240517T192711Z
LAST-MODIFIED:20241030T224620Z
UID:10003732-1724432400-1724439600@ktna.org
SUMMARY:Talkeetna Historical Society hosts The Salmon Run\, silent auction
DESCRIPTION:Talkeetna Historical Society hosts The Salmon Run\, an artistic fundraiser for the Talkeetna Museum. Wooden salmon cut-outs are now available for participants to purchase\, decorate\, and name. Completed salmon must be returned to the museum by August 15th. The salmon will then be entered into a silent auction at Live at Five on August 23rd. All proceeds will directly benefit the museum and preserving the history of Talkeetna. You may call 907-733-2487 for more information.
URL:https://ktna.org/events/talkeetna-historical-society-hosts-the-salmon-run-silent-auction/
LOCATION:Talkeetna Village Park\, 99676
CATEGORIES:Calendar
ORGANIZER;CN="Talkeetna Historical Society":MAILTO:info@talkeetnahistoricalsociety.org
END:VEVENT
BEGIN:VEVENT
DTSTART;TZID=America/Anchorage:20240823T050000
DTEND;TZID=America/Anchorage:20240823T190000
DTSTAMP:20260419T172553
CREATED:20240617T213235Z
LAST-MODIFIED:20241030T224620Z
UID:10003779-1724389200-1724439600@ktna.org
SUMMARY:Live @ 5 - Zen Trembles
DESCRIPTION:Music in the Park\, every Friday.
URL:https://ktna.org/events/live-5-zen-trembles/
LOCATION:Talkeetna Village Park\, 99676
CATEGORIES:Calendar
END:VEVENT
BEGIN:VEVENT
DTSTART;TZID=America/Anchorage:20240816T050000
DTEND;TZID=America/Anchorage:20240816T190000
DTSTAMP:20260419T172553
CREATED:20240617T213131Z
LAST-MODIFIED:20241030T224621Z
UID:10003648-1723784400-1723834800@ktna.org
SUMMARY:Live @ 5 - Vintage Retro
DESCRIPTION:Music in the Park\, every Friday.
URL:https://ktna.org/events/live-5-vintage-retro/
LOCATION:Talkeetna Village Park\, 99676
CATEGORIES:Calendar
END:VEVENT
BEGIN:VEVENT
DTSTART;TZID=America/Anchorage:20240809T050000
DTEND;TZID=America/Anchorage:20240809T190000
DTSTAMP:20260419T172553
CREATED:20240617T213052Z
LAST-MODIFIED:20241030T231134Z
UID:10003646-1723179600-1723230000@ktna.org
SUMMARY:Live @ 5 - Two Crows for Comfort - KTNA will be in the Park!
DESCRIPTION:Music in the Park\, every Friday.
URL:https://ktna.org/events/live-5-two-crows-for-comfort-ktna-will-be-in-the-park/
LOCATION:Talkeetna Village Park\, 99676
CATEGORIES:Calendar
END:VEVENT
BEGIN:VEVENT
DTSTART;TZID=America/Anchorage:20240802T050000
DTEND;TZID=America/Anchorage:20240802T190000
DTSTAMP:20260419T172553
CREATED:20240617T212943Z
LAST-MODIFIED:20241030T231130Z
UID:10003645-1722574800-1722625200@ktna.org
SUMMARY:Live @ 5 - Wasteland Hop (Updated!)
DESCRIPTION:Music in the Park\, every Friday.
URL:https://ktna.org/events/live-5-raised-by-elephants/
LOCATION:Talkeetna Village Park\, 99676
CATEGORIES:Calendar
END:VEVENT
BEGIN:VEVENT
DTSTART;TZID=America/Anchorage:20240726T050000
DTEND;TZID=America/Anchorage:20240726T190000
DTSTAMP:20260419T172553
CREATED:20240617T212846Z
LAST-MODIFIED:20241030T231126Z
UID:10003644-1721970000-1722020400@ktna.org
SUMMARY:Live @ 5 - Raised by Elephants
DESCRIPTION:Music in the Park\, every Friday.
URL:https://ktna.org/events/live-5-wasteland-hop/
LOCATION:Talkeetna Village Park\, 99676
CATEGORIES:Calendar
END:VEVENT
BEGIN:VEVENT
DTSTART;TZID=America/Anchorage:20240719T050000
DTEND;TZID=America/Anchorage:20240719T190000
DTSTAMP:20260419T172553
CREATED:20240617T212822Z
LAST-MODIFIED:20241030T231124Z
UID:10003643-1721365200-1721415600@ktna.org
SUMMARY:Live @ 5 - Weeping Willies
DESCRIPTION:Music in the Park\, every Friday.
URL:https://ktna.org/events/live-5-weeping-willies/
LOCATION:Talkeetna Village Park\, 99676
CATEGORIES:Calendar
END:VEVENT
BEGIN:VEVENT
DTSTART;TZID=America/Anchorage:20240712T050000
DTEND;TZID=America/Anchorage:20240712T190000
DTSTAMP:20260419T172553
CREATED:20240617T212755Z
LAST-MODIFIED:20241030T231122Z
UID:10003642-1720760400-1720810800@ktna.org
SUMMARY:Live @ 5 - Deke and the Wippersnappers
DESCRIPTION:Music in the Park\, every Friday.
URL:https://ktna.org/events/live-5-deke-and-the-wippersnappers/
LOCATION:Talkeetna Village Park\, 99676
CATEGORIES:Calendar
END:VEVENT
BEGIN:VEVENT
DTSTART;TZID=America/Anchorage:20240705T050000
DTEND;TZID=America/Anchorage:20240705T190000
DTSTAMP:20260419T172553
CREATED:20240617T212718Z
LAST-MODIFIED:20241030T231120Z
UID:10003641-1720155600-1720206000@ktna.org
SUMMARY:Live @ 5 - Denali Cooks
DESCRIPTION:Music in the Park\, every Friday.
URL:https://ktna.org/events/live-5-denali-cooks/
LOCATION:Talkeetna Village Park\, 99676
CATEGORIES:Calendar
END:VEVENT
BEGIN:VEVENT
DTSTART;TZID=America/Anchorage:20240628T050000
DTEND;TZID=America/Anchorage:20240628T190000
DTSTAMP:20260419T172554
CREATED:20240617T212625Z
LAST-MODIFIED:20241030T231115Z
UID:10003640-1719550800-1719601200@ktna.org
SUMMARY:Live @ 5 - Braided River
DESCRIPTION:Music in the Park\, every Friday.
URL:https://ktna.org/events/live-5-braided-river/
LOCATION:Talkeetna Village Park\, 99676
CATEGORIES:Calendar
END:VEVENT
BEGIN:VEVENT
DTSTART;TZID=America/Anchorage:20240621T050000
DTEND;TZID=America/Anchorage:20240621T190000
DTSTAMP:20260419T172554
CREATED:20240617T212151Z
LAST-MODIFIED:20241030T231112Z
UID:10003639-1718946000-1718996400@ktna.org
SUMMARY:Live @ 5 - Glacier Blues Band
DESCRIPTION:Music in the Park\, every Friday.
URL:https://ktna.org/events/live-5-glacier-blues-band/
LOCATION:Talkeetna Village Park\, 99676
CATEGORIES:Calendar
END:VEVENT
BEGIN:VEVENT
DTSTART;TZID=America/Anchorage:20240131T080000
DTEND;TZID=America/Anchorage:20240203T170000
DTSTAMP:20260419T172554
CREATED:20231226T205400Z
LAST-MODIFIED:20241030T224736Z
UID:10003565-1706688000-1706979600@ktna.org
SUMMARY:Talkeetna Ice Carving Competition
DESCRIPTION:The second annual Talkeetna Ice Carving Competition\, held in the downtown Village Park. Novice and expert carvers are welcome and this year there is a youth category. No experience necessary. \nSculptures begin carving on February 1st and must be completed be 12pm on Saturday\, February 3rd. \nMore information and Registration Here
URL:https://ktna.org/events/talkeetna-ice-carving-competition/
LOCATION:Talkeetna Village Park\, 99676
CATEGORIES:Calendar
END:VEVENT
END:VCALENDAR