BEGIN:VCALENDAR
VERSION:2.0
PRODID:-//KTNA 88.9 FM - ECPv6.15.20//NONSGML v1.0//EN
CALSCALE:GREGORIAN
METHOD:PUBLISH
X-WR-CALNAME:KTNA 88.9 FM
X-ORIGINAL-URL:https://ktna.org
X-WR-CALDESC:Events for KTNA 88.9 FM
REFRESH-INTERVAL;VALUE=DURATION:PT1H
X-Robots-Tag:noindex
X-PUBLISHED-TTL:PT1H
BEGIN:VTIMEZONE
TZID:America/Anchorage
BEGIN:DAYLIGHT
TZOFFSETFROM:-0900
TZOFFSETTO:-0800
TZNAME:AKDT
DTSTART:20240310T110000
END:DAYLIGHT
BEGIN:STANDARD
TZOFFSETFROM:-0800
TZOFFSETTO:-0900
TZNAME:AKST
DTSTART:20241103T100000
END:STANDARD
BEGIN:DAYLIGHT
TZOFFSETFROM:-0900
TZOFFSETTO:-0800
TZNAME:AKDT
DTSTART:20250309T110000
END:DAYLIGHT
BEGIN:STANDARD
TZOFFSETFROM:-0800
TZOFFSETTO:-0900
TZNAME:AKST
DTSTART:20251102T100000
END:STANDARD
BEGIN:DAYLIGHT
TZOFFSETFROM:-0900
TZOFFSETTO:-0800
TZNAME:AKDT
DTSTART:20260308T110000
END:DAYLIGHT
BEGIN:STANDARD
TZOFFSETFROM:-0800
TZOFFSETTO:-0900
TZNAME:AKST
DTSTART:20261101T100000
END:STANDARD
BEGIN:DAYLIGHT
TZOFFSETFROM:-0900
TZOFFSETTO:-0800
TZNAME:AKDT
DTSTART:20270314T110000
END:DAYLIGHT
BEGIN:STANDARD
TZOFFSETFROM:-0800
TZOFFSETTO:-0900
TZNAME:AKST
DTSTART:20271107T100000
END:STANDARD
END:VTIMEZONE
BEGIN:VEVENT
DTSTART;TZID=America/Anchorage:20260404T100000
DTEND;TZID=America/Anchorage:20260404T113000
DTSTAMP:20260422T221733
CREATED:20260331T234538Z
LAST-MODIFIED:20260331T234538Z
UID:10008568-1775296800-1775302200@ktna.org
SUMMARY:Easter Egg Hunt and festivities - Upper Susitna Seniors
DESCRIPTION:The Upper Susitna Seniors are hosting an Easter egg hunt with egg dying\, games and a cake walk on Saturday\, April 4th from 10-11:30am at the Senior Center. All are welcome. Kids should bring a basket or bag for the hunt.
URL:https://ktna.org/events/easter-egg-hunt-and-festivities-upper-susitna-seniors/
LOCATION:Upper Susitna Community and Senior Center
CATEGORIES:Announcements,Calendar
END:VEVENT
BEGIN:VEVENT
DTSTART;TZID=America/Anchorage:20251209T180000
DTEND;TZID=America/Anchorage:20251209T180000
DTSTAMP:20260422T221733
CREATED:20251113T233012Z
LAST-MODIFIED:20251202T202544Z
UID:10005757-1765303200-1765303200@ktna.org
SUMMARY:Backcountry & Ice Travel Safety Presentation
DESCRIPTION:The Susitna River Coalition is working in partnership with Alaska Safe Riders to host a Backcountry & Ice Travel Safety Presentation on Tuesday\, December 9th at 6pm at the Upper Susitna Senior Center. This is an educational presentation on safe travel in backcountry and ice conditions for snowmachines. The session will include information on recognizing signs of weak or unsafe ice\, recommended safety equipment\, and response steps in the event of a breakthrough. For more information\, follow the link in the announcement on ktna.org for the Facebook Event Page.
URL:https://ktna.org/events/backcountry-ice-travel-safety-presentation/
LOCATION:Upper Susitna Community and Senior Center
CATEGORIES:Announcements,Calendar
END:VEVENT
BEGIN:VEVENT
DTSTART;TZID=America/Anchorage:20251118T183000
DTEND;TZID=America/Anchorage:20251118T200000
DTSTAMP:20260422T221733
CREATED:20251105T203223Z
LAST-MODIFIED:20251110T204857Z
UID:10005730-1763490600-1763496000@ktna.org
SUMMARY:Susitna Valley Forest Management Plan Informational Meeting
DESCRIPTION:The Alaska Department of Natural Resources is hosting an informational meeting about the development of an updated Susitna Valley Forest Management Plan. The meeting is in person on Tuesday\, November 18th from 6:30-8:00 p.m. at the Upper Susitna Community and Senior Center.  The purpose of the meeting is to share information about the planning process and how members of the public can participate. An opportunity to provide input related to the proposed Susitna Valley state forest will also be provided at this meeting. Comments may also be emailed to dnr.dof.matsuplanning@alaska.gov.
URL:https://ktna.org/events/susitna-valley-forest-management-plan-informational-meeting/
LOCATION:Upper Susitna Community and Senior Center
CATEGORIES:Announcements,Calendar
END:VEVENT
BEGIN:VEVENT
DTSTART;TZID=America/Anchorage:20251108T100000
DTEND;TZID=America/Anchorage:20251108T160000
DTSTAMP:20260422T221733
CREATED:20251105T214152Z
LAST-MODIFIED:20251105T214152Z
UID:10005731-1762596000-1762617600@ktna.org
SUMMARY:Holiday Bazaar - Upper Susitna Seniors
DESCRIPTION:Upper Susitna Seniors Inc. is hosting a Holiday Bazaar at the Center on Saturday\, November 8th from 10am to 4pm. There will be local artisans selling their goods and  homemade soup for sale. The Homemakers will be selling raffle tickets for their annual quilt raffle to raise money for high school student scholarships.
URL:https://ktna.org/events/holiday-bazaar-upper-susitna-seniors/
LOCATION:Upper Susitna Community and Senior Center
CATEGORIES:Announcements,Calendar
END:VEVENT
BEGIN:VEVENT
DTSTART;TZID=America/Anchorage:20251023T180000
DTEND;TZID=America/Anchorage:20251023T180000
DTSTAMP:20260422T221733
CREATED:20250922T200541Z
LAST-MODIFIED:20251021T193941Z
UID:10005665-1761242400-1761242400@ktna.org
SUMMARY:Fuel Excise Tax Informational Open House - Mat Su Borough
DESCRIPTION:Mat-Su Borough staff are hosting a Fuel Excise Tax Informational Open House at the Upper Susitna Community and Senior Center on Thursday\, October 23rd\, at 6pm.
URL:https://ktna.org/events/fuel-excise-tax-informational-open-house-mat-su-borough/
LOCATION:Upper Susitna Community and Senior Center
CATEGORIES:Announcements,Calendar
END:VEVENT
BEGIN:VEVENT
DTSTART;TZID=America/Anchorage:20250906T170000
DTEND;TZID=America/Anchorage:20250906T200000
DTSTAMP:20260422T221733
CREATED:20250808T200801Z
LAST-MODIFIED:20250828T194709Z
UID:10005583-1757178000-1757188800@ktna.org
SUMMARY:Upper Susitna Food Pantry Empty Bowls Fundraiser
DESCRIPTION:The Upper Susitna Food Pantry Empty Bowls Fundraiser is on Saturday\, September 6th from 5-8pm at the Upper Susitna Community & Senior Center.  All proceeds directly support local families in need. More information at the Upper Susitna Food Pantry’s Facebook Event Page. You may contact Alison McCullough at (907)841-8953 with questions. \nThe event cost is $35 for adults\, this includes a hand-painted ceramic bowl\, soup & bread\, and a dessert. \nThe cost for children is $10\, includes soup & beard\, and a dessert\, this does not include a bowl. \nAdditional ceramic bowls can be added for $10.
URL:https://ktna.org/events/upper-susitna-food-pantry-empty-bowls-fundraiser/
LOCATION:Upper Susitna Community and Senior Center
CATEGORIES:Announcements,Calendar
ORGANIZER;CN="Upper Susitna Food Pantry":MAILTO:uppersusitnafoodpantry@gmail.com
END:VEVENT
BEGIN:VEVENT
DTSTART;TZID=America/Anchorage:20250816T100000
DTEND;TZID=America/Anchorage:20250816T150000
DTSTAMP:20260422T221733
CREATED:20250725T182550Z
LAST-MODIFIED:20250808T191615Z
UID:10005571-1755338400-1755356400@ktna.org
SUMMARY:CPR Class - Upper Susitna Seniors
DESCRIPTION:The Upper Susitna Seniors Inc. will be hosting a CPR class at the Upper Susitna Community and Senior Center on Saturday\, August 16th from 10am until 3pm. The class is open to all ages. For more information you may call (907) 733-6200.
URL:https://ktna.org/events/cpr-class-upper-susitna-senior-center/
LOCATION:Upper Susitna Community and Senior Center
CATEGORIES:Announcements,Calendar
ORGANIZER;CN="Upper Susitna Community and Senior Center":MAILTO:Ussi.inc@outlook.com
END:VEVENT
BEGIN:VEVENT
DTSTART;TZID=America/Anchorage:20250810T100000
DTEND;TZID=America/Anchorage:20250810T160000
DTSTAMP:20260422T221733
CREATED:20250724T195353Z
LAST-MODIFIED:20250804T193013Z
UID:10005570-1754820000-1754841600@ktna.org
SUMMARY:Gun Show - Upper Susitna Seniors
DESCRIPTION:The Upper Susitna Seniors Inc. is hosting a Gun Show on Friday\, August 8th and Saturday the 9th from 10:00am to 4:00pm at the Upper Susitna Community and Senior Center located at 16463 E. Helena Ave\, at mile 98.4 of the Parks Hwy. For more information\, contact the Senior Center at (907) 733-6200.
URL:https://ktna.org/events/107069/2025-08-10/
LOCATION:Upper Susitna Community and Senior Center
CATEGORIES:Announcements,Calendar
ORGANIZER;CN="Upper Susitna Community and Senior Center":MAILTO:Ussi.inc@outlook.com
END:VEVENT
BEGIN:VEVENT
DTSTART;TZID=America/Anchorage:20250719T110000
DTEND;TZID=America/Anchorage:20250719T150000
DTSTAMP:20260422T221733
CREATED:20250702T232042Z
LAST-MODIFIED:20250714T194334Z
UID:10005324-1752922800-1752937200@ktna.org
SUMMARY:EWaste & Miscellaneous Plastic Collection Day
DESCRIPTION:Talkeetna Recycling and Valley Recycling are hosting electronic waste and miscellaneous plastic collection at the Upper Susitna Community and Senior Center on Saturday\, July 19th\, from 11am until 3pm. \nAccepted electronic items include; radios\, TVs\, other small appliances\, cables\, wires\, and fluorescent bulbs. \n\nDo not bring large appliances\, smoke alarms\, scrap metal\, batteries\, ballasts\, medical equipment\, or anything containing liquids.\n\nAccepted plastics include; #1 plastics such as clamshells\, to-go cups and more\, plastic bottle caps\, and other miscellaneous plastics which are not normally accepted at Talkeetna Recycling. \n\nDo not bring #1 plastic bottles\, #2 plastic\, or #5 plastic. These items can be recycled normally on Tuesdays and Saturdays at Talkeetna Recycling.\n\nMore information at valleyrecyclingak.org.
URL:https://ktna.org/events/ewaste-and-miscellaneous-plastic-collection-day/
LOCATION:Upper Susitna Community and Senior Center
CATEGORIES:Announcements,Calendar
END:VEVENT
BEGIN:VEVENT
DTSTART;TZID=America/Anchorage:20250627T150000
DTEND;TZID=America/Anchorage:20250627T173000
DTSTAMP:20260422T221733
CREATED:20250625T230021Z
LAST-MODIFIED:20250625T230021Z
UID:10005319-1751036400-1751045400@ktna.org
SUMMARY:Celebration of Life for Nancy Larson
DESCRIPTION:There is a celebration of life for Nancy Larson on Friday\, June 27th at 3pm at the Upper Susitna Senior Center. There will be a potluck so bring a dish to share.
URL:https://ktna.org/events/celebration-of-life-for-nancy-larson/
LOCATION:Upper Susitna Community and Senior Center
CATEGORIES:Announcements,Calendar
END:VEVENT
BEGIN:VEVENT
DTSTART;TZID=America/Anchorage:20250614T110000
DTEND;TZID=America/Anchorage:20250614T140000
DTSTAMP:20260422T221733
CREATED:20250609T213954Z
LAST-MODIFIED:20250611T205740Z
UID:10005313-1749898800-1749909600@ktna.org
SUMMARY:Father's Day BBQ
DESCRIPTION:There is a Father’s Day Barbecue at the Upper Susitna Community and Senior Center on Saturday\, June 14 from 11:00 – 2:00 for dads and their families. Call (907) 733-6200 for more information.
URL:https://ktna.org/events/fathers-day-bbq-2/
LOCATION:Upper Susitna Community and Senior Center
CATEGORIES:Announcements,Calendar
END:VEVENT
BEGIN:VEVENT
DTSTART;TZID=America/Anchorage:20250111T130000
DTEND;TZID=America/Anchorage:20250111T150000
DTSTAMP:20260422T221733
CREATED:20250110T204603Z
LAST-MODIFIED:20250110T204603Z
UID:10004229-1736600400-1736607600@ktna.org
SUMMARY:Stop the Bleed Class
DESCRIPTION:The Willow\, Trapper Creek and Talkeetna Community Emergency Response Teams (CERT) host a Stop the Bleed Class on Saturday\, January 11th from 1 to 3pm at the Upper Susitna Community and Senior Center. This is a two-hour class\, for ages 14 and older\, that include a presentation and hands-on activities. A Stop the Bleed certificate is awarded on completion of the class. Pre-registration is required. For more information and to register call 907-355-1418 or email brendalmccain@gmail.com. Learn more about this program at stopthebleed.org.
URL:https://ktna.org/events/stop-the-bleed-class/
LOCATION:Upper Susitna Community and Senior Center
CATEGORIES:Calendar
END:VEVENT
END:VCALENDAR