BEGIN:VCALENDAR
VERSION:2.0
PRODID:-//KTNA 88.9 FM - ECPv6.15.20//NONSGML v1.0//EN
CALSCALE:GREGORIAN
METHOD:PUBLISH
X-ORIGINAL-URL:https://ktna.org
X-WR-CALDESC:Events for KTNA 88.9 FM
REFRESH-INTERVAL;VALUE=DURATION:PT1H
X-Robots-Tag:noindex
X-PUBLISHED-TTL:PT1H
BEGIN:VTIMEZONE
TZID:America/Anchorage
BEGIN:DAYLIGHT
TZOFFSETFROM:-0900
TZOFFSETTO:-0800
TZNAME:AKDT
DTSTART:20230312T110000
END:DAYLIGHT
BEGIN:STANDARD
TZOFFSETFROM:-0800
TZOFFSETTO:-0900
TZNAME:AKST
DTSTART:20231105T100000
END:STANDARD
BEGIN:DAYLIGHT
TZOFFSETFROM:-0900
TZOFFSETTO:-0800
TZNAME:AKDT
DTSTART:20240310T110000
END:DAYLIGHT
BEGIN:STANDARD
TZOFFSETFROM:-0800
TZOFFSETTO:-0900
TZNAME:AKST
DTSTART:20241103T100000
END:STANDARD
BEGIN:DAYLIGHT
TZOFFSETFROM:-0900
TZOFFSETTO:-0800
TZNAME:AKDT
DTSTART:20250309T110000
END:DAYLIGHT
BEGIN:STANDARD
TZOFFSETFROM:-0800
TZOFFSETTO:-0900
TZNAME:AKST
DTSTART:20251102T100000
END:STANDARD
BEGIN:DAYLIGHT
TZOFFSETFROM:-0900
TZOFFSETTO:-0800
TZNAME:AKDT
DTSTART:20260308T110000
END:DAYLIGHT
BEGIN:STANDARD
TZOFFSETFROM:-0800
TZOFFSETTO:-0900
TZNAME:AKST
DTSTART:20261101T100000
END:STANDARD
BEGIN:DAYLIGHT
TZOFFSETFROM:-0900
TZOFFSETTO:-0800
TZNAME:AKDT
DTSTART:20270314T110000
END:DAYLIGHT
BEGIN:STANDARD
TZOFFSETFROM:-0800
TZOFFSETTO:-0900
TZNAME:AKST
DTSTART:20271107T100000
END:STANDARD
END:VTIMEZONE
BEGIN:VEVENT
DTSTART;TZID=America/Anchorage:20260225T183000
DTEND;TZID=America/Anchorage:20260225T183000
DTSTAMP:20260421T152131
CREATED:20260223T215737Z
LAST-MODIFIED:20260223T215737Z
UID:10005921-1772044200-1772044200@ktna.org
SUMMARY:The Friends of Benka Lake - Quarterly Meeting
DESCRIPTION:The Friends of Benka Lake are holding their quarterly meeting Wednesday\, February 25th at 6:30pm at the Talkeetna VFW. All are welcome.  You may call Forrest with any questions at (907)355-3179.
URL:https://ktna.org/events/the-friends-of-benka-lake-quarterly-meeting-2/
LOCATION:VFW Post on Veterens Way in Talkeetna
CATEGORIES:Announcements,Calendar
END:VEVENT
BEGIN:VEVENT
DTSTART;TZID=America/Anchorage:20260211T183000
DTEND;TZID=America/Anchorage:20260211T183000
DTSTAMP:20260421T152131
CREATED:20260210T204414Z
LAST-MODIFIED:20260211T225923Z
UID:10005914-1770834600-1770834600@ktna.org
SUMMARY:The Friends of Benka Lake - Quarterly Meeting
DESCRIPTION:The Friends of Benka Lake have postponed their quarterly meeting due to the weather. They will announce the rescheduled date at a further time. You may call Forrest with any questions at (907)355-3179. \nThe meeting was scheduled for Wednesday\, February 11th at 6:30pm at the Talkeetna VFW. All are welcome.
URL:https://ktna.org/events/the-friends-of-benka-lake-quarterly-meeting/
LOCATION:VFW Post on Veterens Way in Talkeetna
CATEGORIES:Announcements,Calendar
END:VEVENT
BEGIN:VEVENT
DTSTART;TZID=America/Anchorage:20260208T143000
DTEND;TZID=America/Anchorage:20260208T173000
DTSTAMP:20260421T152131
CREATED:20260204T234729Z
LAST-MODIFIED:20260204T234729Z
UID:10005893-1770561000-1770571800@ktna.org
SUMMARY:Super Bowl party - Talkeetna VFW
DESCRIPTION:The VFW in Talkeetna is hosting a Super Bowl party this Sunday. Doors open at 1pm\, kick off is at 2:30pm. There will be wings and door prizes; attendees may bring something to add to the Snack Stadium.
URL:https://ktna.org/events/super-bowl-party-talkeetna-vfw/
LOCATION:VFW Post on Veterens Way in Talkeetna
CATEGORIES:Announcements,Calendar
END:VEVENT
BEGIN:VEVENT
DTSTART;TZID=America/Anchorage:20251119T180000
DTEND;TZID=America/Anchorage:20251119T180000
DTSTAMP:20260421T152131
CREATED:20251117T202609Z
LAST-MODIFIED:20251118T202203Z
UID:10004934-1763575200-1763575200@ktna.org
SUMMARY:Friends of Benka Lake Meeting
DESCRIPTION:The public is welcome to the quarterly meeting of the Friends of Benka Lake at the Talkeetna VFW post on Wednesday\, November 19th at 6pm.
URL:https://ktna.org/events/friends-of-benka-lake-meeting/
LOCATION:VFW Post on Veterens Way in Talkeetna
CATEGORIES:Announcements,Calendar
END:VEVENT
BEGIN:VEVENT
DTSTART;TZID=America/Anchorage:20251115T180000
DTEND;TZID=America/Anchorage:20251115T180000
DTSTAMP:20260421T152131
CREATED:20251114T202217Z
LAST-MODIFIED:20251114T202256Z
UID:10005758-1763229600-1763229600@ktna.org
SUMMARY:Talkeetna Bachelor Society Meeting
DESCRIPTION:There will be a meeting for all bachelors who are signed up for this year’s Talkeetna Bachelor Society Auction & Ball on Saturday\, November 15th at 6pm at the VFW. All are asked to come for a group picture and to make final plans for the weekend. Tacos provided. If you have questions you can email tkabachelors@gmail.com
URL:https://ktna.org/events/bachelor-meeting/
LOCATION:VFW Post on Veterens Way in Talkeetna
CATEGORIES:Announcements,Calendar
END:VEVENT
BEGIN:VEVENT
DTSTART;TZID=America/Anchorage:20251031T160000
DTEND;TZID=America/Anchorage:20251031T190000
DTSTAMP:20260421T152131
CREATED:20251015T183955Z
LAST-MODIFIED:20251031T234849Z
UID:10005715-1761926400-1761937200@ktna.org
SUMMARY:Trunk Or Treat - VFW
DESCRIPTION:Do you love Halloween but live in an area where you rarely get trick-or-treaters? You are invited to set up a station at the VFW on the grassy side of the parking lot for Trunk-or-Treat. Typically this involves setting up the back of a vehicle or a pop up tent\, decorating it\, and handing out treats. You may set up your station between 4 and 4:30pm on Friday\, October 31st to prepare. The VFW typically sees the most trick or treaters between 4:30 and 7pm.
URL:https://ktna.org/events/trunk-or-treat-vfw/
LOCATION:VFW Post on Veterens Way in Talkeetna
CATEGORIES:Calendar
END:VEVENT
BEGIN:VEVENT
DTSTART;TZID=America/Anchorage:20251016T190000
DTEND;TZID=America/Anchorage:20251016T190000
DTSTAMP:20260421T152131
CREATED:20251015T183553Z
LAST-MODIFIED:20251015T183553Z
UID:10005714-1760641200-1760641200@ktna.org
SUMMARY:Monthly VFW Auxiliary Meeting
DESCRIPTION:All members are invited to attend the monthly Auxiliary meeting at the Myron F Ace Ebling Post 3836 this Thursday at 7pm. Discussion will include planning for the annual Halloween Hat & Glove Giveaway\, Veterans Day\, and Scholarships.
URL:https://ktna.org/events/monthly-vfw-auxiliary-meeting/
LOCATION:VFW Post on Veterens Way in Talkeetna
CATEGORIES:Announcements,Calendar
END:VEVENT
BEGIN:VEVENT
DTSTART;TZID=America/Anchorage:20250927T180000
DTEND;TZID=America/Anchorage:20250927T180000
DTSTAMP:20260421T152131
CREATED:20250925T192331Z
LAST-MODIFIED:20250925T205416Z
UID:10005671-1758996000-1758996000@ktna.org
SUMMARY:Talkeetna Bachelor Society Round-Up and General Membership Meeting
DESCRIPTION:There is a Talkeetna Bachelor Society Round-Up and General Membership Meeting this Saturday\, September 27th at the VFW at 6pm. Single men over 21 are invited to come learn about the organization and help plan this years Talkeetna Bachelor Auction & Ball.
URL:https://ktna.org/events/talkeetna-bachelor-society-round-up-and-general-membership-meeting/
LOCATION:VFW Post on Veterens Way in Talkeetna
CATEGORIES:Announcements,Calendar
END:VEVENT
BEGIN:VEVENT
DTSTART;TZID=America/Anchorage:20250528T183000
DTEND;TZID=America/Anchorage:20250528T183000
DTSTAMP:20260421T152131
CREATED:20250509T190815Z
LAST-MODIFIED:20250522T181917Z
UID:10005168-1748457000-1748457000@ktna.org
SUMMARY:Friends of Benka Lake quarterly board meeting
DESCRIPTION:The quarterly board meeting of the Friends of Benka Lake is Wednesday\, May 28th at 6:30pm at the VFW post 3836. For any questions you may call Forrest at 907-355-3179 or check the Friends of Benka Lake Facebook page.
URL:https://ktna.org/events/friends-of-benka-lake-quarterly-board-meeting/
LOCATION:VFW Post on Veterens Way in Talkeetna
CATEGORIES:Announcements,Calendar
END:VEVENT
BEGIN:VEVENT
DTSTART;TZID=America/Anchorage:20250209T123000
DTEND;TZID=America/Anchorage:20250209T170000
DTSTAMP:20260421T152131
CREATED:20250205T203028Z
LAST-MODIFIED:20250205T234413Z
UID:10003856-1739104200-1739120400@ktna.org
SUMMARY:Super Bowl Party - VFW
DESCRIPTION:The VFW in Talkeetna is hosting a Super Bowl party on Sunday\, February 9th. Doors open at 12:30\, kickoff is at 2:30pm. All are welcome. Bring a snack to share if you can.
URL:https://ktna.org/events/super-bowl-party-vfw/
LOCATION:VFW Post on Veterens Way in Talkeetna
CATEGORIES:Announcements,Calendar
END:VEVENT
BEGIN:VEVENT
DTSTART;TZID=America/Anchorage:20241113T183000
DTEND;TZID=America/Anchorage:20241113T183000
DTSTAMP:20260421T152131
CREATED:20241114T010130Z
LAST-MODIFIED:20241114T010130Z
UID:10003979-1731522600-1731522600@ktna.org
SUMMARY:Friends of Benka Lake Board Meeting
DESCRIPTION:The Friends of Benka Lake Board is meeting today (Wednesday\, November 13th)\, at 6:30 pm at the VFW located on Veterans Way in Talkeetna.  The meeting will include legal updates.
URL:https://ktna.org/events/friends-of-benka-lake-board-meeting/
LOCATION:VFW Post on Veterens Way in Talkeetna
CATEGORIES:Calendar
END:VEVENT
BEGIN:VEVENT
DTSTART;TZID=America/Anchorage:20240329T180000
DTEND;TZID=America/Anchorage:20240329T230000
DTSTAMP:20260421T152131
CREATED:20240325T183345Z
LAST-MODIFIED:20241030T224733Z
UID:10003567-1711735200-1711753200@ktna.org
SUMMARY:Community Potluck to Celebrate Dallas Seavey-VFW
DESCRIPTION:VFW is hosting a community potluck in honor of Dallas Seavey and his 6th Iditarod win\, on Friday\, March 29th\, starting at 6:00 pm. There will be other mushers there as well. Local musicians will be playing around 9pm.
URL:https://ktna.org/events/community-potluck-to-celebrate-dallas-seavey-vfw/
LOCATION:VFW Post on Veterens Way in Talkeetna
CATEGORIES:Calendar
END:VEVENT
END:VCALENDAR