BEGIN:VCALENDAR
VERSION:2.0
PRODID:-//KTNA 88.9 FM - ECPv6.15.20//NONSGML v1.0//EN
CALSCALE:GREGORIAN
METHOD:PUBLISH
X-WR-CALNAME:KTNA 88.9 FM
X-ORIGINAL-URL:https://ktna.org
X-WR-CALDESC:Events for KTNA 88.9 FM
REFRESH-INTERVAL;VALUE=DURATION:PT1H
X-Robots-Tag:noindex
X-PUBLISHED-TTL:PT1H
BEGIN:VTIMEZONE
TZID:America/Anchorage
BEGIN:DAYLIGHT
TZOFFSETFROM:-0900
TZOFFSETTO:-0800
TZNAME:AKDT
DTSTART:20230312T110000
END:DAYLIGHT
BEGIN:STANDARD
TZOFFSETFROM:-0800
TZOFFSETTO:-0900
TZNAME:AKST
DTSTART:20231105T100000
END:STANDARD
BEGIN:DAYLIGHT
TZOFFSETFROM:-0900
TZOFFSETTO:-0800
TZNAME:AKDT
DTSTART:20240310T110000
END:DAYLIGHT
BEGIN:STANDARD
TZOFFSETFROM:-0800
TZOFFSETTO:-0900
TZNAME:AKST
DTSTART:20241103T100000
END:STANDARD
BEGIN:DAYLIGHT
TZOFFSETFROM:-0900
TZOFFSETTO:-0800
TZNAME:AKDT
DTSTART:20250309T110000
END:DAYLIGHT
BEGIN:STANDARD
TZOFFSETFROM:-0800
TZOFFSETTO:-0900
TZNAME:AKST
DTSTART:20251102T100000
END:STANDARD
BEGIN:DAYLIGHT
TZOFFSETFROM:-0900
TZOFFSETTO:-0800
TZNAME:AKDT
DTSTART:20260308T110000
END:DAYLIGHT
BEGIN:STANDARD
TZOFFSETFROM:-0800
TZOFFSETTO:-0900
TZNAME:AKST
DTSTART:20261101T100000
END:STANDARD
BEGIN:DAYLIGHT
TZOFFSETFROM:-0900
TZOFFSETTO:-0800
TZNAME:AKDT
DTSTART:20270314T110000
END:DAYLIGHT
BEGIN:STANDARD
TZOFFSETFROM:-0800
TZOFFSETTO:-0900
TZNAME:AKST
DTSTART:20271107T100000
END:STANDARD
END:VTIMEZONE
BEGIN:VEVENT
DTSTART;TZID=America/Anchorage:20260407T120000
DTEND;TZID=America/Anchorage:20260407T150000
DTSTAMP:20260424T025415
CREATED:20260403T195445Z
LAST-MODIFIED:20260406T195403Z
UID:10008637-1775563200-1775574000@ktna.org
SUMMARY:Social Security 101 Webinar - Alaska Commission on Aging
DESCRIPTION:Alaska Commission on Aging is hosting a public webinar with Social Security Administration Regional Public Affairs Specialist\, Nathan Cole\, on Social Security and Medicare at the Talkeetna Public Library on Tuesday\, April 7th\, beginning at 12pm. Following the webinar\, Sean McPhilamy\, a volunteer with the State of Alaska’s Medicare Information Office\, will provide an overview on Medicare. After the general discussion\, he will be available for one-on-one conversations as needed\, until 3pm. If you have questions you need answered\, you are welcome to email them ahead of time to doh.acoa.info@alaska.gov. The link to the webinar is available in the announcement on KTNA.org for those who would like to attend from home.
URL:https://ktna.org/events/social-security-101-webinar-alaska-commission-on-aging/
LOCATION:Talkeetna Public Library\, Talkeetna
CATEGORIES:Announcements,Calendar
END:VEVENT
BEGIN:VEVENT
DTSTART;TZID=America/Anchorage:20260325T180000
DTEND;TZID=America/Anchorage:20260325T190000
DTSTAMP:20260424T025415
CREATED:20260316T182340Z
LAST-MODIFIED:20260323T195354Z
UID:10008107-1774461600-1774465200@ktna.org
SUMMARY:Winter Speaker Series - Elodea in Alaska - Susitna River Coalition
DESCRIPTION:The Susitna River Coalition hosts a Winter Speaker Series presentation on Elodea (uh-low-dee-uh) in Alaska on Wednesday\, March 25th from 6 to 7pm via Zoom. Cody Jacobson of the Alaska Department of Natural Resources – Division of Agriculture will provide an overview of Elodea biology\, documented locations in Alaska\, and current efforts to control and contain the invasive aquatic plant. Information about potential habitat effects in river systems such as the Susitna drainage will also be discussed. Elodea is a submerged freshwater plant that has been identified in several areas of Alaska and can form dense underwater growth that alters lake and river conditions. Aquatic plant fragments can spread through boats\, floatplanes\, trailers\, and fishing gear. For additional information and the Zoom registration\, you may visit the Susitna River Coalition’s Facebook Event Page or email margaret@susitnarivercoalition.org.
URL:https://ktna.org/events/winter-speaker-series-elodea-in-alaska-susitna-river-coalition/
LOCATION:Virtual
CATEGORIES:Announcements,Calendar
END:VEVENT
BEGIN:VEVENT
DTSTART;TZID=America/Anchorage:20251218T170000
DTEND;TZID=America/Anchorage:20251218T170000
DTSTAMP:20260424T025415
CREATED:20251203T205712Z
LAST-MODIFIED:20251216T005801Z
UID:10005786-1766077200-1766077200@ktna.org
SUMMARY:Sunshine Community Health Center Board of Directors monthly meeting
DESCRIPTION:The Sunshine Community Health Center Board of Directors meet on Thursday\, December 18th at 5PM. You can join them on Zoom by following the link on KTNA’s Announcement Page. \nSCHC Board Meeting Link \nMeeting ID: 869 7905 2872\nPasscode: 004312
URL:https://ktna.org/events/sunshine-community-health-center-board-of-directors-monthly-meeting/
LOCATION:Virtual
CATEGORIES:Announcements,Calendar
END:VEVENT
BEGIN:VEVENT
DTSTART;TZID=America/Anchorage:20251209T163000
DTEND;TZID=America/Anchorage:20251209T163000
DTSTAMP:20260424T025415
CREATED:20251202T195417Z
LAST-MODIFIED:20251202T195417Z
UID:10005774-1765297800-1765297800@ktna.org
SUMMARY:Talkeetna Recycling Committee meeting
DESCRIPTION:The Talkeetna Recycling Committee will hold its next meeting on Tuesday\, December 9th\, at 4:30PM\, via Zoom. Anyone interested in recycling is welcome to attend. For information about the agenda or the Zoom link\, contact Cici at 907-355-8324.
URL:https://ktna.org/events/talkeetna-recycling-committee-meeting-5/
LOCATION:Virtual
CATEGORIES:Announcements,Calendar
END:VEVENT
BEGIN:VEVENT
DTSTART;TZID=America/Anchorage:20240312T100000
DTEND;TZID=America/Anchorage:20240312T110000
DTSTAMP:20260424T025415
CREATED:20240304T222832Z
LAST-MODIFIED:20241030T224734Z
UID:10003617-1710237600-1710241200@ktna.org
SUMMARY:NVHC Presentation on Social Determinants of Health in the Northern Valley
DESCRIPTION:The Northern Valley Health Coalition is hosting a presentation from Sunshine Community Health Center’s Director of Health Equity and Social Determinants of Health Services at 10am on March 12th via Zoom. The presentation explores what social determinants of health are\, how they affect your health outcomes\, and what Sunshine Community Health Center is doing to lead the way in addressing health disparities in the northern valley communities. You may email ssmith@sunshineclinic.org to be included in the Zoom invite or you may join via this  Zoom Link.
URL:https://ktna.org/events/nvhc-presentation-on-social-determinants-of-health-in-the-northern-valley/
LOCATION:Virtual
CATEGORIES:Calendar
ORGANIZER;CN="Northern Valley Health Coalition":MAILTO:ssmith@sunshineclinic.org
END:VEVENT
END:VCALENDAR